BEGIN:VCALENDAR
VERSION:2.0
PRODID:-//Octubre Centre de Cultura Contemporània - ECPv5.1.6//NONSGML v1.0//EN
CALSCALE:GREGORIAN
METHOD:PUBLISH
X-WR-CALNAME:Octubre Centre de Cultura Contemporània
X-ORIGINAL-URL:https://octubre.cat
X-WR-CALDESC:Events for Octubre Centre de Cultura Contemporània
BEGIN:VTIMEZONE
TZID:Europe/Andorra
BEGIN:DAYLIGHT
TZOFFSETFROM:+0100
TZOFFSETTO:+0200
TZNAME:CEST
DTSTART:20240331T010000
END:DAYLIGHT
BEGIN:STANDARD
TZOFFSETFROM:+0200
TZOFFSETTO:+0100
TZNAME:CET
DTSTART:20241027T010000
END:STANDARD
END:VTIMEZONE
BEGIN:VEVENT
DTSTART;TZID=Europe/Andorra:20240614T190000
DTEND;TZID=Europe/Andorra:20240725T190000
DTSTAMP:20260421T180634
CREATED:20240605T101026Z
LAST-MODIFIED:20250710T104218Z
UID:21412-1718391600-1721934000@octubre.cat
SUMMARY:Altre(s) Identitat(s)
DESCRIPTION:Exposició del Màster en Fotografia\, Art i Tècnica de la Universitat Politècnica de València \nObres de:\nKarol Hincapié\nMaría Galindo\nIsmael Marco-Carrillo\nJavier Arboledas\nSofía Alemán \nAltre(s) Identitat(s) celebra la frescor\, la diversitat i la pluralitat de cinc artistes emergents que revelen temàtiques al voltant de l’exploració de múltiples identitats\, proposant un diàleg entre la tradició i les problemàtiques contemporànies. \nEls artistes\, en aquesta mostra\, ofereixen una nova manera de mirar el món\, la seua\, des de prismes com l’oblit\, la infància\, l’arxiu\, la modernitat estètica\, la condició documental de la fotografia\, el dol\, la memòria\, la família\, la relació entre l’espai i el temps o l’autobiografia. Aquestes formes de veure ens revelen els interessos i les maneres d’interpretar el món d’aquesta generació de fotògrafs emergents. \nComissari: Pedro Vicente-Mullor \n \n—\nOrganitzat pel Màster en Fotografia amb la col·laboració del Departament de Dibuix i la Facultat de Belles Arts de la Universitat Politècnica de València (UPV) i de l’Octubre CCC.
URL:https://octubre.cat/activitat/altres-identitats/
LOCATION:Sala d’exposicions
CATEGORIES:Exposicions
ATTACH;FMTTYPE=image/jpeg:https://octubre.cat/www/wp-content/uploads/2024/06/logo-master.jpg
END:VEVENT
BEGIN:VEVENT
DTSTART;TZID=Europe/Andorra:20240618T190000
DTEND;TZID=Europe/Andorra:20240618T190000
DTSTAMP:20260421T180634
CREATED:20240416T104418Z
LAST-MODIFIED:20250713T084106Z
UID:21172-1718737200-1718737200@octubre.cat
SUMMARY:#EspaiCiència: «El futur de la ciència en temps de banalitats»\, amb Arcadi Navarro i Susanna Manrubia
DESCRIPTION:Conversa amb Arcadi Navarro i Susanna Manrubia moderada per la periodista Reis Juan. \nArcadi Navarro\, catedràtic de genètica (UPF) i investigador ICREA\, director  de la Fundació Pasqual Maragall\, és autor de Contra Natura. L’essència conflictiva del món viu\, finalista del premi EG 2005. \n \nSusanna Manrubia\, és investigadora del CSIC (Centre Nacional de Biotecnologia) amb un gran interès en la comunicació de la ciència. Ha coordinat una obra col·lectiva sobre pseudociències i és coautora de Gens i genealogies. Sobre la nostra herència cultural i biològica\, premi EG 2012. \n—\nL’Espai Ciència de l’Octubre CCC és una iniciativa de l’Institut d’Estudis Catalans i compta amb la col·laboració d’Acció Cultural del País Valencià\, la Unitat de Cultura Científica i Innovació / Càtedra de Divulgació de la Ciència de la UV\, la Fundació Espanyola per a la Ciència i la Tecnologia\, el Centre Superior d’Investigacions Científiques\, la llibreria Fan Set i la revista Mètode.\nAmb la col·laboració d’Edicions Bromera.
URL:https://octubre.cat/activitat/espaiciencia-el-futur-de-la-ciencia-en-temps-de-banalitats-amb-arcadi-navarro-i-susanna-manrubia/
LOCATION:Aula 1
CATEGORIES:Espai Ciència
ATTACH;FMTTYPE=image/jpeg:https://octubre.cat/www/wp-content/uploads/2024/01/30anysPEG-R.jpg
END:VEVENT
BEGIN:VEVENT
DTSTART;TZID=Europe/Andorra:20240618T190000
DTEND;TZID=Europe/Andorra:20240618T190000
DTSTAMP:20260421T180634
CREATED:20240615T152157Z
LAST-MODIFIED:20251228T175308Z
UID:21472-1718737200-1718737200@octubre.cat
SUMMARY:Amalgama presenten Que li foten a l’amor romàntic
DESCRIPTION:Maria és una xica de catorze anys que no s’ha enamorat mai\, i quan la seua amiga rep una carta d’amor\, decideix que s’ha d’enamorar. Ja se sap\, coses de la vida!  Amb l’ajuda de la seua amiga Vanessa\, coneixerà a Pere\, un jove atractiu. S’enamorarà la nostra jove protagonista?  \nAMALGAMA Teatre som un grup de joves que volem  fer teatre\, ser actrius i actors I també crear les nostres històries\, com la que hui  us presentem. \nAitana Canela Olcina\nMartí Romero Monrós\nAnna Soler Mompó\n(L)\nGabriel Casas Ortegón\nGadea Téllez Castillo\n(A)\nMaria Schwinning Botella\nAnna Gascon Peña \n 
URL:https://octubre.cat/activitat/amalgama-presenten-que-li-foten-a-lamor-romantic/
LOCATION:Sala d’actes
CATEGORIES:Teatre
ATTACH;FMTTYPE=image/jpeg:https://octubre.cat/www/wp-content/uploads/2024/06/amalgama-cap.jpg
END:VEVENT
END:VCALENDAR