BEGIN:VCALENDAR
VERSION:2.0
PRODID:-//Octubre Centre de Cultura Contemporània - ECPv5.1.6//NONSGML v1.0//EN
CALSCALE:GREGORIAN
METHOD:PUBLISH
X-WR-CALNAME:Octubre Centre de Cultura Contemporània
X-ORIGINAL-URL:https://octubre.cat
X-WR-CALDESC:Events for Octubre Centre de Cultura Contemporània
BEGIN:VTIMEZONE
TZID:Europe/Andorra
BEGIN:DAYLIGHT
TZOFFSETFROM:+0100
TZOFFSETTO:+0200
TZNAME:CEST
DTSTART:20240331T010000
END:DAYLIGHT
BEGIN:STANDARD
TZOFFSETFROM:+0200
TZOFFSETTO:+0100
TZNAME:CET
DTSTART:20241027T010000
END:STANDARD
END:VTIMEZONE
BEGIN:VEVENT
DTSTART;TZID=Europe/Andorra:20240611T190000
DTEND;TZID=Europe/Andorra:20240611T190000
DTSTAMP:20260421T180706
CREATED:20240325T114907Z
LAST-MODIFIED:20240627T151333Z
UID:21109-1718132400-1718132400@octubre.cat
SUMMARY:La Podcastera de l’Octubre: Sentit Aràcnid
DESCRIPTION:Gravació en directe d’un pòdcast amb públic a càrrec de Sentit Aràcnid. \nUn gran programa comporta una gran responsabilitat. Pòdcast friki en valencià a Radio Castelló Cadena SER. Amb Alfons Pérez i Marc Balaguer. \nEntrada lliure \n \n—\nOrganitzat per ACPV Joves
URL:https://octubre.cat/activitat/la-podcastera-de-loctubre-sentit-aracnid/
LOCATION:Sala d’actes
CATEGORIES:La Podcastera de l'Octubre CCC
ATTACH;FMTTYPE=image/jpeg:https://octubre.cat/www/wp-content/uploads/2023/04/podcastera-general.jpg
END:VEVENT
END:VCALENDAR