BEGIN:VCALENDAR
VERSION:2.0
PRODID:-//Octubre Centre de Cultura Contemporània - ECPv5.1.6//NONSGML v1.0//EN
CALSCALE:GREGORIAN
METHOD:PUBLISH
X-WR-CALNAME:Octubre Centre de Cultura Contemporània
X-ORIGINAL-URL:https://octubre.cat
X-WR-CALDESC:Events for Octubre Centre de Cultura Contemporània
BEGIN:VTIMEZONE
TZID:Europe/Andorra
BEGIN:DAYLIGHT
TZOFFSETFROM:+0100
TZOFFSETTO:+0200
TZNAME:CEST
DTSTART:20240331T010000
END:DAYLIGHT
BEGIN:STANDARD
TZOFFSETFROM:+0200
TZOFFSETTO:+0100
TZNAME:CET
DTSTART:20241027T010000
END:STANDARD
END:VTIMEZONE
BEGIN:VEVENT
DTSTART;TZID=Europe/Andorra:20240607T193000
DTEND;TZID=Europe/Andorra:20240607T193000
DTSTAMP:20260421T180527
CREATED:20240601T092012Z
LAST-MODIFIED:20240604T092741Z
UID:21380-1717788600-1717788600@octubre.cat
SUMMARY:Sona9 2024
DESCRIPTION:Organitzat per Enderrock i 3Cat (Catalunya Ràdio-iCat i TV3)\, la 24a edició del Sona9\, la plataforma de música emergent dels Països Catalans\, es posa en marxa.\nDurant el mes de juny i principis de juliol es celebraran els 10 concerts preliminars a Barcelona\, Manacor\, València\, Lleida\, Tarragona\, Salt i Andorra amb les 30 propostes seleccionades pel jurat del Sona9. \nConcert preliminar a València: divendres 7 de juny a les 19.30h. \nAmb la participació de:\n—Àgueda Segrelles (cançó d’autor\, Albaida)\n—Arjé (rap\, València)\n—Asqueiot (rock\, Castelló de la Ribera) \n  \n \n—\nOrganitzat per Enderrock i 3Cat amb la col·laboració d’Acció Cultural del País Valencià
URL:https://octubre.cat/activitat/sona9-2024/
LOCATION:Sala d’actes
CATEGORIES:Música
ATTACH;FMTTYPE=image/jpeg:https://octubre.cat/www/wp-content/uploads/2024/05/sona-9-capcalera.jpg
END:VEVENT
END:VCALENDAR