BEGIN:VCALENDAR
VERSION:2.0
PRODID:-//Octubre Centre de Cultura Contemporània - ECPv5.1.6//NONSGML v1.0//EN
CALSCALE:GREGORIAN
METHOD:PUBLISH
X-WR-CALNAME:Octubre Centre de Cultura Contemporània
X-ORIGINAL-URL:https://octubre.cat
X-WR-CALDESC:Events for Octubre Centre de Cultura Contemporània
BEGIN:VTIMEZONE
TZID:Europe/Andorra
BEGIN:DAYLIGHT
TZOFFSETFROM:+0100
TZOFFSETTO:+0200
TZNAME:CEST
DTSTART:20240331T010000
END:DAYLIGHT
BEGIN:STANDARD
TZOFFSETFROM:+0200
TZOFFSETTO:+0100
TZNAME:CET
DTSTART:20241027T010000
END:STANDARD
END:VTIMEZONE
BEGIN:VEVENT
DTSTART;TZID=Europe/Andorra:20240606T183000
DTEND;TZID=Europe/Andorra:20240606T183000
DTSTAMP:20260421T180638
CREATED:20240524T162807Z
LAST-MODIFIED:20240607T084833Z
UID:21343-1717698600-1717698600@octubre.cat
SUMMARY:Prèvia privada de la pel·lícula «Limbo»\, d’Alberto Adsuara
DESCRIPTION:Vera és una dona que viu immersa en un profund nihilisme; viu desesperançada davant d’un món que per a ella no té sentit. Per a combatre aquest estat vital manté una doble personalitat… encara que potser aquesta no és la millor manera d’afrontar el seu problema.  \nDirecció: Alberto Adsuara (2024)\nIntèrprets: Candela Vera\, Raquel Ortells\, Eva Bas\, Albert Garcés\, Miquel Aparisi \n \n—\nProjecció privada del film per a l’equip de producció.
URL:https://octubre.cat/activitat/previa-privada-de-la-pellicula-limbo-dalberto-adsuara/
LOCATION:Sala d’actes
CATEGORIES:Cinema
ATTACH;FMTTYPE=image/jpeg:https://octubre.cat/www/wp-content/uploads/2024/05/adsuara_limbo-cap.jpg
END:VEVENT
BEGIN:VEVENT
DTSTART;TZID=Europe/Andorra:20240606T190000
DTEND;TZID=Europe/Andorra:20240606T190000
DTSTAMP:20260421T180638
CREATED:20240531T080514Z
LAST-MODIFIED:20250713T075641Z
UID:21387-1717700400-1717700400@octubre.cat
SUMMARY:Dona\, paraula\, territori
DESCRIPTION:Deu diàlegs que tenen lloc a diferents indrets dels Països Catalans. Vint escriptores posen en comú la seua relació amb el territori. Com el veuen? Com el diuen? Com l’habiten? Una reflexió col·lectiva i femenina sobre el país a través de la paraula. \nA València\, Conversa entre les poetes Anna Montero i Maria Josep Escrivà moderada per la periodista Magda Simó. \n—\nOrganitzat per Twist Sonor i la llibreria Fan Set
URL:https://octubre.cat/activitat/dona-paraula-territori/
LOCATION:Llibreria Fan Set
CATEGORIES:Literatura
ATTACH;FMTTYPE=image/jpeg:https://octubre.cat/www/wp-content/uploads/2024/05/twist.jpg
END:VEVENT
END:VCALENDAR