BEGIN:VCALENDAR
VERSION:2.0
PRODID:-//Octubre Centre de Cultura Contemporània - ECPv5.1.6//NONSGML v1.0//EN
CALSCALE:GREGORIAN
METHOD:PUBLISH
X-WR-CALNAME:Octubre Centre de Cultura Contemporània
X-ORIGINAL-URL:https://octubre.cat
X-WR-CALDESC:Events for Octubre Centre de Cultura Contemporània
BEGIN:VTIMEZONE
TZID:Europe/Andorra
BEGIN:DAYLIGHT
TZOFFSETFROM:+0100
TZOFFSETTO:+0200
TZNAME:CEST
DTSTART:20240331T010000
END:DAYLIGHT
BEGIN:STANDARD
TZOFFSETFROM:+0200
TZOFFSETTO:+0100
TZNAME:CET
DTSTART:20241027T010000
END:STANDARD
END:VTIMEZONE
BEGIN:VEVENT
DTSTART;VALUE=DATE:20240601
DTEND;VALUE=DATE:20240602
DTSTAMP:20260421T180646
CREATED:20240515T083423Z
LAST-MODIFIED:20250710T162755Z
UID:21305-1717200000-1717286399@octubre.cat
SUMMARY:Estellés Club-Cabaret
DESCRIPTION:Estem a la planta baixa de l’hotel París. De dia\, allò pareix una llibreria\, i n’hi ha clients\, intel·lectuals\, gent de la cultura i tot això. Però\, a la nit: ah! a la nit. A la nit allò és un bar de la prohibició. Sí\, sí: n’hi ha Llei seca al nostre País\, no d’alcohol\, no\, sinó de cultura! Però allà podreu beure cultura\, quasibé mamar cultura. \nBenvinguts a l’Estellés Club-Cabaret! \nCom ja haureu deduït\, la funció està dedicada al Vicent Andrés Estellés\, ja sabeu: el més gran poeta contemporani en llengua catalana; el que cercant la posteritat del seu poble\, troba sense pretendre-la la seua immortalitat; el bròfec; l’escatològic; el sacerdot de la paraula… El poeta-profeta. Ja sabeu\, Estellés. \nAquesta obra és una adaptació teatral de peces clau de la poesia d’Estellés. Amb un to cabareter i amè\, manté un rigor literari escrupolós. Utilitza un llenguatge àgil i clar\, però que permet al públic reflexionar. El seu to còmic alleuja els missatges importants de la poesia d’Estellés sense perdre la seva vibració i bellesa. \n \n—\nUna producció de Circorama Teatre amb la col·laboració d’Acció Cultural del País Valencià
URL:https://octubre.cat/activitat/estelles-club-cabaret/
LOCATION:Sala d’actes
CATEGORIES:Cent d'Estellés,Teatre
ATTACH;FMTTYPE=image/jpeg:https://octubre.cat/www/wp-content/uploads/2024/05/CabaretEstelles.jpg
END:VEVENT
END:VCALENDAR