BEGIN:VCALENDAR
VERSION:2.0
PRODID:-//Octubre Centre de Cultura Contemporània - ECPv5.1.6//NONSGML v1.0//EN
CALSCALE:GREGORIAN
METHOD:PUBLISH
X-WR-CALNAME:Octubre Centre de Cultura Contemporània
X-ORIGINAL-URL:https://octubre.cat
X-WR-CALDESC:Events for Octubre Centre de Cultura Contemporània
BEGIN:VTIMEZONE
TZID:Europe/Andorra
BEGIN:DAYLIGHT
TZOFFSETFROM:+0100
TZOFFSETTO:+0200
TZNAME:CEST
DTSTART:20240331T010000
END:DAYLIGHT
BEGIN:STANDARD
TZOFFSETFROM:+0200
TZOFFSETTO:+0100
TZNAME:CET
DTSTART:20241027T010000
END:STANDARD
END:VTIMEZONE
BEGIN:VEVENT
DTSTART;TZID=Europe/Andorra:20240425T190000
DTEND;TZID=Europe/Andorra:20240531T210000
DTSTAMP:20260421T182119
CREATED:20240416T151309Z
LAST-MODIFIED:20250710T104143Z
UID:21176-1714071600-1717189200@octubre.cat
SUMMARY:Un viatge a través d’EL TEMPS
DESCRIPTION:Quaranta anys de bon periodisme \nEl 28 de maig de 1984 va veure la llum el primer exemplar del setmanari EL TEMPS. Un projecte periodístic singular\, sorgit al País Valencià\, però amb la vocació inequívoca de connectar\, comunicativament\, tots els territoris de parla catalana. Amb tres redaccions estables a València\, Barcelona i Palma\, per les seues pàgines han desfilat nombrosos periodistes i col·laboradors de prestigi. \nQuaranta anys i 2.000 números més tard\, és el moment de girar la vista enrere i comprovar el camí transitat. Aquesta exposició retrospectiva ens permet copsar com érem i com hem evolucionat. Però\, sobretot\, corrobora la màxima que va impulsar la revista: que era possible fer periodisme de qualitat en una llengua que els anys vuitanta ben pocs sabien escriure i que avui\, quatre dècades després\, encara és minoritzada. \n  \n \n—\nComissari: Víctor Maceda\nAgraïments: Salvador Martínez\, Miquel Navalón\, Sumpsi Palau i Toni Payà\nProducció de les imatges: Estudi Paco Mora\nExposició organitzada pel setmanari El Temps amb el patrocini de CaixaBank i la Generalitat de Catalunya\nAmb la col·laboració d’Acció Cultural del País Valencià
URL:https://octubre.cat/activitat/un-viatge-a-traves-del-temps-quaranta-anys-de-bon-periodisme/
LOCATION:Sala d’exposicions
CATEGORIES:Exposicions
ATTACH;FMTTYPE=image/jpeg:https://octubre.cat/www/wp-content/uploads/2024/04/Logo-El-Temps_negre.jpg
END:VEVENT
BEGIN:VEVENT
DTSTART;TZID=Europe/Andorra:20240527T183000
DTEND;TZID=Europe/Andorra:20240527T183000
DTSTAMP:20260421T182119
CREATED:20240523T102252Z
LAST-MODIFIED:20250713T085205Z
UID:21326-1716834600-1716834600@octubre.cat
SUMMARY:Presentació de l’Anuari Mèdia.cat 2023-2024: El paper del periodisme davant l’extrema dreta
DESCRIPTION:Es presenta la nova edició de l’Anuari Mèdia.cat: la publicació anual en paper de Mèdia.cat\, amb 132 pàgines de reportatges\, anàlisis\, entrevistes i infografies per entendre com els mitjans ens expliquen el món que vivim \nAmb la participació de:\n—Carme Verdoy\, coordinadora de l’Anuari\n—José Aranda\, Unió de Periodistes Valencians\n—Anna Gascón\, secratària d’Acció Cultural del País Valencià.\nPresenta i modera: Jose Ignacio Pastor\, fundador i president d’honor d’ACICOM. \n—\nOrganitzat pel Grup de Periodistes Ramon Barnils i Acicom amb la col·laboració d’ACPV.
URL:https://octubre.cat/activitat/presentacio-de-lanuari-media-cat-2023-2024-el-paper-del-periodisme-davant-lextrema-dreta/
LOCATION:Sala d’actes
CATEGORIES:Conferències i congressos
ATTACH;FMTTYPE=image/png:https://octubre.cat/www/wp-content/uploads/2024/05/pantalla-miting-768x426-1.png
END:VEVENT
BEGIN:VEVENT
DTSTART;TZID=Europe/Andorra:20240527T190000
DTEND;TZID=Europe/Andorra:20240527T190000
DTSTAMP:20260421T182119
CREATED:20240517T081556Z
LAST-MODIFIED:20250710T165646Z
UID:21312-1716836400-1716836400@octubre.cat
SUMMARY:Presentació del llibre Una ombra blanca\, de Carme Riera
DESCRIPTION:Amb l’autora acompanyada per Carme Gregori i Martí Domínguez. \nHi ha vida després de la mort? El doctor Ripper\, que atén la soprano Barbara Simpson en patir un infart\, creu que sí. Mentre els metges la consideraven clínicament morta\, la cantant ha experimentat una sensació de plenitud i benestar envoltada d’una claror serena. És això el que ens espera després? \nSi Barbara ha retornat a la vida\, com\, pel que sembla\, ha succeït en altres casos\, és perquè té pendent aclarir uns fets del passat i resoldre un misteri. Per això cal que es capbussi en la seva infantesa. Primer\, a la seva Savannah natal\, al sud dels Estats Units\, en l’època de la segregació racial\, i més endavant a Mallorca\, on arriba amb el pare\, músic de jazz\, i s’allotja en un poble a la falda de la muntanya del Teix\, sota la protecció màgica de la Deessa Blanca. \n  \n \n(Edicions 62)
URL:https://octubre.cat/activitat/presentacio-del-llibre-una-ombra-blanca-de-carme-riera/
LOCATION:Llibreria Fan Set
CATEGORIES:Literatura
ATTACH;FMTTYPE=image/jpeg:https://octubre.cat/www/wp-content/uploads/2024/05/Carme-Riera-Eli-Don-ACN-1170x780-1.jpg
END:VEVENT
END:VCALENDAR