BEGIN:VCALENDAR
VERSION:2.0
PRODID:-//Octubre Centre de Cultura Contemporània - ECPv5.1.6//NONSGML v1.0//EN
CALSCALE:GREGORIAN
METHOD:PUBLISH
X-WR-CALNAME:Octubre Centre de Cultura Contemporània
X-ORIGINAL-URL:https://octubre.cat
X-WR-CALDESC:Events for Octubre Centre de Cultura Contemporània
BEGIN:VTIMEZONE
TZID:Europe/Andorra
BEGIN:DAYLIGHT
TZOFFSETFROM:+0100
TZOFFSETTO:+0200
TZNAME:CEST
DTSTART:20240331T010000
END:DAYLIGHT
BEGIN:STANDARD
TZOFFSETFROM:+0200
TZOFFSETTO:+0100
TZNAME:CET
DTSTART:20241027T010000
END:STANDARD
END:VTIMEZONE
BEGIN:VEVENT
DTSTART;TZID=Europe/Andorra:20240425T190000
DTEND;TZID=Europe/Andorra:20240531T210000
DTSTAMP:20260421T193554
CREATED:20240416T151309Z
LAST-MODIFIED:20250710T104143Z
UID:21176-1714071600-1717189200@octubre.cat
SUMMARY:Un viatge a través d’EL TEMPS
DESCRIPTION:Quaranta anys de bon periodisme \nEl 28 de maig de 1984 va veure la llum el primer exemplar del setmanari EL TEMPS. Un projecte periodístic singular\, sorgit al País Valencià\, però amb la vocació inequívoca de connectar\, comunicativament\, tots els territoris de parla catalana. Amb tres redaccions estables a València\, Barcelona i Palma\, per les seues pàgines han desfilat nombrosos periodistes i col·laboradors de prestigi. \nQuaranta anys i 2.000 números més tard\, és el moment de girar la vista enrere i comprovar el camí transitat. Aquesta exposició retrospectiva ens permet copsar com érem i com hem evolucionat. Però\, sobretot\, corrobora la màxima que va impulsar la revista: que era possible fer periodisme de qualitat en una llengua que els anys vuitanta ben pocs sabien escriure i que avui\, quatre dècades després\, encara és minoritzada. \n  \n \n—\nComissari: Víctor Maceda\nAgraïments: Salvador Martínez\, Miquel Navalón\, Sumpsi Palau i Toni Payà\nProducció de les imatges: Estudi Paco Mora\nExposició organitzada pel setmanari El Temps amb el patrocini de CaixaBank i la Generalitat de Catalunya\nAmb la col·laboració d’Acció Cultural del País Valencià
URL:https://octubre.cat/activitat/un-viatge-a-traves-del-temps-quaranta-anys-de-bon-periodisme/
LOCATION:Sala d’exposicions
CATEGORIES:Exposicions
ATTACH;FMTTYPE=image/jpeg:https://octubre.cat/www/wp-content/uploads/2024/04/Logo-El-Temps_negre.jpg
END:VEVENT
BEGIN:VEVENT
DTSTART;TZID=Europe/Andorra:20240524T190000
DTEND;TZID=Europe/Andorra:20240524T190000
DTSTAMP:20260421T193554
CREATED:20240508T153306Z
LAST-MODIFIED:20240508T153427Z
UID:21276-1716577200-1716577200@octubre.cat
SUMMARY:Dialektik: «Estrats del temps» amb Felisha Ledesma + cosmic lithium presenta Empty Loops
DESCRIPTION:Felisha Ledesma és una artista sonora\, compositora\, curadora i desenvolupadora d’instruments de maquinari i programari resident a Malmö (Suècia). L’obra de Ledesma està impregnada d’una paleta especialment càlida i orgànica\, on cada moment es converteix lentament en una experiència sonora íntima. Les inspiracions quotidianes es destil·len en records sonors que conviden a una escolta meditativa i profunda. \nLes seues composicions\, editades a Ecstatic\, enmossed x physic liberation\, Doyenne o Paralaxe Editions\, poden incloure’s en el conjunt conegut com a diaristic ambient: una categoria de límits difusos\, les característiques notòries dels quals són la presència d’enregistraments de camp i sons ASMR —o exploracions de l’Auto-Tune- i una atmosfera íntima\, profunda o fràgil\, reflex de les patologies i els estats anímics produïts per la hiperacceleració de l’etapa actual del capitalisme tardà\, alhora que funciona com un antídot contra la mutació digital\, proposant al seu lloc un retorn a la valoració de l’ambigüitat\, estranya a la freda lògica del codi i a la reivindicació de l’escolta com a instrument de coneixement. Felisha Ledesma és una akroatiker\, neologisme derivat d’akroasi\, un terme utilitzat a la pedagogia de l’antiga Grècia per a identificar l’aprenentatge a través de l’escolta\, en oposició a la visió (aisthesis). \nAbans de les seues actuacions a INA GRM (París) o Cafe Oto (Londres)\, Ledesma realitzarà a l’Octubre CCC un directe amb la darrera actualització de Tela\, programari desenvolupat per Fors\, el projecte de tecnologia musical que va cofundar juntament amb Ess Mattisson. \ncosmic lithium\, compositor i musicòleg madrileny\, presenta\, per encàrrec de Dialektik\, l’obra Empty Loops. Si Felisha Ledesma utilitza\, sobre un fons drone\, els enregistraments de camp com a material d’obertura de l’escolta\, cosmic lithium fa allò anàleg a través del glitch. cosmic lithium treballa amb loops\, molts loops\, que fragmenta i esquartera per construir collages\, impedint la iteració d’interpretacions idèntiques\, un mètode que assenyala la unicitat dels esdeveniments històrics i la importància de la música en directe\, experimentada a cada instant\, observant (escoltant) el més petit i detallat. Però  cosmic lithium no només il·lustra a través del collage el procés que connecta el pessimisme (destrucció\, fragmentació\, desnaturalització) amb l’esperança (reconstrucció\, renaturalització\, coherència)\, sinó que se serveix dels paràmetres clàssics de la melodia i l’harmonia: riquesa i contrast harmònic\, elaboració de plans tonals més o menys complexos\, integritat i desenvolupament motívic\, direccionalitat macroformal\, tot per sobre de l’avui habitual èmfasi en el timbre per sobre de qualsevol altre paràmetre compositiu. \n  \n \n—\nEl cicle “Estrats del temps” està organitzat per Dialektik amb la col·laboració del festival Volumens i de l’Octubre CCC.
URL:https://octubre.cat/activitat/dialektik-estrats-del-temps-amb-felisha-ledesma-cosmic-lithium-presenta-empty-loops/
LOCATION:Sala d’actes
CATEGORIES:Dialektik
ATTACH;FMTTYPE=image/jpeg:https://octubre.cat/www/wp-content/uploads/2024/05/Felisha-Ledesma-.jpg
END:VEVENT
BEGIN:VEVENT
DTSTART;TZID=Europe/Andorra:20240524T190000
DTEND;TZID=Europe/Andorra:20240524T190000
DTSTAMP:20260421T193554
CREATED:20240509T090932Z
LAST-MODIFIED:20250710T165614Z
UID:21285-1716577200-1716577200@octubre.cat
SUMMARY:Presentació del llibre Regala’m un cos\, de  Dinos Khristianópulos
DESCRIPTION:Amb el traductor Lucas Gonzalo Valls i el poeta Josep Micó i Conejero. \nPremi Nacional de Literatura el 2011\, Dinos Khristianópulos (Tessalònica\, 1931-2020) és dels pocs poetes grecs que va prendre’s la llibertat de rebutjar-lo. Irreverent i contestatari\, la crítica el situa\, juntament amb Kostas Taktsís\, com una de les veus que inaugura la literatura queer de la Grècia moderna\, obrint camins inexplorats per a la poesia homoeròtica que coneixem d’arrel kavafiana. Subvertint la tradició literària europea de la flânerie baudelairiana\, ens mena pels barris i l’extraradi de la seva ciutat\, on testimonia identitats\, amors i violències d’una Tessalònica mundana que s’escola entre progrés i gentrificació\, però que troba recer als seus versos. En la perillosa i seductora vastitud de parcs i descampats reverencia l’erotisme de les botes dels soldats\, es rendeix a la desbordant masculinitat dels cossos que la nit regala i torna a casa amb les despulles d’una soledat que la seva passió no ha pogut guarir. \n  \n \n(Salze)
URL:https://octubre.cat/activitat/presentacio-del-llibre-regalam-un-cos-de-dinos-khristianopulos/
LOCATION:Llibreria Fan Set
CATEGORIES:Literatura
ATTACH;FMTTYPE=image/jpeg:https://octubre.cat/www/wp-content/uploads/2024/05/Dinos-Khristianopuylos.jpg
END:VEVENT
END:VCALENDAR