BEGIN:VCALENDAR
VERSION:2.0
PRODID:-//Octubre Centre de Cultura Contemporània - ECPv5.1.6//NONSGML v1.0//EN
CALSCALE:GREGORIAN
METHOD:PUBLISH
X-WR-CALNAME:Octubre Centre de Cultura Contemporània
X-ORIGINAL-URL:https://octubre.cat
X-WR-CALDESC:Events for Octubre Centre de Cultura Contemporània
BEGIN:VTIMEZONE
TZID:Europe/Andorra
BEGIN:DAYLIGHT
TZOFFSETFROM:+0100
TZOFFSETTO:+0200
TZNAME:CEST
DTSTART:20240331T010000
END:DAYLIGHT
BEGIN:STANDARD
TZOFFSETFROM:+0200
TZOFFSETTO:+0100
TZNAME:CET
DTSTART:20241027T010000
END:STANDARD
END:VTIMEZONE
BEGIN:VEVENT
DTSTART;TZID=Europe/Andorra:20240425T190000
DTEND;TZID=Europe/Andorra:20240531T210000
DTSTAMP:20260421T193555
CREATED:20240416T151309Z
LAST-MODIFIED:20250710T104143Z
UID:21176-1714071600-1717189200@octubre.cat
SUMMARY:Un viatge a través d’EL TEMPS
DESCRIPTION:Quaranta anys de bon periodisme \nEl 28 de maig de 1984 va veure la llum el primer exemplar del setmanari EL TEMPS. Un projecte periodístic singular\, sorgit al País Valencià\, però amb la vocació inequívoca de connectar\, comunicativament\, tots els territoris de parla catalana. Amb tres redaccions estables a València\, Barcelona i Palma\, per les seues pàgines han desfilat nombrosos periodistes i col·laboradors de prestigi. \nQuaranta anys i 2.000 números més tard\, és el moment de girar la vista enrere i comprovar el camí transitat. Aquesta exposició retrospectiva ens permet copsar com érem i com hem evolucionat. Però\, sobretot\, corrobora la màxima que va impulsar la revista: que era possible fer periodisme de qualitat en una llengua que els anys vuitanta ben pocs sabien escriure i que avui\, quatre dècades després\, encara és minoritzada. \n  \n \n—\nComissari: Víctor Maceda\nAgraïments: Salvador Martínez\, Miquel Navalón\, Sumpsi Palau i Toni Payà\nProducció de les imatges: Estudi Paco Mora\nExposició organitzada pel setmanari El Temps amb el patrocini de CaixaBank i la Generalitat de Catalunya\nAmb la col·laboració d’Acció Cultural del País Valencià
URL:https://octubre.cat/activitat/un-viatge-a-traves-del-temps-quaranta-anys-de-bon-periodisme/
LOCATION:Sala d’exposicions
CATEGORIES:Exposicions
ATTACH;FMTTYPE=image/jpeg:https://octubre.cat/www/wp-content/uploads/2024/04/Logo-El-Temps_negre.jpg
END:VEVENT
BEGIN:VEVENT
DTSTART;TZID=Europe/Andorra:20240510T160000
DTEND;TZID=Europe/Andorra:20240510T160000
DTSTAMP:20260421T193555
CREATED:20240426T091852Z
LAST-MODIFIED:20240426T091852Z
UID:21240-1715356800-1715356800@octubre.cat
SUMMARY:DocsValència 2024: Vika!\, d’Agnieszka Zwiefka
DESCRIPTION:Vika té 84 anys i és una estrella de les discoteques de Varsòvia. Carismàtica i divertida DJ\, sembla imparable i no deixa de repetir que l’edat és només un nombre. A mesura que la seua salut es comença a deteriorar\, ha d’acceptar el pas del temps i trobar un propòsit. Amb parts musicals escenificades\, es mostra el retrat agredolç d’una dona que s’ha d’enfrontar a l’envelliment\, però que celebra la vida fins al final. \nDirecció: Agnieszka Zwiefka\nProducció: Katarzyna Ślesicka\, Anna Stylińska\, My Way Studio\nFotografia: Monika Kotecka\nEdició: Katarzyna Orzechowska\, Michał Poddębniak\nDisseny sonor: Katarzyna Szczerba\, Anna Rok\nPaís: Alemanya\, Finlàndia\, Polònia\nAny: 2023\nDurada: 74 min\nIdioma: anglès\, polonès \n  \n \n—\nLa vuitena edició del Festival DocsValència / Espai de No Ficció se celebra a València del 3 a l’11 de maig de 2024. Les sessions tenen lloc als Cines Lys\, el Col·legi Major Rector Peset\, La Mutant Espai d’Arts Vives\, Fnac Sant Agustí\, LABA València i l’Octubre CCC.
URL:https://octubre.cat/activitat/docsvalencia-2024-vika-dagnieszka-zwiefka/
LOCATION:Sala d’actes
CATEGORIES:DocsValència 2024
ATTACH;FMTTYPE=image/webp:https://octubre.cat/www/wp-content/uploads/2024/04/VLC24_VIKA_1_web.webp
END:VEVENT
BEGIN:VEVENT
DTSTART;TZID=Europe/Andorra:20240510T180000
DTEND;TZID=Europe/Andorra:20240510T180000
DTSTAMP:20260421T193556
CREATED:20240426T093508Z
LAST-MODIFIED:20240426T093508Z
UID:21245-1715364000-1715364000@octubre.cat
SUMMARY:DocsValència 2024: Bastarda\, d’Emilio Egea
DESCRIPTION:Patricia\, una humil dona rural de l’altiplà de Granada\, és reconeguda als 80 anys com a filla legitima d’una família adinerada. Al casalot familiar que hereta\, troben una col·lecció de pel·lícules de 8mm dels viatges que el seu pare biològic va fer per Europa i Àfrica als anys 50. Amb el visionat d’aquestes cintes\, Patricia s’enfronta a la vida que podia haver tingut\, relatant alhora el que la que en realitat li va tocar viure. 13 dones més de la zona fan coral el seu relat. \nDirecció\, producció i edició: Emilio Egea\nFotografia: Fulgencio Martínez\nDisseny sonor: Isaac Zafra\nPaís: Espanya\nAny: 2024\nDurada: 98 min\nIdioma: castellà \n  \n \n—\nLa vuitena edició del Festival DocsValència / Espai de No Ficció se celebra a València del 3 a l’11 de maig de 2024. Les sessions tenen lloc als Cines Lys\, el Col·legi Major Rector Peset\, La Mutant Espai d’Arts Vives\, Fnac Sant Agustí\, LABA València i l’Octubre CCC.
URL:https://octubre.cat/activitat/docsvalencia-2024-bastarda-demilio-egea/
LOCATION:Sala d’actes
CATEGORIES:DocsValència 2024
ATTACH;FMTTYPE=image/webp:https://octubre.cat/www/wp-content/uploads/2024/04/VLC24_BASTARDA_1_web.webp
END:VEVENT
BEGIN:VEVENT
DTSTART;TZID=Europe/Andorra:20240510T200000
DTEND;TZID=Europe/Andorra:20240510T200000
DTSTAMP:20260421T193556
CREATED:20240426T094040Z
LAST-MODIFIED:20240426T094040Z
UID:21248-1715371200-1715371200@octubre.cat
SUMMARY:DocsValència 2024: Le chant de la nuit\, de Félix Lamarche
DESCRIPTION:Penetrant per les esquerdes dels porticons mig tancats\, una llum d’estiu frega amb les ombres clapejades de l’apartament de Noëlla\, que es prepara per rebre ajuda mèdica per a morir. Densos i difusos\, els darrers dies d’una vida revelen la trama que entrellaça aquests gestos\, aparentment\, repetits fins a l’infinit a un caràcter efímer. \nDirecció\, producció\, i fotografia: Félix Lamarche\nEdició: René Roberge\nDisseny sonor: Félix Lamarche\, Bruno Bélanger\nPaís: Canadà\nAny: 2022\nDurada: 44 min\nIdioma: francès \n  \n \n—\nLa vuitena edició del Festival DocsValència / Espai de No Ficció se celebra a València del 3 a l’11 de maig de 2024. Les sessions tenen lloc als Cines Lys\, el Col·legi Major Rector Peset\, La Mutant Espai d’Arts Vives\, Fnac Sant Agustí\, LABA València i l’Octubre CCC.
URL:https://octubre.cat/activitat/docsvalencia-2024-le-chant-de-la-nuit-de-felix-lamarche/
LOCATION:Sala d’actes
CATEGORIES:DocsValència 2024
ATTACH;FMTTYPE=image/webp:https://octubre.cat/www/wp-content/uploads/2024/04/VLC24_LACANCIONDELANOCHE_2_web.webp
END:VEVENT
END:VCALENDAR