BEGIN:VCALENDAR
VERSION:2.0
PRODID:-//Octubre Centre de Cultura Contemporània - ECPv5.1.6//NONSGML v1.0//EN
CALSCALE:GREGORIAN
METHOD:PUBLISH
X-WR-CALNAME:Octubre Centre de Cultura Contemporània
X-ORIGINAL-URL:https://octubre.cat
X-WR-CALDESC:Events for Octubre Centre de Cultura Contemporània
BEGIN:VTIMEZONE
TZID:Europe/Andorra
BEGIN:DAYLIGHT
TZOFFSETFROM:+0100
TZOFFSETTO:+0200
TZNAME:CEST
DTSTART:20240331T010000
END:DAYLIGHT
BEGIN:STANDARD
TZOFFSETFROM:+0200
TZOFFSETTO:+0100
TZNAME:CET
DTSTART:20241027T010000
END:STANDARD
END:VTIMEZONE
BEGIN:VEVENT
DTSTART;TZID=Europe/Andorra:20240425T190000
DTEND;TZID=Europe/Andorra:20240531T210000
DTSTAMP:20260421T193516
CREATED:20240416T151309Z
LAST-MODIFIED:20250710T104143Z
UID:21176-1714071600-1717189200@octubre.cat
SUMMARY:Un viatge a través d’EL TEMPS
DESCRIPTION:Quaranta anys de bon periodisme \nEl 28 de maig de 1984 va veure la llum el primer exemplar del setmanari EL TEMPS. Un projecte periodístic singular\, sorgit al País Valencià\, però amb la vocació inequívoca de connectar\, comunicativament\, tots els territoris de parla catalana. Amb tres redaccions estables a València\, Barcelona i Palma\, per les seues pàgines han desfilat nombrosos periodistes i col·laboradors de prestigi. \nQuaranta anys i 2.000 números més tard\, és el moment de girar la vista enrere i comprovar el camí transitat. Aquesta exposició retrospectiva ens permet copsar com érem i com hem evolucionat. Però\, sobretot\, corrobora la màxima que va impulsar la revista: que era possible fer periodisme de qualitat en una llengua que els anys vuitanta ben pocs sabien escriure i que avui\, quatre dècades després\, encara és minoritzada. \n  \n \n—\nComissari: Víctor Maceda\nAgraïments: Salvador Martínez\, Miquel Navalón\, Sumpsi Palau i Toni Payà\nProducció de les imatges: Estudi Paco Mora\nExposició organitzada pel setmanari El Temps amb el patrocini de CaixaBank i la Generalitat de Catalunya\nAmb la col·laboració d’Acció Cultural del País Valencià
URL:https://octubre.cat/activitat/un-viatge-a-traves-del-temps-quaranta-anys-de-bon-periodisme/
LOCATION:Sala d’exposicions
CATEGORIES:Exposicions
ATTACH;FMTTYPE=image/jpeg:https://octubre.cat/www/wp-content/uploads/2024/04/Logo-El-Temps_negre.jpg
END:VEVENT
BEGIN:VEVENT
DTSTART;TZID=Europe/Andorra:20240506T180000
DTEND;TZID=Europe/Andorra:20240506T180000
DTSTAMP:20260421T193516
CREATED:20240425T105818Z
LAST-MODIFIED:20250713T082752Z
UID:21214-1715018400-1715018400@octubre.cat
SUMMARY:DocsValència 2024: València 22. City of Design\, d’Andreu Signes Pérez
DESCRIPTION:València 2022. City of Design naix com una peça audiovisual que recull una sèrie de testimonis adherits a l’any en què València va celebrar a escala local\, nacional i internacional el seu pes històric i cultural vinculat al disseny\, així com el fet de ser pol d’atracció del talent creatiu. \nDirecció\, producció\, fotografia i edició: Andreu Signes Pérez\nDisseny sonor: Toni Rossi Baixauli (Nousons)\nPaís: Espanya\nAny: 2023\nDurada: 60 min\nIdioma: castellà\, anglès\, valencià \n  \n \n—\nLa vuitena edició del Festival DocsValència / Espai de No Ficció se celebra a València del 3 a l’11 de maig de 2024. Les sessions tenen lloc als Cines Lys\, el Col·legi Major Rector Peset\, La Mutant Espai d’Arts Vives\, Fnac Sant Agustí\, LABA València i l’Octubre CCC.
URL:https://octubre.cat/activitat/docsvalencia-2024-valencia-22-city-of-design-dandreu-signes-perez/
LOCATION:Sala d’actes
CATEGORIES:DocsValència 2024
ATTACH;FMTTYPE=image/webp:https://octubre.cat/www/wp-content/uploads/2024/04/valencia-design.webp
END:VEVENT
BEGIN:VEVENT
DTSTART;TZID=Europe/Andorra:20240506T200000
DTEND;TZID=Europe/Andorra:20240506T200000
DTSTAMP:20260421T193517
CREATED:20240425T110704Z
LAST-MODIFIED:20250713T082820Z
UID:21218-1715025600-1715025600@octubre.cat
SUMMARY:DocsValència 2024: Les mans del Genovés\, de Josep Pitarch
DESCRIPTION:Les mans del Genovés retrata la figura de Paco Cabanes\, un esportista\, diuen que el més gran del segle XX\, capaç de posar en valor un dels nostres tresors més importants: la pilota valenciana. Les seues mans dures\, deformades\, implacables i màgiques\, representen la nostra identitat com pocs altres símbols ho podrien fer. Aquest documental revisa la trajectòria personal i professional del Genovés a partir dels testimonis de familiars\, amics i diferents veus de la societat valenciana. \nDirecció: Josep Pitarch\nProducció: Francisco Javier Abuja\nFotografia: Joan Cadenas\nEdició: Arnau Ruiz\nDiseny sonor: Josep Pitarch\, Arnau Ruiz\nPaís: Espanya\nAny: 2023\nDurada: 64 min\nIdioma: valencià \n  \n \n—\nLa vuitena edició del Festival DocsValència / Espai de No Ficció se celebra a València del 3 a l’11 de maig de 2024. Les sessions tenen lloc als Cines Lys\, el Col·legi Major Rector Peset\, La Mutant Espai d’Arts Vives\, Fnac Sant Agustí\, LABA València i l’Octubre CCC.
URL:https://octubre.cat/activitat/docsvalencia-2024-les-mans-del-genoves-de-josep-pitarch/
LOCATION:Sala d’actes
CATEGORIES:DocsValència 2024
ATTACH;FMTTYPE=image/webp:https://octubre.cat/www/wp-content/uploads/2024/04/VLC24_LESMANSDELGENOVES_2_web.webp
END:VEVENT
END:VCALENDAR