BEGIN:VCALENDAR
VERSION:2.0
PRODID:-//Octubre Centre de Cultura Contemporània - ECPv5.1.6//NONSGML v1.0//EN
CALSCALE:GREGORIAN
METHOD:PUBLISH
X-WR-CALNAME:Octubre Centre de Cultura Contemporània
X-ORIGINAL-URL:https://octubre.cat
X-WR-CALDESC:Events for Octubre Centre de Cultura Contemporània
BEGIN:VTIMEZONE
TZID:Europe/Andorra
BEGIN:DAYLIGHT
TZOFFSETFROM:+0100
TZOFFSETTO:+0200
TZNAME:CEST
DTSTART:20240331T010000
END:DAYLIGHT
BEGIN:STANDARD
TZOFFSETFROM:+0200
TZOFFSETTO:+0100
TZNAME:CET
DTSTART:20241027T010000
END:STANDARD
END:VTIMEZONE
BEGIN:VEVENT
DTSTART;TZID=Europe/Andorra:20240411T190000
DTEND;TZID=Europe/Andorra:20240430T190000
DTSTAMP:20260421T210429
CREATED:20240327T105545Z
LAST-MODIFIED:20250710T104057Z
UID:21118-1712862000-1714503600@octubre.cat
SUMMARY:«Montera en mano entró en...»
DESCRIPTION:ACADÈMIA ESTÚPIDA DE LES ARTS I LES LLETRES (sector del País Valencià)\nIonescu: Si no es comprèn la utilitat del que és inútil i la inutilitat del que és útil\, no es pot comprendre l’art. \nLa humanitat és una imbecil·litat en si mateixa. Açò és un axioma\, i com a tal irrefutable. La paraula idiota (ve del grec)\, segons sembla\, defineix la persona que no s’ocupava dels afers públics\, sinó només dels interessos privats. És a dir\, el que actualment es coneix com a egoista\, usurer\, capitalista i depredador social. El gènere humà\, en general\, és un neci diletant\, és un aficionat de l’estupidesa\, per això els acadèmics i acadèmiques d’aquesta il·lustre entitat\, ens esforcem en millorar i perfeccionar l’estultícia\, atesa la impossibilitat de derrotar-la. Si hem de ser imbècils\, siguem-ho amb totes les conseqüències.\nDintre d’eixe món de l’estultícia d’aficionats el gremi més idiota és\, sens dubte\, el que conforma la classe política. I ací\, al País Valencià\, en aquests moments tenim una garba de cretins com mai n’havíem patit. És per això que\, els acadèmics i acadèmiques d’aquesta entitat\, volem fer una acció de denúncia a través de la creació artística; amb una exposició que expresse el nostre sentir creatiu i de rebuig envers la política cultural actual al nostre territori. \nObres de:\nEn Vicente Gascón\nNa Llúcia Peiró\nEn Bertomeu Ferrando\nEn Francesc González\nNa Marta R. Sobrecueva\nEn Josep Sou\nEn Fernando Costa\nN’Elia Torrecilla\nNa Montserrat Palacios\nEn Pepe Romero\nEn Llorenç Barber\nEn José Santamaría «Llapis»\nEn Carles Cano\nEn Manel Costa \n  \n \n—\nInstal·lació organitzada per l’Acadèmia Estúpida de les Arts i les Lletres (AEAL) amb la col·laboració de l’Octubre CCC.
URL:https://octubre.cat/activitat/montera-en-mano-entro-en/
LOCATION:Hall
CATEGORIES:Instal·lacions
ATTACH;FMTTYPE=image/jpeg:https://octubre.cat/www/wp-content/uploads/2024/03/montera-retall.jpg
END:VEVENT
BEGIN:VEVENT
DTSTART;TZID=Europe/Andorra:20240419T190000
DTEND;TZID=Europe/Andorra:20240419T190000
DTSTAMP:20260421T210429
CREATED:20240410T095756Z
LAST-MODIFIED:20250710T165150Z
UID:21135-1713553200-1713553200@octubre.cat
SUMMARY:Presentació del llibre Filòsofes de la contemporaneïtat\, de Núria Sara Miras Boronat
DESCRIPTION:Amb l’autora acompanyada per Sílvia Gómez Soler\, professora de filosofia. \nEl pensament no té gènere\, però\, així i tot\, el cànon filosòfic és presidit per un il·lustre panteó d’homes blancs\, i les dones —malgrat les aportacions notables que han fet a la història de les idees— encara no hi tenen entrada. En aquest volum\, Núria Sara Miras Boronat contribueix a bastir una tradició alternativa de la filosofia contemporània\, més plural i diversa\, que doni a conèixer els textos d’algunes de les pensadores més rellevants i que incorpori alhora la seva praxi política i els moviments socials emancipadors que han impulsat. Jane Addams\, Charlotte Perkins Gilman\, Judith Shklar\, Angela Davis\, Audre Lorde i Vandana Shiva —les sis autores incloses en aquesta breu genealogia de filòsofes dels segles XX i XXI— són dones valentes\, pioneres que han provat de comprendre els canvis ràpids i convulsos de la seva època i han donat resposta a les qüestions més candents del moment amb reflexions i estratègies innovadores. Filòsofes de la contemporaneïtat reivindica la plena actualitat dels seus punts de vista i l’originalitat de les seves obres transgressores\, i es proposa de preservar-ne el llegat.  \n  \n \n(Universitat de Barcelona)
URL:https://octubre.cat/activitat/presentacio-del-llibre-filosofes-de-la-contemporaneitat-de-nuria-sara-miras-boronat/
LOCATION:Llibreria Fan Set
CATEGORIES:Literatura
ATTACH;FMTTYPE=image/jpeg:https://octubre.cat/www/wp-content/uploads/2024/04/Nuria_Sara_Miras_Boronat.jpg
END:VEVENT
BEGIN:VEVENT
DTSTART;TZID=Europe/Andorra:20240419T200000
DTEND;TZID=Europe/Andorra:20240419T200000
DTSTAMP:20260421T210430
CREATED:20240306T171524Z
LAST-MODIFIED:20240306T171524Z
UID:21042-1713556800-1713556800@octubre.cat
SUMMARY:BarnaSants 2024: «Volad\, canciones\, volad!»
DESCRIPTION:12 poetes\, 12 cançons\, 12 alts vols \nEspectacle coordinat pel divulgador F.G. Lucini i els cantautors Moncho Otero i Rafa Mora\, s’erigeix com un document i un concert pedagògic sobre l’origen i l’evolució de la “poesia musicalitzada i cantada”\, un capítol per cançó\, una cançó per cada poeta\, una poesia per cada cançó. Un repàs històric d’alguns poetes cabdals de la literatura en llengua castellana. Des de Rafael Alberti\,passant per José Agustín Goytisolo o Rosalía de Castro\, Federico García Lorca o Mario Benedetti\, entre d’altres. \n  \n \n—\nConcert organitzat pel Festival BarnaSants amb la col·laboració de l’Octubre CCC.
URL:https://octubre.cat/activitat/barnasants-2024-volad-canciones-volad/
LOCATION:Sala d’actes
CATEGORIES:BarnaSants 2024
ATTACH;FMTTYPE=image/jpeg:https://octubre.cat/www/wp-content/uploads/2024/03/voladcancionesvolad.jpg
END:VEVENT
END:VCALENDAR