BEGIN:VCALENDAR
VERSION:2.0
PRODID:-//Octubre Centre de Cultura Contemporània - ECPv5.1.6//NONSGML v1.0//EN
CALSCALE:GREGORIAN
METHOD:PUBLISH
X-WR-CALNAME:Octubre Centre de Cultura Contemporània
X-ORIGINAL-URL:https://octubre.cat
X-WR-CALDESC:Events for Octubre Centre de Cultura Contemporània
BEGIN:VTIMEZONE
TZID:Europe/Andorra
BEGIN:DAYLIGHT
TZOFFSETFROM:+0100
TZOFFSETTO:+0200
TZNAME:CEST
DTSTART:20240331T010000
END:DAYLIGHT
BEGIN:STANDARD
TZOFFSETFROM:+0200
TZOFFSETTO:+0100
TZNAME:CET
DTSTART:20241027T010000
END:STANDARD
END:VTIMEZONE
BEGIN:VEVENT
DTSTART;TZID=Europe/Andorra:20240305T190000
DTEND;TZID=Europe/Andorra:20240412T210000
DTSTAMP:20260421T210520
CREATED:20240224T165805Z
LAST-MODIFIED:20240228T125246Z
UID:20983-1709665200-1712955600@octubre.cat
SUMMARY:45 anys de la col·lecció d’art del PEN Català
DESCRIPTION:L’art i les lletres a favor de la llengua i la llibertat d’expressió \nLa relació entre artistes i escriptors\, poetes i pintors\, forma part de la tradició de la modernitat en la cultura catalana\, des del modernisme i els moviments d’avantguarda fins a l’actualitat. Des del 1978\, quan el poeta Josep Palau i Fabre\, aleshores president del PEN Català\, va demanar la col·laboració dels artistes Antoni Tàpies i Joan-Pere Viladecans per realitzar un cartell de suport a l’entitat\, fins avui\, el darrer cartell és obra de Carmen Calvo\, la col·lecció d’art del PEN Català no ha deixat de créixer gràcies a la generositat dels artistes més prestigiosos.   \nEl PEN Català va néixer a Barcelona el 1922\, com a resposta a una crida del PEN Internacional\, amb l’ambició de poder donar a conèixer la llengua i la cultura catalanes i de poder dialogar amb les més importants cultures i literatures del món.   \nLa història del PEN Català és una història d’ambició literària universal\, d’èxit i de continuïtat durant més de cent anys\, però també és una història d’exilis\, de resistències i de reconstrucció cultural col·lectiva\, de solidaritat i de lluita per la llengua i per la llibertat d’expressió a Catalunya i als Països Catalans.   \nAquesta exposició\, doncs\, és un reconeixement a tots els artistes i les artistes i a totes les persones que\, d’una manera o altra\, han col·laborat amb el PEN Català al llarg de més de cent anys i alhora vol donar testimoni de les fites\, les publicacions i les  col·laboracions més destacades que constitueixen el seu llegat de passat i de present que es projecta cap al futur.   \nDel 1978 al 2024 són més de 45 anys de col·laboració d’artistes amb les obres que ara es mostren a València. En un moment que la guerra ressona per tot el món i la llengua\, la cultura i la llibertat d’expressió estan amenaçades cada dia\, la solidaritat i la unió entre els creadors de les diferents disciplines és més necessària que mai. \n(Manuel Guerrero Brullet\, comissari de l’exposició) \n \n  \n \n  \nComissari: Manuel Guerrero Brullet\nIl·lustració: Francesca Llopis (tinta sobre paper japó\, 2021)\nExposició organitzada pel PEN Català i l’Octubre CCC.
URL:https://octubre.cat/activitat/45-anys-de-la-colleccio-dart-del-pen-catala/
LOCATION:Sala d’exposicions
CATEGORIES:Exposicions
ATTACH;FMTTYPE=image/jpeg:https://octubre.cat/www/wp-content/uploads/2024/02/francesca-llopis-capcalera.jpg
END:VEVENT
BEGIN:VEVENT
DTSTART;TZID=Europe/Andorra:20240411T190000
DTEND;TZID=Europe/Andorra:20240430T190000
DTSTAMP:20260421T210520
CREATED:20240327T105545Z
LAST-MODIFIED:20250710T104057Z
UID:21118-1712862000-1714503600@octubre.cat
SUMMARY:«Montera en mano entró en...»
DESCRIPTION:ACADÈMIA ESTÚPIDA DE LES ARTS I LES LLETRES (sector del País Valencià)\nIonescu: Si no es comprèn la utilitat del que és inútil i la inutilitat del que és útil\, no es pot comprendre l’art. \nLa humanitat és una imbecil·litat en si mateixa. Açò és un axioma\, i com a tal irrefutable. La paraula idiota (ve del grec)\, segons sembla\, defineix la persona que no s’ocupava dels afers públics\, sinó només dels interessos privats. És a dir\, el que actualment es coneix com a egoista\, usurer\, capitalista i depredador social. El gènere humà\, en general\, és un neci diletant\, és un aficionat de l’estupidesa\, per això els acadèmics i acadèmiques d’aquesta il·lustre entitat\, ens esforcem en millorar i perfeccionar l’estultícia\, atesa la impossibilitat de derrotar-la. Si hem de ser imbècils\, siguem-ho amb totes les conseqüències.\nDintre d’eixe món de l’estultícia d’aficionats el gremi més idiota és\, sens dubte\, el que conforma la classe política. I ací\, al País Valencià\, en aquests moments tenim una garba de cretins com mai n’havíem patit. És per això que\, els acadèmics i acadèmiques d’aquesta entitat\, volem fer una acció de denúncia a través de la creació artística; amb una exposició que expresse el nostre sentir creatiu i de rebuig envers la política cultural actual al nostre territori. \nObres de:\nEn Vicente Gascón\nNa Llúcia Peiró\nEn Bertomeu Ferrando\nEn Francesc González\nNa Marta R. Sobrecueva\nEn Josep Sou\nEn Fernando Costa\nN’Elia Torrecilla\nNa Montserrat Palacios\nEn Pepe Romero\nEn Llorenç Barber\nEn José Santamaría «Llapis»\nEn Carles Cano\nEn Manel Costa \n  \n \n—\nInstal·lació organitzada per l’Acadèmia Estúpida de les Arts i les Lletres (AEAL) amb la col·laboració de l’Octubre CCC.
URL:https://octubre.cat/activitat/montera-en-mano-entro-en/
LOCATION:Hall
CATEGORIES:Instal·lacions
ATTACH;FMTTYPE=image/jpeg:https://octubre.cat/www/wp-content/uploads/2024/03/montera-retall.jpg
END:VEVENT
BEGIN:VEVENT
DTSTART;TZID=Europe/Andorra:20240412T190000
DTEND;TZID=Europe/Andorra:20240412T190000
DTSTAMP:20260421T210520
CREATED:20240327T120715Z
LAST-MODIFIED:20250710T165057Z
UID:21122-1712948400-1712948400@octubre.cat
SUMMARY:Presentació del llibre Lingua Mater
DESCRIPTION:Antologia de dotze dones poetes dels Països Catalans. \nAmb la participació de Pura Peris (coordinadora de l’obra)\, Lourdes Toledo\, Llúcia Pallisser i Pablo Herranz. \nNova antologia poètica\, escrita per 12 dones de Catalunya\, País Valencià i illes Balears\, selecciónada i coordinada per la també poeta valenciana\, Pura Peris García\, presidenta de la Jam Poètica de l’Eliana.\nPoemes de Carme Arnau i Orts\, Carme Balanzat Muñoz\, María Rosa Blázquez Marín\, Antonina Canyelles i Colom\, Fe Ferré\, Maria Teresa Ferrer Escandell\, Aina Garcia Carbó\, Gràcia Jiménez Tirado\, Carme López Arias\, Llucia Palliser Santana\, Pura Peris i Garcia i Carme Romia i Agustí. \n  \n \n(Galés Editor)
URL:https://octubre.cat/activitat/presentacio-del-llibre-lingua-mater/
LOCATION:Llibreria Fan Set
CATEGORIES:Literatura
ATTACH;FMTTYPE=image/jpeg:https://octubre.cat/www/wp-content/uploads/2022/04/llibreria-fan-set.jpg
END:VEVENT
END:VCALENDAR