BEGIN:VCALENDAR
VERSION:2.0
PRODID:-//Octubre Centre de Cultura Contemporània - ECPv5.1.6//NONSGML v1.0//EN
CALSCALE:GREGORIAN
METHOD:PUBLISH
X-WR-CALNAME:Octubre Centre de Cultura Contemporània
X-ORIGINAL-URL:https://octubre.cat
X-WR-CALDESC:Events for Octubre Centre de Cultura Contemporània
BEGIN:VTIMEZONE
TZID:Europe/Andorra
BEGIN:DAYLIGHT
TZOFFSETFROM:+0100
TZOFFSETTO:+0200
TZNAME:CEST
DTSTART:20240331T010000
END:DAYLIGHT
BEGIN:STANDARD
TZOFFSETFROM:+0200
TZOFFSETTO:+0100
TZNAME:CET
DTSTART:20241027T010000
END:STANDARD
END:VTIMEZONE
BEGIN:VEVENT
DTSTART;TZID=Europe/Andorra:20240305T190000
DTEND;TZID=Europe/Andorra:20240412T210000
DTSTAMP:20260421T223324
CREATED:20240224T165805Z
LAST-MODIFIED:20240228T125246Z
UID:20983-1709665200-1712955600@octubre.cat
SUMMARY:45 anys de la col·lecció d’art del PEN Català
DESCRIPTION:L’art i les lletres a favor de la llengua i la llibertat d’expressió \nLa relació entre artistes i escriptors\, poetes i pintors\, forma part de la tradició de la modernitat en la cultura catalana\, des del modernisme i els moviments d’avantguarda fins a l’actualitat. Des del 1978\, quan el poeta Josep Palau i Fabre\, aleshores president del PEN Català\, va demanar la col·laboració dels artistes Antoni Tàpies i Joan-Pere Viladecans per realitzar un cartell de suport a l’entitat\, fins avui\, el darrer cartell és obra de Carmen Calvo\, la col·lecció d’art del PEN Català no ha deixat de créixer gràcies a la generositat dels artistes més prestigiosos.   \nEl PEN Català va néixer a Barcelona el 1922\, com a resposta a una crida del PEN Internacional\, amb l’ambició de poder donar a conèixer la llengua i la cultura catalanes i de poder dialogar amb les més importants cultures i literatures del món.   \nLa història del PEN Català és una història d’ambició literària universal\, d’èxit i de continuïtat durant més de cent anys\, però també és una història d’exilis\, de resistències i de reconstrucció cultural col·lectiva\, de solidaritat i de lluita per la llengua i per la llibertat d’expressió a Catalunya i als Països Catalans.   \nAquesta exposició\, doncs\, és un reconeixement a tots els artistes i les artistes i a totes les persones que\, d’una manera o altra\, han col·laborat amb el PEN Català al llarg de més de cent anys i alhora vol donar testimoni de les fites\, les publicacions i les  col·laboracions més destacades que constitueixen el seu llegat de passat i de present que es projecta cap al futur.   \nDel 1978 al 2024 són més de 45 anys de col·laboració d’artistes amb les obres que ara es mostren a València. En un moment que la guerra ressona per tot el món i la llengua\, la cultura i la llibertat d’expressió estan amenaçades cada dia\, la solidaritat i la unió entre els creadors de les diferents disciplines és més necessària que mai. \n(Manuel Guerrero Brullet\, comissari de l’exposició) \n \n  \n \n  \nComissari: Manuel Guerrero Brullet\nIl·lustració: Francesca Llopis (tinta sobre paper japó\, 2021)\nExposició organitzada pel PEN Català i l’Octubre CCC.
URL:https://octubre.cat/activitat/45-anys-de-la-colleccio-dart-del-pen-catala/
LOCATION:Sala d’exposicions
CATEGORIES:Exposicions
ATTACH;FMTTYPE=image/jpeg:https://octubre.cat/www/wp-content/uploads/2024/02/francesca-llopis-capcalera.jpg
END:VEVENT
BEGIN:VEVENT
DTSTART;TZID=Europe/Andorra:20240312T190000
DTEND;TZID=Europe/Andorra:20240312T190000
DTSTAMP:20260421T223324
CREATED:20240130T161923Z
LAST-MODIFIED:20250710T164655Z
UID:20881-1710270000-1710270000@octubre.cat
SUMMARY:Presentació de l’antologia poètica La Terra del Foc
DESCRIPTION:40 anys del Premi de Poesia Manuel Rodríguez Martínez – Ciutat d’Alcoi. Edició a cura de Jordi Botella i Manel Rodríguez-Castelló\nAmb Manuel Bellver\, Jordi Botella\, Vicent Botella\, Juli Capilla\, José M Climent\, Mercè Climent\, Imma López Pavia\, Ruben Luzon\, Eduard Marco\, Hugo Mas\, Begonya Mezquita\, Josep Mir\, Carles Mulet\, Francesc Rodrigo\, Manel Rodríguez-Castelló\, Boro Rubini i Pau Sif.  \nLa Terra del Foc aplega poemes dels llibres guardonats amb el Premi de Poesia Manuel Rodríguez Martínez-Ciutat d’Alcoi entre 1983 i 2023. Es commemoren així els quaranta anys d’un premi singular\, independent i rigorós\, íntimament lligat a la societat civil alcoiana amb aquesta mostra heterogènia de vuitanta poemes escrits per quaranta poetes. El llibre\, que també es pot llegir com una obra independent i en certa manera unitària\, traça bé les coordenades per on la poesia catalana ha anat movent-se durant tot aquest temps\, definides per la varietat\, la qualitat i la vastitud de les propostes poètiques.  \n  \n \n(Lletra Impresa)
URL:https://octubre.cat/activitat/presentacio-de-lantologia-poetica-la-terra-del-foc/
LOCATION:Llibreria Fan Set
CATEGORIES:Literatura
ATTACH;FMTTYPE=image/jpeg:https://octubre.cat/www/wp-content/uploads/2022/04/llibreria-fan-set.jpg
END:VEVENT
BEGIN:VEVENT
DTSTART;TZID=Europe/Andorra:20240312T190000
DTEND;TZID=Europe/Andorra:20240312T190000
DTSTAMP:20260421T223325
CREATED:20240306T155340Z
LAST-MODIFIED:20240627T151445Z
UID:21033-1710270000-1710270000@octubre.cat
SUMMARY:La Podcastera de l’Octubre: Un cabàs d’històries
DESCRIPTION:Gravació en directe d’un pòdcast amb públic\, a càrrec d’Un cabàs d’històries. \n“Som Berta i Paula i açò és un programa sobre cultura popular. Des del coret de Diània vos portem un conjunt de llegendes\, rondalles\, frases fetes i personatges fantàstics explicats i comentats des de la tranquil·litat de les nostres llars. Que la Quarantamaula i el Butoni tremolen perquè arriba Un cabàs d’històries.“ \nEntrada lliure \n \n—\nOrganitzat per ACPV Joves
URL:https://octubre.cat/activitat/la-podcastera-de-loctubre-un-cabas-dhistories/
LOCATION:Sala d’actes
CATEGORIES:La Podcastera de l'Octubre CCC
ATTACH;FMTTYPE=image/jpeg:https://octubre.cat/www/wp-content/uploads/2023/04/podcastera-general.jpg
END:VEVENT
END:VCALENDAR