BEGIN:VCALENDAR
VERSION:2.0
PRODID:-//Octubre Centre de Cultura Contemporània - ECPv5.1.6//NONSGML v1.0//EN
CALSCALE:GREGORIAN
METHOD:PUBLISH
X-WR-CALNAME:Octubre Centre de Cultura Contemporània
X-ORIGINAL-URL:https://octubre.cat
X-WR-CALDESC:Events for Octubre Centre de Cultura Contemporània
BEGIN:VTIMEZONE
TZID:Europe/Andorra
BEGIN:DAYLIGHT
TZOFFSETFROM:+0100
TZOFFSETTO:+0200
TZNAME:CEST
DTSTART:20240331T010000
END:DAYLIGHT
BEGIN:STANDARD
TZOFFSETFROM:+0200
TZOFFSETTO:+0100
TZNAME:CET
DTSTART:20241027T010000
END:STANDARD
END:VTIMEZONE
BEGIN:VEVENT
DTSTART;TZID=Europe/Andorra:20240229T190000
DTEND;TZID=Europe/Andorra:20240229T190000
DTSTAMP:20260421T223208
CREATED:20240208T102113Z
LAST-MODIFIED:20250710T164512Z
UID:20917-1709233200-1709233200@octubre.cat
SUMMARY:Presentació del núm. 4 de la revista Caldesa
DESCRIPTION:Amb la participació d’Andreu Blai\, Roser Serra\, Blanca Garcia-Oliver\, Norman Ortells i Joana Signes\, membres del consell editorial de la revista. \nLa revista Caldesa va nàixer amb la idea d’abastar un espai concret del panorama literari en català. Una revista que\, per una banda\, pretén convertir-se en punt d’encontre de joves escriptors així com\, per altra banda\, ser un mitjà material que servisca d’al·licient a la publicació i l’escriptura en català. Una revista oberta a la publicació jove\, universitària o no\, que aplane els camins d’un món literari caracteritzat per la fragmentació i la primacia de dinàmiques de validació com els premis literaris. Així doncs\, l’esperit que regeix Caldesa és l’obligació de fer-nos llegir i impulsar una iniciativa que ens permeta aprendre i créixer.
URL:https://octubre.cat/activitat/presentacio-del-num-4-de-la-revista-caldesa/
LOCATION:Llibreria Fan Set
CATEGORIES:Literatura
ATTACH;FMTTYPE=image/jpeg:https://octubre.cat/www/wp-content/uploads/2024/02/caldesa.jpeg
END:VEVENT
BEGIN:VEVENT
DTSTART;TZID=Europe/Andorra:20240229T200000
DTEND;TZID=Europe/Andorra:20240229T200000
DTSTAMP:20260421T223208
CREATED:20240214T105349Z
LAST-MODIFIED:20250713T084943Z
UID:20940-1709236800-1709236800@octubre.cat
SUMMARY:Audition 10 aniversari: «El naixement del moviment underground a València»
DESCRIPTION:Retrospectiva 10 anys d’Audition (2014-2024) \nTaula redona amb la participació de:\n–Jesús Ortega (UHF\, Le Club)\n–Blanco Anyó (Festival Observatori)\n–José Gon (Club Gon)\n–Sergio Mànyez (Audition) \n  \n \n—\nOrganitzat per Audition\, Génesis i Intheleven amb la col·laboració de l’Octubre CCC.
URL:https://octubre.cat/activitat/audition-10-aniversari-el-naixement-del-moviment-underground-a-valencia/
LOCATION:Sala d’actes
CATEGORIES:Audition,Conferències i congressos
ATTACH;FMTTYPE=image/jpeg:https://octubre.cat/www/wp-content/uploads/2024/02/audition-10-aniversari.jpg
END:VEVENT
END:VCALENDAR