BEGIN:VCALENDAR
VERSION:2.0
PRODID:-//Octubre Centre de Cultura Contemporània - ECPv5.1.6//NONSGML v1.0//EN
CALSCALE:GREGORIAN
METHOD:PUBLISH
X-WR-CALNAME:Octubre Centre de Cultura Contemporània
X-ORIGINAL-URL:https://octubre.cat
X-WR-CALDESC:Events for Octubre Centre de Cultura Contemporània
BEGIN:VTIMEZONE
TZID:Europe/Andorra
BEGIN:DAYLIGHT
TZOFFSETFROM:+0100
TZOFFSETTO:+0200
TZNAME:CEST
DTSTART:20240331T010000
END:DAYLIGHT
BEGIN:STANDARD
TZOFFSETFROM:+0200
TZOFFSETTO:+0100
TZNAME:CET
DTSTART:20241027T010000
END:STANDARD
END:VTIMEZONE
BEGIN:VEVENT
DTSTART;TZID=Europe/Andorra:20240226T190000
DTEND;TZID=Europe/Andorra:20240226T190000
DTSTAMP:20260421T223410
CREATED:20240208T084324Z
LAST-MODIFIED:20250713T074853Z
UID:20902-1708974000-1708974000@octubre.cat
SUMMARY:Club de lectura amb Iolanda Batallé
DESCRIPTION:Autora de Massa deutes amb les flors (Columna) \n«Per què escric? Perquè m’agrada. Perquè em fa por. A la vida res té sentit. Els llibres m’han acompanyat i m’han salvat del dolor que creia no poder aguantar. Escric. Escric des dels nou anys. Des que vaig tenir clar que a la vida res tenia sentit i necessitava una constant que m’acompanyés. Soc escriptors\, però és el que més em costa»  \n 
URL:https://octubre.cat/activitat/club-de-lectura-amb-iolanda-batalle/
LOCATION:Aula 1
CATEGORIES:Els tallers de l'Octubre,Literatura
ATTACH;FMTTYPE=image/jpeg:https://octubre.cat/www/wp-content/uploads/2023/09/iolanda_batalle.jpg
END:VEVENT
END:VCALENDAR