BEGIN:VCALENDAR
VERSION:2.0
PRODID:-//Octubre Centre de Cultura Contemporània - ECPv5.1.6//NONSGML v1.0//EN
CALSCALE:GREGORIAN
METHOD:PUBLISH
X-WR-CALNAME:Octubre Centre de Cultura Contemporània
X-ORIGINAL-URL:https://octubre.cat
X-WR-CALDESC:Events for Octubre Centre de Cultura Contemporània
BEGIN:VTIMEZONE
TZID:Europe/Andorra
BEGIN:DAYLIGHT
TZOFFSETFROM:+0100
TZOFFSETTO:+0200
TZNAME:CEST
DTSTART:20240331T010000
END:DAYLIGHT
BEGIN:STANDARD
TZOFFSETFROM:+0200
TZOFFSETTO:+0100
TZNAME:CET
DTSTART:20241027T010000
END:STANDARD
END:VTIMEZONE
BEGIN:VEVENT
DTSTART;TZID=Europe/Andorra:20240223T190000
DTEND;TZID=Europe/Andorra:20240223T190000
DTSTAMP:20260422T000228
CREATED:20240130T095422Z
LAST-MODIFIED:20250710T164356Z
UID:20867-1708714800-1708714800@octubre.cat
SUMMARY:Presentació i recital de Carme Castells i Noèlia Díaz
DESCRIPTION:Els llibres que es presenten són:\n—Rastre de plata\, de Carme Castells (Adia Edicions)\n—Cercles (ex)cèntrics\, de Noèlia Díaz Vicedo (Edicions Tremendes)\nAmb les autores en diàleg amb Àngels Gregori. \n  \n \nCarme Castells és poeta i gestora cultural. Des de 2008 és la directora de la Fundació Mallorca Literària\, on impulsa una tasca important al servei de la divulgació de la literatura catalana arreu del territori. Al llarg de la seva trajectòria ha exercit també en els àmbits de la comunicació cultural\, com a cap de secció de cultura del Diari de Balears i directora del suplement L’Espira\, així com crítica literària i d’art. Rastre de plata\, el seu primer poemari publicat\, és un recull escrit des de la carn i cap a la poesia\, que vol redimir el dolor a través de la bellesa de la paraula\, i especialment donar llum sobre els tabús i estigmes que assetgen la dona a l’entorn de la maternitat. De poema en poema\, fixa la crònica d’un viatge lent i tortuós en l’ermàs\, “territori inclement travessat de renúncies i de dol\, fins al verd de la vida\, que s’imposa\, com “l’herba llampant que guaita en els cruis de l’asfalt”. \n  \n \nNoèlia Díaz és poeta\, acadèmica i traductora. Ha publicat la seua poesia a revistes a Espanya i Estats Units. Ha estat traduïda al castellà\, anglès i escocès. Ha editat amb Sandra D. Roig l’antologia Donzelles de l’any 2000: antologia de dones poetes dels Països Catalans (2014). El seu primer llibre Bloody Roots / Arrels sagnants és edició bilingüe català-anglès (Francis Boutle Publishers\, Londres 2017). A Cercles (ex)cèntrics recull poemes escrits entre 2011 i 2016\, que provenen de la confrontació dialèctica entre la sincronia del cos i la diacronia inherent a la naturalesa del llenguatge. Una lluita que\, tot i semblar conceptual o teòrica\, és en realitat d’una dimensió completament quotidiana i empírica. Tot des del punt de vista de la dona que escriu i qüestiona amb una llengua que estima i alhora sent forana.
URL:https://octubre.cat/activitat/presentacio-i-recital-de-carme-castells-i-noelia-diaz/
LOCATION:Llibreria Fan Set
CATEGORIES:Literatura
ATTACH;FMTTYPE=image/jpeg:https://octubre.cat/www/wp-content/uploads/2022/04/llibreria-fan-set.jpg
END:VEVENT
BEGIN:VEVENT
DTSTART;TZID=Europe/Andorra:20240223T200000
DTEND;TZID=Europe/Andorra:20240223T200000
DTSTAMP:20260422T000228
CREATED:20240209T111705Z
LAST-MODIFIED:20250710T161901Z
UID:20928-1708718400-1708718400@octubre.cat
SUMMARY:BarnaSants 2024: Oller i Guerra
DESCRIPTION:L’agraïment \nEstrena del segon disc del duet experimental de cançó del contrabaixista i cantant valencià Jaume Guerra i el pianista sitgetà Víctor Oller. \nAmb la cançó d’autor com a punt de partida\, el duo Oller i Guerra es deixa influir pel pop\, el jazz i el folk mediterrani per cercar un so propi. El projecte liderat per Víctor Oller i Jaume Guerra es completa amb Jordi Pallarés a la bateria. El senzill «Agraïment» és el primer avançament del nou disc\, on participa la cantant Maria Bartomeu ‘La Maria’. \n  \n \n—\nConcert organitzat pel Festival BarnaSants amb la col·laboració de l’Octubre CCC.
URL:https://octubre.cat/activitat/barnasants-2024-oller-i-guerra/
LOCATION:Sala d’actes
CATEGORIES:BarnaSants 2024
ATTACH;FMTTYPE=image/jpeg:https://octubre.cat/www/wp-content/uploads/2024/02/oller-i-guerra-v1.jpg
END:VEVENT
END:VCALENDAR