BEGIN:VCALENDAR
VERSION:2.0
PRODID:-//Octubre Centre de Cultura Contemporània - ECPv5.1.6//NONSGML v1.0//EN
CALSCALE:GREGORIAN
METHOD:PUBLISH
X-WR-CALNAME:Octubre Centre de Cultura Contemporània
X-ORIGINAL-URL:https://octubre.cat
X-WR-CALDESC:Events for Octubre Centre de Cultura Contemporània
BEGIN:VTIMEZONE
TZID:Europe/Andorra
BEGIN:DAYLIGHT
TZOFFSETFROM:+0100
TZOFFSETTO:+0200
TZNAME:CEST
DTSTART:20240331T010000
END:DAYLIGHT
BEGIN:STANDARD
TZOFFSETFROM:+0200
TZOFFSETTO:+0100
TZNAME:CET
DTSTART:20241027T010000
END:STANDARD
END:VTIMEZONE
BEGIN:VEVENT
DTSTART;TZID=Europe/Andorra:20240222T190000
DTEND;TZID=Europe/Andorra:20240222T190000
DTSTAMP:20260422T000202
CREATED:20240130T113554Z
LAST-MODIFIED:20250710T162612Z
UID:20878-1708628400-1708628400@octubre.cat
SUMMARY:Presentació del llibre Mural del País Valencià\, de Vicent Andrés Estellés
DESCRIPTION:Volums IX\, X i XI de l’Obra Completa de Vicent Andrés Estellés.\nAmb les intervencions d’Irene Mira-Navarro i Jordi Oviedo\, curadors dels darrers volums de l’obra\, i actuació de Borja Penalba. \nAquesta Obra Completa -nova edició\, revisada- constitueix un projecte d’edició de l’obra estellesiana que conté estudis introductoris\, un treball de reorganització cronològica de les obres i d’edició filològica dels poemes estellesians. Els volums que es presenten avui han estat preparats per Irene Mira-Navarro i Jordi Oviedo i inclouen la totalitat d’una de les obres més monumentals i emblemàtiques d’Estellés: Mural del País Valencià. \n  \n \n(Edicions Tres i Quatre)
URL:https://octubre.cat/activitat/presentacio-del-llibre-mural-del-pais-valencia-de-vicent-andres-estelles/
LOCATION:Llibreria Fan Set
CATEGORIES:Cent d'Estellés
ATTACH;FMTTYPE=image/jpeg:https://octubre.cat/www/wp-content/uploads/2024/01/estelles-any.jpg
END:VEVENT
END:VCALENDAR