BEGIN:VCALENDAR
VERSION:2.0
PRODID:-//Octubre Centre de Cultura Contemporània - ECPv5.1.6//NONSGML v1.0//EN
CALSCALE:GREGORIAN
METHOD:PUBLISH
X-WR-CALNAME:Octubre Centre de Cultura Contemporània
X-ORIGINAL-URL:https://octubre.cat
X-WR-CALDESC:Events for Octubre Centre de Cultura Contemporània
BEGIN:VTIMEZONE
TZID:Europe/Andorra
BEGIN:DAYLIGHT
TZOFFSETFROM:+0100
TZOFFSETTO:+0200
TZNAME:CEST
DTSTART:20240331T010000
END:DAYLIGHT
BEGIN:STANDARD
TZOFFSETFROM:+0200
TZOFFSETTO:+0100
TZNAME:CET
DTSTART:20241027T010000
END:STANDARD
END:VTIMEZONE
BEGIN:VEVENT
DTSTART;TZID=Europe/Andorra:20240220T190000
DTEND;TZID=Europe/Andorra:20240220T190000
DTSTAMP:20260422T000245
CREATED:20240118T183422Z
LAST-MODIFIED:20240219T094702Z
UID:20856-1708455600-1708455600@octubre.cat
SUMMARY:VOC – Festival Òmnium de Curtmetratges 2024 (primera sessió)
DESCRIPTION:Acció Cultural del País Valencià col·labora perquè la Mostra d’audiovisual dels Premis VOC es projecte arreu del País Valencià. En cada sessió es projectaran sis curtmetratges dels dotze que participen al concurs. Les sessions de l’Octubre CCC tindran lloc els dimarts 20 i 27 de febrer de 2024. \nPremis VOC és un projecte impulsat per Òmnium Cultural amb la finalitat d’estimular la producció de continguts audiovisuals de qualitat en llengua catalana\, contribuir a la seva difusió i ampliar-ne el públic. \nVINE I PARTICIPA EN LES VOTACIONS \nSessió 1: “Avui i demà” (91’): dimarts 20 de febrer a les 19.00h: \n—Les més grans (documental)\, de Dubi Cano\, Marta Codesido\, Núria Ubach\, Ulrika Andersson.\nEl passeig diari de tres àvies de Cabrianes es veu alterat per la mort sobtada d’una. Mentrestant\, la festa que premia la persona gran del poble s’hi acosta. \n—Els amants (ficció)\, de Joan Vives\nFa anys que Ovidi va desaparèixer al mar sense deixar rastre. Teresa\, la seva vídua\, encara continua portant-li flors al lloc on va desaparèixer. Deu anys després\, els amants es retrobaran\, encara que potser no en la manera com s’ho haguessin esperat. \n—L’avenir (ficció)\, de Santiago Ráfales\nUn succés inesperat farà que en Biel\, un nen de deu anys\, es replantegi l’enllaç que manté amb la seva millor amiga. \n—Provocadora (ficció)\, d’Èlia Lorente\nAllò que no es pot recordar. \n—Anhel de llum (documental) d’Alba Cros\nAmb una mirada radicalment personal\, la directora explora Barcelona i la seva llum. El sol com un llenç de la intimitat a les habitacions d’amigues\, amants i les persones del seu entorn; família escollida. \n—Tots els meus colors (ficció) d’Anna Solanas i Marc Riba\nDesprés de la mort de la seva mare\, una nena perd tots els seus colors. Els podrà recuperar? \n—\nOrganitzat per Òmnium Cultural amb la col·laboració d’Acció Cultural del País Valencià
URL:https://octubre.cat/activitat/voc-festival-omnium-de-curtmetratges-2024-primera-sessio/
LOCATION:Sala d’actes
CATEGORIES:Cinema
ATTACH;FMTTYPE=image/jpeg:https://octubre.cat/www/wp-content/uploads/2024/01/Capcalera_voc-2024.jpeg
END:VEVENT
END:VCALENDAR