BEGIN:VCALENDAR
VERSION:2.0
PRODID:-//Octubre Centre de Cultura Contemporània - ECPv5.1.6//NONSGML v1.0//EN
CALSCALE:GREGORIAN
METHOD:PUBLISH
X-WR-CALNAME:Octubre Centre de Cultura Contemporània
X-ORIGINAL-URL:https://octubre.cat
X-WR-CALDESC:Events for Octubre Centre de Cultura Contemporània
BEGIN:VTIMEZONE
TZID:Europe/Andorra
BEGIN:DAYLIGHT
TZOFFSETFROM:+0100
TZOFFSETTO:+0200
TZNAME:CEST
DTSTART:20240331T010000
END:DAYLIGHT
BEGIN:STANDARD
TZOFFSETFROM:+0200
TZOFFSETTO:+0100
TZNAME:CET
DTSTART:20241027T010000
END:STANDARD
END:VTIMEZONE
BEGIN:VEVENT
DTSTART;TZID=Europe/Andorra:20240203T170000
DTEND;TZID=Europe/Andorra:20240203T233000
DTSTAMP:20260422T013820
CREATED:20240108T223841Z
LAST-MODIFIED:20240501T104528Z
UID:20778-1706979600-1707003000@octubre.cat
SUMMARY:CABÀSS – Electronic Evening: Hexxe
DESCRIPTION:HEXXE\n+ Dj de Continuidad \nCABÀSS comença l’any amb força en el format habitual d’electrònica i bon rotllo al seu privilegiat emplaçament\, l’Àtic de l’Octubre Centre de Cultura Contemporània\, emblemàtic edifici al costat de la Plaça de l’Ajuntament de València. \nLa nostra convidada és Hexxe\, DJ murciana establerta a València que porta immersa en la música electrònica des dels 19 anys. Va debutar com a DJ el 2023 amb Phase.ctv participant després en la primera edició de Madrid Flash Meeting. El seu treball està en constant exploració de gèneres i buscant innovació\, cosa que es reflecteix en les seues presentacions carregades de determinació i versatilitat\, sent el techno i totes les seues variants el focus del seu set habitual. El seu futur es dibuixa molt prometedor\, ja que és una habitual de Spook i nova resident del Club Gordo. \n  \n \n  \nCom sempre\, el line-up es completarà amb un dels DJs emblemàtics de CABÀSS\, DJ de Continuidad. Us esperem\, tant als habituals com als que vulgueu descobrir aquesta proposta.
URL:https://octubre.cat/activitat/cabass-electronic-evening-hexxe/
LOCATION:Terrat
CATEGORIES:Cabàss
ATTACH;FMTTYPE=image/jpeg:https://octubre.cat/www/wp-content/uploads/2024/01/hexxe.jpg
END:VEVENT
END:VCALENDAR