BEGIN:VCALENDAR
VERSION:2.0
PRODID:-//Octubre Centre de Cultura Contemporània - ECPv5.1.6//NONSGML v1.0//EN
CALSCALE:GREGORIAN
METHOD:PUBLISH
X-WR-CALNAME:Octubre Centre de Cultura Contemporània
X-ORIGINAL-URL:https://octubre.cat
X-WR-CALDESC:Events for Octubre Centre de Cultura Contemporània
BEGIN:VTIMEZONE
TZID:Europe/Andorra
BEGIN:DAYLIGHT
TZOFFSETFROM:+0100
TZOFFSETTO:+0200
TZNAME:CEST
DTSTART:20240331T010000
END:DAYLIGHT
BEGIN:STANDARD
TZOFFSETFROM:+0200
TZOFFSETTO:+0100
TZNAME:CET
DTSTART:20241027T010000
END:STANDARD
END:VTIMEZONE
BEGIN:VEVENT
DTSTART;TZID=Europe/Andorra:20240202T190000
DTEND;TZID=Europe/Andorra:20240202T190000
DTSTAMP:20260422T000325
CREATED:20240115T115806Z
LAST-MODIFIED:20250710T163919Z
UID:20832-1706900400-1706900400@octubre.cat
SUMMARY:Presentació del llibre Home en ruïnes. Relats i poemes des dels camps de la vergonya\, de Jaume Grau Casas
DESCRIPTION:Hi participaran Jordi Grau\, net de l’autor\, i Carles Vela\, editor de les publicacions de l’Associació Catalana d’Esperanto. \nPer la seva activitat professional i política\, Jaume Grau Casas (Barcelona\, 1896 – València\, 1950) va haver d’exiliar-se a França després de la Guerra d’Espanya. Allà\, les autoritats franceses el van tenir tancat en diferents camps de concentració fins gairebé el final de la Segona Guerra Mundial (Argelers\, Bram\, Montoliu\, el Recebedor\, Neiçon\, Tombaboc). Va sobreviure a la duresa dels camps (fam\, fred\, epidèmies etc.) gràcies a l’escriptura. En les condicions més adverses\, mai va deixar d’escriure\, en català\, esperanto\, castellà i francès. En sortir dels camps tenia escrits més d’una dotzena de llibres\, testimonis directes i coetanis de la duresa d’aquests camps de la vergonya on tants exiliats republicans\, i no només\, van perdre la vida. Les dificultats de la postguerra\, tant a Tolosa de Llenguadoc com després a València\, i la mort sobtada abans dels 54 anys li va impedir dur-los a impremta. Després d’una primera edició en francès i una altra en esperanto\, ara l’Associació Catalana d’Esperanto ofereix en català un recull d’aquests relats i poemes. \n  \n \n(Kataluna Esperanto-Asocio)
URL:https://octubre.cat/activitat/presentacio-del-llibre-home-en-ruines-relats-i-poemes-des-dels-camps-de-la-vergonya-de-jaume-grau-casas/
LOCATION:Llibreria Fan Set
CATEGORIES:Literatura
ATTACH;FMTTYPE=image/jpeg:https://octubre.cat/www/wp-content/uploads/2024/01/Jaume_Grau_Casas.jpg
END:VEVENT
END:VCALENDAR