BEGIN:VCALENDAR
VERSION:2.0
PRODID:-//Octubre Centre de Cultura Contemporània - ECPv5.1.6//NONSGML v1.0//EN
CALSCALE:GREGORIAN
METHOD:PUBLISH
X-WR-CALNAME:Octubre Centre de Cultura Contemporània
X-ORIGINAL-URL:https://octubre.cat
X-WR-CALDESC:Events for Octubre Centre de Cultura Contemporània
BEGIN:VTIMEZONE
TZID:Europe/Andorra
BEGIN:DAYLIGHT
TZOFFSETFROM:+0100
TZOFFSETTO:+0200
TZNAME:CEST
DTSTART:20240331T010000
END:DAYLIGHT
BEGIN:STANDARD
TZOFFSETFROM:+0200
TZOFFSETTO:+0100
TZNAME:CET
DTSTART:20241027T010000
END:STANDARD
END:VTIMEZONE
BEGIN:VEVENT
DTSTART;TZID=Europe/Andorra:20240124T190000
DTEND;TZID=Europe/Andorra:20240124T190000
DTSTAMP:20260422T013711
CREATED:20231201T102240Z
LAST-MODIFIED:20250713T083603Z
UID:20671-1706122800-1706122800@octubre.cat
SUMMARY:Premis Nobel 2023: Literatura
DESCRIPTION:Premi atorgat a Jon Fosse «per les seues innovadores obres de teatre i prosa\, que donen veu a l’indicible». \nConversa amb Bernat Puigtobella (editor de Núvol) i Carolina Moreno Tena (traductora de Fosse al català). Acte presentat i moderat per Núria Cadenes (escriptora). \nMés informació \n—\nL’Espai Ciència de l’Octubre CCC és una iniciativa de l’Institut d’Estudis Catalans i compta amb la col·laboració d’Acció Cultural del País Valencià\, la Unitat de Cultura Científica i Innovació / Càtedra de Divulgació de la Ciència de la UV\, la Fundació Espanyola per a la Ciència i la Tecnologia\, el Centre Superior d’Investigacions Científiques\, la llibreria Fan Set i la revista Mètode.
URL:https://octubre.cat/activitat/premis-nobel-2023-literatura/
LOCATION:Aula 1
CATEGORIES:Espai Ciència,Literatura
ATTACH;FMTTYPE=image/jpeg:https://octubre.cat/www/wp-content/uploads/2023/12/nobel-2023-literatura.jpg
END:VEVENT
END:VCALENDAR