BEGIN:VCALENDAR
VERSION:2.0
PRODID:-//Octubre Centre de Cultura Contemporània - ECPv5.1.6//NONSGML v1.0//EN
CALSCALE:GREGORIAN
METHOD:PUBLISH
X-WR-CALNAME:Octubre Centre de Cultura Contemporània
X-ORIGINAL-URL:https://octubre.cat
X-WR-CALDESC:Events for Octubre Centre de Cultura Contemporània
BEGIN:VTIMEZONE
TZID:Europe/Andorra
BEGIN:DAYLIGHT
TZOFFSETFROM:+0100
TZOFFSETTO:+0200
TZNAME:CEST
DTSTART:20240331T010000
END:DAYLIGHT
BEGIN:STANDARD
TZOFFSETFROM:+0200
TZOFFSETTO:+0100
TZNAME:CET
DTSTART:20241027T010000
END:STANDARD
END:VTIMEZONE
BEGIN:VEVENT
DTSTART;TZID=Europe/Andorra:20240123T190000
DTEND;TZID=Europe/Andorra:20240123T190000
DTSTAMP:20260422T013657
CREATED:20231222T173902Z
LAST-MODIFIED:20250710T163417Z
UID:20750-1706036400-1706036400@octubre.cat
SUMMARY:Presentació del llibre Contes i narracions\, de Sant Vicent Ferrer
DESCRIPTION:Edició i adaptació de Ferran Garcia-Oliver. \nAmb Ferran Garcia-Oliver acompanyat per Vicent Flor. \nSant Vicent Ferrer és un personatge immens. En l’Europa a cavall dels segles XIV i XV va ser un referent a qui acudien tant reis\, papes i ciutats\, com gent humil i subalterna. Els uns li demanaven consells\, els altres consol\, en un temps convuls sacsejat per guerres\, pestes i fams. Bona part de les seues experiències i del seu pensament ens han arribat a través dels Sermons. El caire doctrinal de les homilies ha dificultat la recepció del que\, en realitat\, és un artefacte literari formidable. Sant Vicent feia servir contes\, narracions\, faules i històries com a estratègia pedagògica i persuasiva. Ferran Garcia-Oliver els ha extret del conjunt del sermonari i ens ofereix alhora la versió original i una adaptació per facilitar-ne la lectura. Sant Vicent mereix àmplies audiències. Ple de gràcia i enginy\, fascinava els oients i\, avui dia\, encara és capaç de commoure’ns. Les narracions ens submergeixen en els set pecats capitals de la tardor gòtica\, presidits per la violència\, la luxúria i la cobdícia\, però també ens parlen de la necessitat de la pau i la solidaritat per a l’harmonia del món. \n  \n \n(Coedició Editorial Tres i Quatre i Institució Alfons el Magnànim)
URL:https://octubre.cat/activitat/presentacio-del-llibre-contes-i-narracions-de-sant-vicent-ferrer/
LOCATION:Llibreria Fan Set
CATEGORIES:Literatura
ATTACH;FMTTYPE=image/jpeg:https://octubre.cat/www/wp-content/uploads/2023/12/sant-vicent-ferrer-vannes.jpg
END:VEVENT
END:VCALENDAR