BEGIN:VCALENDAR
VERSION:2.0
PRODID:-//Octubre Centre de Cultura Contemporània - ECPv5.1.6//NONSGML v1.0//EN
CALSCALE:GREGORIAN
METHOD:PUBLISH
X-WR-CALNAME:Octubre Centre de Cultura Contemporània
X-ORIGINAL-URL:https://octubre.cat
X-WR-CALDESC:Events for Octubre Centre de Cultura Contemporània
BEGIN:VTIMEZONE
TZID:Europe/Andorra
BEGIN:DAYLIGHT
TZOFFSETFROM:+0100
TZOFFSETTO:+0200
TZNAME:CEST
DTSTART:20240331T010000
END:DAYLIGHT
BEGIN:STANDARD
TZOFFSETFROM:+0200
TZOFFSETTO:+0100
TZNAME:CET
DTSTART:20241027T010000
END:STANDARD
END:VTIMEZONE
BEGIN:VEVENT
DTSTART;TZID=Europe/Andorra:20240117T190000
DTEND;TZID=Europe/Andorra:20240117T190000
DTSTAMP:20260422T013642
CREATED:20231201T101640Z
LAST-MODIFIED:20250713T083622Z
UID:20668-1705518000-1705518000@octubre.cat
SUMMARY:Premis Nobel 2023: Física
DESCRIPTION:Premi atorgat a Pierre Agostini\, Ferenc Krausz i Anne L’Huillier «pels mètodes experimentals que generen polsos de llum d’attosegons per a l’estudi de la dinàmica dels electrons en la matèria». \nConferència «Els làsers d’attosegons o com fer les fotos\, i selfies\, més ràpides del món. I com aprendre’n» a càrrec de Germán J. de Valcárcel (Departament d’Òptica\, Optometria i Ciències de la Visió\, Facultat de Física\, Universitat de València). \nMés informació \n—\nL’Espai Ciència de l’Octubre CCC és una iniciativa de l’Institut d’Estudis Catalans i compta amb la col·laboració d’Acció Cultural del País Valencià\, la Unitat de Cultura Científica i Innovació / Càtedra de Divulgació de la Ciència de la UV\, la Fundació Espanyola per a la Ciència i la Tecnologia\, el Centre Superior d’Investigacions Científiques\, la llibreria Fan Set i la revista Mètode.
URL:https://octubre.cat/activitat/premis-nobel-2023-fisica/
LOCATION:Aula 1
CATEGORIES:Espai Ciència
ATTACH;FMTTYPE=image/jpeg:https://octubre.cat/www/wp-content/uploads/2023/12/nobel-2023-fisica.jpg
END:VEVENT
BEGIN:VEVENT
DTSTART;TZID=Europe/Andorra:20240117T190000
DTEND;TZID=Europe/Andorra:20240117T190000
DTSTAMP:20260422T013642
CREATED:20240109T162001Z
LAST-MODIFIED:20240109T162001Z
UID:20792-1705518000-1705518000@octubre.cat
SUMMARY:Cinema: Forbidden Womanhood\, de Maryam Zahirimehr
DESCRIPTION:Projecció del Millor Llargmetratge de Ficció de la Biennal Dona i Cinema 2023 \nEl dolç món de Mahi\, una nena de 12 anys\, es fa miques per la percepció que té de l’explicació errònia de la seua mare en resposta a la pregunta de Mahi: «Com es queda embarassada una dona?». \n  \n \n  \nDirecció: Maryam Zahirimehr\nIran\, 2022\nDurada: 96’ \n  \n \n \n\nMaryam Zahirimehr\, directora\, guionista\, fotògrafa i productora\, és natural de l’Iran i resideix als Estats Units. El seu entusiasme per la fotografia\, la cinematografia i la pintura la va portar a cursar estudis acadèmics i va acabar obtenint un màster en Belles Arts per la Universitat de Lesley (EUA). Els seus èxits com a guionista\, directora i productora es van posar de manifest en el seu primer llargmetratge\, «Endless?». La pel·lícula va rebre el premi al millor llargmetratge internacional a festival com el 17è Boston IFF (EUA)\, Nova York (NYCIFIF) (EUA)\, RIFFA (Canadà)\, i d’altres el 2018. «Endless?» ha estat també anunciada en repetides ocasions com a selecció oficial en nombrosos festivals de cinema de prestigi\, com el festival de cinema de Calcuta\, 2018. \n—\nOrganitzat per la Biennal Dona i Cinema amb la col·laboració de l’Octubre CCC.
URL:https://octubre.cat/activitat/cinema-forbidden-womanhood-de-maryam-zahirimehr/
LOCATION:Sala d’actes
CATEGORIES:Palmarès Dona i Cinema
ATTACH;FMTTYPE=image/jpeg:https://octubre.cat/www/wp-content/uploads/2024/01/forbiden-womanhood.jpg
END:VEVENT
END:VCALENDAR