BEGIN:VCALENDAR
VERSION:2.0
PRODID:-//Octubre Centre de Cultura Contemporània - ECPv5.1.6//NONSGML v1.0//EN
CALSCALE:GREGORIAN
METHOD:PUBLISH
X-WR-CALNAME:Octubre Centre de Cultura Contemporània
X-ORIGINAL-URL:https://octubre.cat
X-WR-CALDESC:Events for Octubre Centre de Cultura Contemporània
BEGIN:VTIMEZONE
TZID:Europe/Andorra
BEGIN:DAYLIGHT
TZOFFSETFROM:+0100
TZOFFSETTO:+0200
TZNAME:CEST
DTSTART:20230326T010000
END:DAYLIGHT
BEGIN:STANDARD
TZOFFSETFROM:+0200
TZOFFSETTO:+0100
TZNAME:CET
DTSTART:20231029T010000
END:STANDARD
BEGIN:DAYLIGHT
TZOFFSETFROM:+0100
TZOFFSETTO:+0200
TZNAME:CEST
DTSTART:20240331T010000
END:DAYLIGHT
BEGIN:STANDARD
TZOFFSETFROM:+0200
TZOFFSETTO:+0100
TZNAME:CET
DTSTART:20241027T010000
END:STANDARD
END:VTIMEZONE
BEGIN:VEVENT
DTSTART;TZID=Europe/Andorra:20231115T120000
DTEND;TZID=Europe/Andorra:20240106T000000
DTSTAMP:20260422T025648
CREATED:20231110T084051Z
LAST-MODIFIED:20250710T055429Z
UID:20563-1700049600-1704499200@octubre.cat
SUMMARY:VI Biennal de València – Ciutat Vella Oberta 2023
DESCRIPTION:La Biennal de València – Ciutat Vella Oberta és un projecte cultural amb vocació multidisciplinar\, l’objectiu del qual és projectar al món la identitat valenciana i visibilitzar la producció artística al nostre “Circuit de l’Art”.\nIntegrada per artistes\, agents culturals i teòrics de l´art\, la Biennal s´articula mitjançant una xarxa d´accions que connecten els tallers d´artista\, els espais públics i les institucions. En l’edició d’enguany i entre d’altres\, participen el Centre del Carme\, l’IVAM\, el Museu de Belles Arts\, el CM. Rector Peset de la Universitat de València i la Facultat de Belles Arts de la Universitat Politècnica de València. \n  \n \n  \nExposició a l’Octubre CCC \nObres de:\nDaniel Acuña\, Rossi Aguilar\, María Ángeles Aguilera\, Gemma Alpuente\, Tania Ansio\, Ana Gloria Arjona García\, Maite Backman\, José María Cal\, Araceli Carrión\, Yolanda Catalán\, Jeanne M Connolly\, David Delgado\, Luis Amado De Sousa Villalba\, Marta Fenollar\, Pedro Gandía\, Valeria Gatti\, Manolo Gil Labrandero\, Santiago Gómez Carreras\, Anton Gudzykevych\, Miguel Hache\, Nacho Igual\, Ilole\, Aleksandra Istorik\, Joaquín Ivars Ruiz\, Davinia Lacht\, Cristina Lanfranchi\, Fufu Lène\, Ana Márcia Varela\, Lola Mas Hernández\, Raquel Mira Bastidas\, Blas Miras\, Carlota Mollet\, Mayte Navarro Golf\, Arlette Olaerts\, Elisa Ortega\, Magda Pintos\, Isabel Planellsm\, Marlén Ramos Soler\, Lole Remón\, Susana Roig Hervás\, Amaranta Sánchez\, Teo San José Aguilar\, Estefanía Sanz Ávila\, María Carolina Tapia\, Silvia Vinao. \n \nArtistes seleccionats en exposició digital:\nAbenamar Bauta\, Ana del Aguila Malvaez\, Ana Mantezi\, Alvaro Ramos Candia\, Carla Forte\, Cecilia Heredia\, Claudia Adriazola\, Irina Novikava\, Ivonne Portillo Sierra\, José Ney Mila Espinosa\, Juan Pablo Romero Valle\, Kyria Oliveira\, Leonardo Mayer\, Lía Sabela\, Luis Alejandro Sánchez\, Mariela Soldano\, Mathias Escotto Gadea\, Martin Brion\, Serena Dreamer\, Silvia Neves\, Silvina Cerminara. \n—\nOrganitzat per la Biennal de València – Ciutat Vella Oberta amb la col·laboració de l’Octubre CCC
URL:https://octubre.cat/activitat/vi-biennal-de-valencia-ciutat-vella-oberta-2023/
LOCATION:Sala d’exposicions
CATEGORIES:Exposicions
ATTACH;FMTTYPE=image/png:https://octubre.cat/www/wp-content/uploads/2021/11/mixto_-CVO-Y-BIENNAL-@2x.png
END:VEVENT
BEGIN:VEVENT
DTSTART;TZID=Europe/Andorra:20231215T190000
DTEND;TZID=Europe/Andorra:20231215T190000
DTSTAMP:20260422T025649
CREATED:20231129T105535Z
LAST-MODIFIED:20250710T083049Z
UID:20647-1702666800-1702666800@octubre.cat
SUMMARY:Presentació del llibre  Estimar-se en temps de rebel·lions\, de Joan S. Micó i Barberà
DESCRIPTION:Amb l’autor acompanyat per Maru Micó i Renti Vila. Interpretació musical de Mireia Tortosa. \nL’obra es presenta com una biografia novel·lada de Joan Penadés i Morant o com una novel·la històrica sobre els temps que van conformar la seua personalitat carismàtica. La figura de Joan Penadés i Morant ens descriu\, en primera persona\, el seu èxit empresarial i la repercussió que el romanticisme va tindre amb la seua generació\, la corresponent a La Belle Époque parisenca i valenciana. \nTambé és un relat sobre determinats aspectes de les vides dels següents personatges: Missèr Pere de Barberà dit l’Antic i la seua nissaga\, l’egrègia Lluciana de Barberà i Despuig i mossèn Albert Puigmoltó\, missèr Josep Esplugues dit Baró de la Safra\, missèr Antoni F. Borràs dit Baró de Goya Borràs\, egrègia Beatriu Llodrà i von der Herberg i egrègia i Il·luminada Maria Penadés i Sanchis. \nLa narrativa descriu la vida quotidiana social\, particular i íntima dels personatges al·ludits i alguns aspectes bàsics de la història social i política d’Ontinyent i del Cap i Casal i del País Valencià. \n  \n\n—\nAmb la col·laboració de l’Institut d’Estudis de la Vall d’Albaida i de la Fundació Caixa Ontinyent.
URL:https://octubre.cat/activitat/presentacio-del-llibre-estimar-se-en-temps-de-rebellions-de-joan-s-mico-i-barbera/
LOCATION:Àtic
CATEGORIES:Literatura
ATTACH;FMTTYPE=image/jpeg:https://octubre.cat/www/wp-content/uploads/2020/11/llibres.jpg
END:VEVENT
BEGIN:VEVENT
DTSTART;TZID=Europe/Andorra:20231215T190000
DTEND;TZID=Europe/Andorra:20231215T190000
DTSTAMP:20260422T025649
CREATED:20231201T094739Z
LAST-MODIFIED:20250710T100245Z
UID:20661-1702666800-1702666800@octubre.cat
SUMMARY:En defensa de la cultura
DESCRIPTION:En defensa de la cultura: Conversa sobre cultura i llibertat d’expressió en temps difícils \nAmb la participació de:\n—Josep Lluís Barona (historiador)\n—Lola Bañón (periodista)\n—Núria Cadenes (escriptora)\nCoordina l’acte: Lourdes Toledo (escriptora i membre del PEN) \nBenvinguda a càrrec de Laura Huerga i Gustau Muñoz (presidenta del PEN i vicepresident al País Valencià)\nAmb la intervenció musical de Pau Alabajos. \n—\nOrganitzat per PEN Català
URL:https://octubre.cat/activitat/en-defensa-de-la-cultura/
LOCATION:Aula 1
CATEGORIES:Conferències i congressos
ATTACH;FMTTYPE=image/jpeg:https://octubre.cat/www/wp-content/uploads/2023/12/EN-DEFENSA-DE-LA-CULTURA-620x440-1.jpg
END:VEVENT
BEGIN:VEVENT
DTSTART;TZID=Europe/Andorra:20231215T200000
DTEND;TZID=Europe/Andorra:20231215T200000
DTSTAMP:20260422T025649
CREATED:20230917T090532Z
LAST-MODIFIED:20230917T091058Z
UID:20378-1702670400-1702670400@octubre.cat
SUMMARY:Seserino
DESCRIPTION:Seserino és l’alter ego de Paula Seserino\, la jove autora i compositora d’Alcoi. Amb aquest nom dona vida al seu nou projecte musical\, del qual ja hem pogut assaborir les primeres cançons. \nLes referències literàries explícites inunden i nodreixen l’imaginari de Seserino\, a la recerca d’inspiració per respondre preguntes existencials sobre el nostre jo i la seua projecció a la societat. \nAmb això\, ens proposa endinsar-nos a les seues cançons com ho faríem amb un bon llibre. \n  \n \n—\n“Amb veu de dona 2023” és el tercer cicle de cantautores (de sis concerts) organitzat per Acció Cultural del País Valencià a l’Octubre CCC amb la col·laboració de la Conselleria d’Igualtat i Polítiques Inclusives de la Generalitat Valenciana i de la Diputació de València.
URL:https://octubre.cat/activitat/seserino/
LOCATION:Sala d’actes
CATEGORIES:Amb veu de dona 2023
ATTACH;FMTTYPE=image/jpeg:https://octubre.cat/www/wp-content/uploads/2023/09/seserino.jpg
END:VEVENT
END:VCALENDAR