BEGIN:VCALENDAR
VERSION:2.0
PRODID:-//Octubre Centre de Cultura Contemporània - ECPv5.1.6//NONSGML v1.0//EN
CALSCALE:GREGORIAN
METHOD:PUBLISH
X-WR-CALNAME:Octubre Centre de Cultura Contemporània
X-ORIGINAL-URL:https://octubre.cat
X-WR-CALDESC:Events for Octubre Centre de Cultura Contemporània
BEGIN:VTIMEZONE
TZID:Europe/Andorra
BEGIN:DAYLIGHT
TZOFFSETFROM:+0100
TZOFFSETTO:+0200
TZNAME:CEST
DTSTART:20230326T010000
END:DAYLIGHT
BEGIN:STANDARD
TZOFFSETFROM:+0200
TZOFFSETTO:+0100
TZNAME:CET
DTSTART:20231029T010000
END:STANDARD
BEGIN:DAYLIGHT
TZOFFSETFROM:+0100
TZOFFSETTO:+0200
TZNAME:CEST
DTSTART:20240331T010000
END:DAYLIGHT
BEGIN:STANDARD
TZOFFSETFROM:+0200
TZOFFSETTO:+0100
TZNAME:CET
DTSTART:20241027T010000
END:STANDARD
END:VTIMEZONE
BEGIN:VEVENT
DTSTART;TZID=Europe/Andorra:20231115T120000
DTEND;TZID=Europe/Andorra:20240106T000000
DTSTAMP:20260422T025514
CREATED:20231110T084051Z
LAST-MODIFIED:20250710T055429Z
UID:20563-1700049600-1704499200@octubre.cat
SUMMARY:VI Biennal de València – Ciutat Vella Oberta 2023
DESCRIPTION:La Biennal de València – Ciutat Vella Oberta és un projecte cultural amb vocació multidisciplinar\, l’objectiu del qual és projectar al món la identitat valenciana i visibilitzar la producció artística al nostre “Circuit de l’Art”.\nIntegrada per artistes\, agents culturals i teòrics de l´art\, la Biennal s´articula mitjançant una xarxa d´accions que connecten els tallers d´artista\, els espais públics i les institucions. En l’edició d’enguany i entre d’altres\, participen el Centre del Carme\, l’IVAM\, el Museu de Belles Arts\, el CM. Rector Peset de la Universitat de València i la Facultat de Belles Arts de la Universitat Politècnica de València. \n  \n \n  \nExposició a l’Octubre CCC \nObres de:\nDaniel Acuña\, Rossi Aguilar\, María Ángeles Aguilera\, Gemma Alpuente\, Tania Ansio\, Ana Gloria Arjona García\, Maite Backman\, José María Cal\, Araceli Carrión\, Yolanda Catalán\, Jeanne M Connolly\, David Delgado\, Luis Amado De Sousa Villalba\, Marta Fenollar\, Pedro Gandía\, Valeria Gatti\, Manolo Gil Labrandero\, Santiago Gómez Carreras\, Anton Gudzykevych\, Miguel Hache\, Nacho Igual\, Ilole\, Aleksandra Istorik\, Joaquín Ivars Ruiz\, Davinia Lacht\, Cristina Lanfranchi\, Fufu Lène\, Ana Márcia Varela\, Lola Mas Hernández\, Raquel Mira Bastidas\, Blas Miras\, Carlota Mollet\, Mayte Navarro Golf\, Arlette Olaerts\, Elisa Ortega\, Magda Pintos\, Isabel Planellsm\, Marlén Ramos Soler\, Lole Remón\, Susana Roig Hervás\, Amaranta Sánchez\, Teo San José Aguilar\, Estefanía Sanz Ávila\, María Carolina Tapia\, Silvia Vinao. \n \nArtistes seleccionats en exposició digital:\nAbenamar Bauta\, Ana del Aguila Malvaez\, Ana Mantezi\, Alvaro Ramos Candia\, Carla Forte\, Cecilia Heredia\, Claudia Adriazola\, Irina Novikava\, Ivonne Portillo Sierra\, José Ney Mila Espinosa\, Juan Pablo Romero Valle\, Kyria Oliveira\, Leonardo Mayer\, Lía Sabela\, Luis Alejandro Sánchez\, Mariela Soldano\, Mathias Escotto Gadea\, Martin Brion\, Serena Dreamer\, Silvia Neves\, Silvina Cerminara. \n—\nOrganitzat per la Biennal de València – Ciutat Vella Oberta amb la col·laboració de l’Octubre CCC
URL:https://octubre.cat/activitat/vi-biennal-de-valencia-ciutat-vella-oberta-2023/
LOCATION:Sala d’exposicions
CATEGORIES:Exposicions
ATTACH;FMTTYPE=image/png:https://octubre.cat/www/wp-content/uploads/2021/11/mixto_-CVO-Y-BIENNAL-@2x.png
END:VEVENT
BEGIN:VEVENT
DTSTART;TZID=Europe/Andorra:20231213T180000
DTEND;TZID=Europe/Andorra:20231213T180000
DTSTAMP:20260422T025514
CREATED:20230905T095203Z
LAST-MODIFIED:20250710T084618Z
UID:20287-1702490400-1702490400@octubre.cat
SUMMARY:Cinema: Nosaltres a l’endemà\, d’Alisa Kovalenko
DESCRIPTION:Cinc adolescents de la regió del Donbàs\, a Ucraïna\, intenten escapar dels bombardejos de Putin començant a imaginar el seu futur. Malgrat la situació de guerra\, els joves s’obstinen a viure el seu moment de trànsit cap a la maduresa amb esperança\, il·lusió i entusiasme. S’imaginen com a pintores\, fotògrafes\, actrius o convertint-se en el nou Elon Musk. Mentrestant\, a fora\, el soroll de les bombes i els tirotejos no descansa però el grup decideix reprendre el projecte de viatge al Nepal que l’inici de la guerra va estroncar. Somnien fugir de la guerra però també\, com qualsevol adolescent\, de la monotonia del seu petit poble. En un moment determinat\, i contra tot pronòstic\, una oportunitat real de viatjar apareix a les seves vides.  \n  \n \n  \nDirecció: Alisa Kovalenko\nProducció Executiva: Trueman Productions\, East Roads Films\nUcraïna\, França\, Polònia i Estats Units (2023)\nVO en rus i ucraïnès subtitulada en català\nDurada: 100’ \n  \n \nCicle “Acció Documental +” organitzat per ACICOM i ACPV. DocsBarcelona / El documental del mes.
URL:https://octubre.cat/activitat/cinema-nosaltres-a-lendema-dalisa-kovalenko/
LOCATION:Sala d’actes
CATEGORIES:Acció Documental +
ATTACH;FMTTYPE=image/jpeg:https://octubre.cat/www/wp-content/uploads/2023/09/We-will-not-fade-away.jpg
END:VEVENT
BEGIN:VEVENT
DTSTART;TZID=Europe/Andorra:20231213T190000
DTEND;TZID=Europe/Andorra:20231213T190000
DTSTAMP:20260422T025514
CREATED:20231123T094217Z
LAST-MODIFIED:20250710T094307Z
UID:20602-1702494000-1702494000@octubre.cat
SUMMARY:Conversa amb Martí Domínguez sobre el seu llibre Del natural
DESCRIPTION:Premi Bones Lletres d’assaig humanístic 2023. \nAmb l’autor acompanyat per Pilar Alfonso Escuder\, professora de cultura audiovisual\, i Albert Ferrer Orts\, professor d’història de l’art de la Universitat de València. \nMartí Domínguez porta a terme en Del natural un ample recorregut per la història de la pintura tenint com a principal fil conductor la percepció de la natura. Des de la representació d’un corder per part de Giotto fins a les dones de Gauguin pintades a la Polinèsia\, passant pel renaixement italià i flamenc i pels pintors romàntics i impressionistes\, l’autor reflexiona sobre com la natura ha estat en cada cas interpretada i pintada\, incloent-hi dins d’ella l’estudi del paisatge i de la mateixa naturalesa humana. D’aquesta manera\, Del natural és un assaig que\, des d’aquesta òptica naturalística\, descobreix als lectors noves i sorprenents lectures de les obres d’art\, tot això ben amanit per una prosa rica i especiosa\, que es recrea en la vida dels pintors i en les seues principals creacions. \n \n(Edicions 62) \n—\nL’Espai Ciència de l’Octubre CCC és una iniciativa de l’Institut d’Estudis Catalans i compta amb la col·laboració d’Acció Cultural del País Valencià\, la Unitat de Cultura Científica i Innovació / Càtedra de Divulgació de la Ciència de la UV\, la Fundació Espanyola per a la Ciència i la Tecnologia\, el Centre Superior d’Investigacions Científiques\, la llibreria Fan Set i la revista Mètode.
URL:https://octubre.cat/activitat/conversa-amb-marti-dominguez-sobre-el-seu-llibre-del-natural/
LOCATION:Hall
CATEGORIES:Espai Ciència
ATTACH;FMTTYPE=image/jpeg:https://octubre.cat/www/wp-content/uploads/2022/11/MARTI-DOMiNGUEZ-FOTOJESUS-CISCAR.jpg
END:VEVENT
END:VCALENDAR