BEGIN:VCALENDAR
VERSION:2.0
PRODID:-//Octubre Centre de Cultura Contemporània - ECPv5.1.6//NONSGML v1.0//EN
CALSCALE:GREGORIAN
METHOD:PUBLISH
X-WR-CALNAME:Octubre Centre de Cultura Contemporània
X-ORIGINAL-URL:https://octubre.cat
X-WR-CALDESC:Events for Octubre Centre de Cultura Contemporània
BEGIN:VTIMEZONE
TZID:Europe/Andorra
BEGIN:DAYLIGHT
TZOFFSETFROM:+0100
TZOFFSETTO:+0200
TZNAME:CEST
DTSTART:20230326T010000
END:DAYLIGHT
BEGIN:STANDARD
TZOFFSETFROM:+0200
TZOFFSETTO:+0100
TZNAME:CET
DTSTART:20231029T010000
END:STANDARD
BEGIN:DAYLIGHT
TZOFFSETFROM:+0100
TZOFFSETTO:+0200
TZNAME:CEST
DTSTART:20240331T010000
END:DAYLIGHT
BEGIN:STANDARD
TZOFFSETFROM:+0200
TZOFFSETTO:+0100
TZNAME:CET
DTSTART:20241027T010000
END:STANDARD
END:VTIMEZONE
BEGIN:VEVENT
DTSTART;TZID=Europe/Andorra:20231115T120000
DTEND;TZID=Europe/Andorra:20240106T000000
DTSTAMP:20260422T025501
CREATED:20231110T084051Z
LAST-MODIFIED:20250710T055429Z
UID:20563-1700049600-1704499200@octubre.cat
SUMMARY:VI Biennal de València – Ciutat Vella Oberta 2023
DESCRIPTION:La Biennal de València – Ciutat Vella Oberta és un projecte cultural amb vocació multidisciplinar\, l’objectiu del qual és projectar al món la identitat valenciana i visibilitzar la producció artística al nostre “Circuit de l’Art”.\nIntegrada per artistes\, agents culturals i teòrics de l´art\, la Biennal s´articula mitjançant una xarxa d´accions que connecten els tallers d´artista\, els espais públics i les institucions. En l’edició d’enguany i entre d’altres\, participen el Centre del Carme\, l’IVAM\, el Museu de Belles Arts\, el CM. Rector Peset de la Universitat de València i la Facultat de Belles Arts de la Universitat Politècnica de València. \n  \n \n  \nExposició a l’Octubre CCC \nObres de:\nDaniel Acuña\, Rossi Aguilar\, María Ángeles Aguilera\, Gemma Alpuente\, Tania Ansio\, Ana Gloria Arjona García\, Maite Backman\, José María Cal\, Araceli Carrión\, Yolanda Catalán\, Jeanne M Connolly\, David Delgado\, Luis Amado De Sousa Villalba\, Marta Fenollar\, Pedro Gandía\, Valeria Gatti\, Manolo Gil Labrandero\, Santiago Gómez Carreras\, Anton Gudzykevych\, Miguel Hache\, Nacho Igual\, Ilole\, Aleksandra Istorik\, Joaquín Ivars Ruiz\, Davinia Lacht\, Cristina Lanfranchi\, Fufu Lène\, Ana Márcia Varela\, Lola Mas Hernández\, Raquel Mira Bastidas\, Blas Miras\, Carlota Mollet\, Mayte Navarro Golf\, Arlette Olaerts\, Elisa Ortega\, Magda Pintos\, Isabel Planellsm\, Marlén Ramos Soler\, Lole Remón\, Susana Roig Hervás\, Amaranta Sánchez\, Teo San José Aguilar\, Estefanía Sanz Ávila\, María Carolina Tapia\, Silvia Vinao. \n \nArtistes seleccionats en exposició digital:\nAbenamar Bauta\, Ana del Aguila Malvaez\, Ana Mantezi\, Alvaro Ramos Candia\, Carla Forte\, Cecilia Heredia\, Claudia Adriazola\, Irina Novikava\, Ivonne Portillo Sierra\, José Ney Mila Espinosa\, Juan Pablo Romero Valle\, Kyria Oliveira\, Leonardo Mayer\, Lía Sabela\, Luis Alejandro Sánchez\, Mariela Soldano\, Mathias Escotto Gadea\, Martin Brion\, Serena Dreamer\, Silvia Neves\, Silvina Cerminara. \n—\nOrganitzat per la Biennal de València – Ciutat Vella Oberta amb la col·laboració de l’Octubre CCC
URL:https://octubre.cat/activitat/vi-biennal-de-valencia-ciutat-vella-oberta-2023/
LOCATION:Sala d’exposicions
CATEGORIES:Exposicions
ATTACH;FMTTYPE=image/png:https://octubre.cat/www/wp-content/uploads/2021/11/mixto_-CVO-Y-BIENNAL-@2x.png
END:VEVENT
BEGIN:VEVENT
DTSTART;TZID=Europe/Andorra:20231127T113000
DTEND;TZID=Europe/Andorra:20231201T210000
DTSTAMP:20260422T025501
CREATED:20231120T161409Z
LAST-MODIFIED:20231120T161409Z
UID:20588-1701084600-1701464400@octubre.cat
SUMMARY:XXV Jornades Llibertàries CGT-València
DESCRIPTION:Del 27 de novembre a l’1 de desembre de 2023\n25 anys somiant mons i construint alternatives \n  \nPROGRAMA \nDilluns 27 de novembre \n11.30h. Presentació de les Jornades i assemblea de delegades i afiliades.\nAmb la presència de Juan Miguel Font (secretari general CGT València)\, Juan Ramon Ferrandis (secretari general de CGT País Valencià i Múrcia) i Rafael Cid (periodista i analista polític).\nInauguració de l’exposició «L’univers de Salvador Seguí». \n18.30h. Mitjans\, internet\, xarxes socials. Llums i ombres per a la classe treballadora.\nAmb Julián Macías (expert en anàlisi de xarxes\, fundador de Pandemia Digital) i Rafael Cid (periodista i analista polític). \n  \nDimarts 28 de novembre \n18.30h. Resistència i mobilització: la lluita per les pensions a França.\nA càrrec de membres dels sindicats francesos CNT-66 i Solidaires. \n\nDimecres 29 de novembre \n18.30h. Desobediència civil per a fer front a l’emergència climàtica.\nAmb activistes de Futur Vegetal i Soulèvements de la Terre. \n  \nDijous 30 de novembre \n18.30h. Salvador Seguí. Història d’un anarcosindicalista.\nPresentació i projecció del documental a càrrec d’Emili Cortavitarte\, president de la Fundació Salvador Seguí. \n  \nDivendres 1 de desembre \n18.30h. Tancament de les Jornades amb una vesprada lúdica (a la seu de CGT: avinguda del Cid\, 154\, València). \n  \nMés informació \n—\nJornades organitzades per CGT-València amb la col·laboració de l’Octubre CCC.
URL:https://octubre.cat/activitat/xxv-jornades-llibertaries-cgt-valencia/
LOCATION:Aula 1
CATEGORIES:Conferències i congressos
ATTACH;FMTTYPE=image/png:https://octubre.cat/www/wp-content/uploads/2023/11/JORNADASLIBERTARIASCGT.png
END:VEVENT
BEGIN:VEVENT
DTSTART;TZID=Europe/Andorra:20231127T113000
DTEND;TZID=Europe/Andorra:20231201T210000
DTSTAMP:20260422T025502
CREATED:20231120T163411Z
LAST-MODIFIED:20250710T055510Z
UID:20592-1701084600-1701464400@octubre.cat
SUMMARY:L’univers de Salvador Seguí
DESCRIPTION:El Noi del Sucre \nDarrere d’un sobrenom que ens fa pensar en un personatge de ficció\, s’hi amaga una personalitat clau per entendre l’origen i l’evolució dels moviments socials al nostre país. A principis del segle XX\, en una Barcelona que rebenta de misèria i de ràbia\, Seguí s’erigeix en el líder natural d’una classe obrera que pren consciència de si mateixa i que s’adona del poder. Al capdavant de la CNT\, el Noi del Sucre contribueix a la consecució de fites inimaginables\, com ara l’aprovació de la jornada laboral de vuit hores. Seguí és un personatge inclassificable\, un home d’acció i de formació autodidàctica que\, en una època en què són freqüents les bombes\, té a la paraula la seva principal arma. Admirat i incòmode a parts iguals\, és fervent practicant d’allò que anys més tard s’anomena cultura del pacte. Salvador Seguí és una peça que falta al trencaclosques de la nostra història. Sovint oblidat o reivindicat amb la boca petita. Cent anys després del seu assassinat\, una realitat obstinada a repetir-se dóna vigència plena al seu discurs. \nMés informació \n—\nExposició organitzada per la Fundació Salvador Seguí i per CGT-València amb la col·laboració de l’Octubre CCC amb motiu de les XXV Jornades Llibertàries.\nComissariat: Cristina Escrivà Moscardó i Rafael Maestre Marín\nAssessor històric: Emili Cortavitarte Carral\nDisseny gràfic: Román Sánchez
URL:https://octubre.cat/activitat/lunivers-de-salvador-segui/
LOCATION:Hall
CATEGORIES:Exposicions
ATTACH;FMTTYPE=image/png:https://octubre.cat/www/wp-content/uploads/2023/11/salvador-segui-expo.png
END:VEVENT
BEGIN:VEVENT
DTSTART;TZID=Europe/Andorra:20231201T190000
DTEND;TZID=Europe/Andorra:20231201T190000
DTSTAMP:20260422T025502
CREATED:20231128T160409Z
LAST-MODIFIED:20250710T082941Z
UID:20626-1701457200-1701457200@octubre.cat
SUMMARY:Presentació del llibre Els subtítols del desig\, d’Agustí Clua
DESCRIPTION:Premi Teodor Llorente de Novel·la de la Pobla de Vallbona 2023.\nAmb l’autor acompanyat per l’editor Manuel Gil. \nFebrer de 2019. Mentre el país viu en la incertesa sobre el seu futur\, dues dones i un home es troben en una habitació d’hotel per a envestir tots els ressorts del plaer\, en una nit que marcarà del tot les seves vides. Allí es forja una història d’amor i de passions\, d’enyors i de melangia\, de futurs ressentiments i revenges. \nMés enllà de les evolucions d’aquests tres personatges\, Els subtítols del desig és una reflexió sobre el futur de la literatura\, de la crisi climàtica\, del poder de la televisió i els mitjans\, i de les sempre difícils relacions entre la ciutat i el món rural. \n  \n \n(Vincle)
URL:https://octubre.cat/activitat/presentacio-del-llibre-els-subtitols-del-desig-dagusti-clua/
LOCATION:Llibreria Fan Set
CATEGORIES:Literatura
ATTACH;FMTTYPE=image/jpeg:https://octubre.cat/www/wp-content/uploads/2023/11/agusti-clua.jpg
END:VEVENT
BEGIN:VEVENT
DTSTART;TZID=Europe/Andorra:20231201T200000
DTEND;TZID=Europe/Andorra:20231201T200000
DTSTAMP:20260422T025502
CREATED:20231122T163414Z
LAST-MODIFIED:20231122T173546Z
UID:20597-1701460800-1701460800@octubre.cat
SUMMARY:Teatre: L’home del vol vertical\, de Joan Gomila
DESCRIPTION:L’espectacle recrea la nit del 7 de desembre de 1965\, a l’hospici de Llucmajor\, al convent de les monges de la Caritat. Pere Sastre\, ja moribund\, passa la seva darrera nit\, acompanyat pel seu amic Gabriel Moragues. A les cases de Son Gall\, que estan en un estat llastimós\, en Pere Sastre hi viu i hi guarda el que ha estat la seva raó de viure: el «Cometa-gira-avió» (un precursor llucmajorer de l’helicòpter). Queda atrapat entre les bigues\, quan aquestes passen per ull\, després d’unes plogudes intenses. Pere\, en pèssimes condicions\, és recollit uns dies després per uns amics que el deixen a càrrec de les monges. Gabriel Moragues\, interpretat per Joan Gomila\, serà el qui a partir d’una narració al seu amic\, li recordarà la seva història i li rendirà el tribut per la gran admiració que li professa. \nQuatre seran els principals protagonistes d’aquesta història que se deixa endur per l’emoció de fracassos i èxits. Aquests quatre personatges reals són\, a més de Pere Sastre\, el gran pedagog Rufino Carpena\, el famós aviador americà Charles Lindberg i l’enginyer Juan de la Cierva. \nNo és una història decimonònica\, encara que recrea els feliços anys vint dels segle passat. És una història actual\, que parla de les desigualtats socials\, del poder i dels somnis de les persones. \n  \n \n  \nAUTOR: Joan Gomila\nINTÈRPRETS: Joan Gomila\, Xesca Forteza i Joan Aguiló.\nDIRECCIÓ ACTORAL: Frederic Roda\nAJUDANTIA DIRECCIÓ: Francina G. Ars.\nDIRECCIÓ\, PRODUCCIÓ I CONCEPTE ESPECTACLE: Joan Gomila\nDISSENY DE L’ESCENOGRAFIA I VESTUARI: Joana Serra\nCONSTRUCCIÓ ESCENOGRAFIA: Felip Forteza\nPRODUCCIÓ EXECUTIVA I ASSISTÈNCIA TÈCNICA: Antoni Gomila Servera\nTÈCNIC DE SO I VÍDEO: Gabriel Padilla\nIL·LUMINACIÓ: Joan Gomila i Gabriel Padilla\nFOTOGRAFIA: Joan Servera\nVÍDEO: Domènec Boronat\nGRAFISME: Impremta Leo\nUna producció de La Fornal d’Espectacles
URL:https://octubre.cat/activitat/teatre-lhome-del-vol-vertical-de-joan-gomila/
LOCATION:Sala d’actes
CATEGORIES:Teatre
ATTACH;FMTTYPE=image/jpeg:https://octubre.cat/www/wp-content/uploads/2023/11/Teatre07.jpg
END:VEVENT
END:VCALENDAR