BEGIN:VCALENDAR
VERSION:2.0
PRODID:-//Octubre Centre de Cultura Contemporània - ECPv5.1.6//NONSGML v1.0//EN
CALSCALE:GREGORIAN
METHOD:PUBLISH
X-WR-CALNAME:Octubre Centre de Cultura Contemporània
X-ORIGINAL-URL:https://octubre.cat
X-WR-CALDESC:Events for Octubre Centre de Cultura Contemporània
BEGIN:VTIMEZONE
TZID:Europe/Andorra
BEGIN:DAYLIGHT
TZOFFSETFROM:+0100
TZOFFSETTO:+0200
TZNAME:CEST
DTSTART:20230326T010000
END:DAYLIGHT
BEGIN:STANDARD
TZOFFSETFROM:+0200
TZOFFSETTO:+0100
TZNAME:CET
DTSTART:20231029T010000
END:STANDARD
BEGIN:DAYLIGHT
TZOFFSETFROM:+0100
TZOFFSETTO:+0200
TZNAME:CEST
DTSTART:20240331T010000
END:DAYLIGHT
BEGIN:STANDARD
TZOFFSETFROM:+0200
TZOFFSETTO:+0100
TZNAME:CET
DTSTART:20241027T010000
END:STANDARD
END:VTIMEZONE
BEGIN:VEVENT
DTSTART;TZID=Europe/Andorra:20231103T160000
DTEND;TZID=Europe/Andorra:20231117T210000
DTSTAMP:20260422T040907
CREATED:20231019T103446Z
LAST-MODIFIED:20250710T101012Z
UID:20511-1699027200-1700254800@octubre.cat
SUMMARY:El Rector de Vallfogona. Història i mite
DESCRIPTION:Any Rector de Vallfogona \nAmb el Rector de Vallfogona passa una cosa curiosa: tothom n’ha sentit a parlar però hi ha poca gent que sàpiga exactament qui és. A alguns ens ha arribat a través d’una rondalla\, un acudit o una cançó; a d’altres ens han explicat\, a l’escola o a la universitat\, que és l’autor d’un sonet sobre una dama que es pentina; per a d’altres\, és poc més que un nom que no sabem exactament on situar. En gran mesura\, això es deu al fet que es tracta d’una figura complexa\, en la qual es combina un component històric\, un de literari i un de llegendari. \nEn primer lloc\, es tracta d’un personatge històric\, és a dir\, un home que va viure a cavall dels segles XVI i XVII i l’existència del qual es pot demostrar perquè diferents fets de la seva vida consten en documents escrits. El seu nom era Francesc Vicent Garcia i Ferrandis. Va néixer a Saragossa el 1579 i va morir a Vallfogona de Riucorb el 1623. Va fer una carrera relativament exitosa dins la jerarquia eclesiàstica i segurament ho hauria estat força més si no hagués mort amb tan sols 44 anys. \n  \n \n  \nEn segon lloc\, Garcia va ser un poeta. I no pas un poeta qualsevol\, sinó el primer poeta en llengua catalana que escriu a la manera dels poetes barrocs. La seva obra\, d’una qualitat excepcional\, va ser reconeguda arreu del Principat\, ja en vida seva\, i després es convertirà en el gran referent de la poesia en llengua catalana fins a la Renaixença. \nEn tercer lloc\, el Rector també és un mite que forma part de l’imaginari col·lectiu català\, on apareix com el paradigma del clergue enginyós\, murri i sorneguer. Això s’explica perquè\, en paral·lel al seu reconeixement dins el món literari\, la veu popular havia anat escampant arreu del territori tot un repertori d’anècdotes gracioses de les quals era el protagonista. Aquestes anècdotes\, que tenien ben poc a veure amb la seva vida real\, eren contalles de l’humor clerical de l’època que es van anar atribuint a Garcia\, probablement perquè la seva poesia havia estat majoritàriament satírica i ell\, un personatge popular. \n—\nComissari: Josep Pedrals\nUna producció de la Institució de les Lletres Catalanes\, amb la col·laboració del Servei de Biblioteques de la Generalitat de Catalunya.
URL:https://octubre.cat/activitat/el-rector-de-vallfogona-historia-i-mite/
LOCATION:Hall
CATEGORIES:Exposicions,Literatura
ATTACH;FMTTYPE=image/jpeg:https://octubre.cat/www/wp-content/uploads/2023/10/logo-rector-vallfogona-h.jpg
END:VEVENT
BEGIN:VEVENT
DTSTART;TZID=Europe/Andorra:20231115T120000
DTEND;TZID=Europe/Andorra:20240106T000000
DTSTAMP:20260422T040907
CREATED:20231110T084051Z
LAST-MODIFIED:20250710T055429Z
UID:20563-1700049600-1704499200@octubre.cat
SUMMARY:VI Biennal de València – Ciutat Vella Oberta 2023
DESCRIPTION:La Biennal de València – Ciutat Vella Oberta és un projecte cultural amb vocació multidisciplinar\, l’objectiu del qual és projectar al món la identitat valenciana i visibilitzar la producció artística al nostre “Circuit de l’Art”.\nIntegrada per artistes\, agents culturals i teòrics de l´art\, la Biennal s´articula mitjançant una xarxa d´accions que connecten els tallers d´artista\, els espais públics i les institucions. En l’edició d’enguany i entre d’altres\, participen el Centre del Carme\, l’IVAM\, el Museu de Belles Arts\, el CM. Rector Peset de la Universitat de València i la Facultat de Belles Arts de la Universitat Politècnica de València. \n  \n \n  \nExposició a l’Octubre CCC \nObres de:\nDaniel Acuña\, Rossi Aguilar\, María Ángeles Aguilera\, Gemma Alpuente\, Tania Ansio\, Ana Gloria Arjona García\, Maite Backman\, José María Cal\, Araceli Carrión\, Yolanda Catalán\, Jeanne M Connolly\, David Delgado\, Luis Amado De Sousa Villalba\, Marta Fenollar\, Pedro Gandía\, Valeria Gatti\, Manolo Gil Labrandero\, Santiago Gómez Carreras\, Anton Gudzykevych\, Miguel Hache\, Nacho Igual\, Ilole\, Aleksandra Istorik\, Joaquín Ivars Ruiz\, Davinia Lacht\, Cristina Lanfranchi\, Fufu Lène\, Ana Márcia Varela\, Lola Mas Hernández\, Raquel Mira Bastidas\, Blas Miras\, Carlota Mollet\, Mayte Navarro Golf\, Arlette Olaerts\, Elisa Ortega\, Magda Pintos\, Isabel Planellsm\, Marlén Ramos Soler\, Lole Remón\, Susana Roig Hervás\, Amaranta Sánchez\, Teo San José Aguilar\, Estefanía Sanz Ávila\, María Carolina Tapia\, Silvia Vinao. \n \nArtistes seleccionats en exposició digital:\nAbenamar Bauta\, Ana del Aguila Malvaez\, Ana Mantezi\, Alvaro Ramos Candia\, Carla Forte\, Cecilia Heredia\, Claudia Adriazola\, Irina Novikava\, Ivonne Portillo Sierra\, José Ney Mila Espinosa\, Juan Pablo Romero Valle\, Kyria Oliveira\, Leonardo Mayer\, Lía Sabela\, Luis Alejandro Sánchez\, Mariela Soldano\, Mathias Escotto Gadea\, Martin Brion\, Serena Dreamer\, Silvia Neves\, Silvina Cerminara. \n—\nOrganitzat per la Biennal de València – Ciutat Vella Oberta amb la col·laboració de l’Octubre CCC
URL:https://octubre.cat/activitat/vi-biennal-de-valencia-ciutat-vella-oberta-2023/
LOCATION:Sala d’exposicions
CATEGORIES:Exposicions
ATTACH;FMTTYPE=image/png:https://octubre.cat/www/wp-content/uploads/2021/11/mixto_-CVO-Y-BIENNAL-@2x.png
END:VEVENT
BEGIN:VEVENT
DTSTART;TZID=Europe/Andorra:20231117T190000
DTEND;TZID=Europe/Andorra:20231117T190000
DTSTAMP:20260422T040907
CREATED:20231113T193335Z
LAST-MODIFIED:20231115T164652Z
UID:20570-1700247600-1700247600@octubre.cat
SUMMARY:Taula redona "Per la pau a Palestina"
DESCRIPTION:Amb la participació de\n—Andrés Perelló (director de Casa Mediterráneo)\n—Lola Bañón (periodista)\n—Vicent Garcés (president de la Fundació ACM)\n—Daud Marwan (representant d’Al Fatah\, València)\n—Michael Warschawski (president del Centre d’Informació Alternatiu\, Tel Aviv)\nModera: Margarita Belinchón (membre del patronat de la Fundació ACM) \n—\nOrganitzat per la Fundació Assemblea de Ciutadans i Ciutadanes del Mediterrani i Casa Mediterráneo amb la col·laboració de l’Octubre CCC
URL:https://octubre.cat/activitat/taula-redona-per-la-pau-a-palestina/
LOCATION:Àtic
CATEGORIES:Conferències i congressos
ATTACH;FMTTYPE=image/jpeg:https://octubre.cat/www/wp-content/uploads/2023/11/colom.jpg
END:VEVENT
BEGIN:VEVENT
DTSTART;TZID=Europe/Andorra:20231117T200000
DTEND;TZID=Europe/Andorra:20231117T200000
DTSTAMP:20260422T040907
CREATED:20230917T082012Z
LAST-MODIFIED:20230917T084416Z
UID:20372-1700251200-1700251200@octubre.cat
SUMMARY:Laura Esparza
DESCRIPTION:Laura Esparza és una cantautora nascuda a València\, amb una gran trajectòria musical darrere. La seua música indie-pop neix de les seues pròpies experiències i transforma les seues lletres en cançons sinceres i profundes. \nAmb una carrera musical diversa que inclou jazz\, música tradicional i teatre musical\, Laura ha decidit capitanejar el seu propi projecte musical en aquesta nova etapa. \nAmb “Tenda”\, la cantant demostra que la seua música és capaç de capturar l’essència dels sentiments més complexos i fer-los accessibles per a tothom. \n  \n \n—\n“Amb veu de dona 2023” és el tercer cicle de cantautores (de sis concerts) organitzat per Acció Cultural del País Valencià a l’Octubre CCC amb la col·laboració de la Conselleria d’Igualtat i Polítiques Inclusives de la Generalitat Valenciana i de la Diputació de València.
URL:https://octubre.cat/activitat/laura-esparza/
LOCATION:Sala d’actes
CATEGORIES:Amb veu de dona 2023
ATTACH;FMTTYPE=image/png:https://octubre.cat/www/wp-content/uploads/2023/09/laura-esparza-behetria-1024x576-1.png
END:VEVENT
END:VCALENDAR