BEGIN:VCALENDAR
VERSION:2.0
PRODID:-//Octubre Centre de Cultura Contemporània - ECPv5.1.6//NONSGML v1.0//EN
CALSCALE:GREGORIAN
METHOD:PUBLISH
X-WR-CALNAME:Octubre Centre de Cultura Contemporània
X-ORIGINAL-URL:https://octubre.cat
X-WR-CALDESC:Events for Octubre Centre de Cultura Contemporània
BEGIN:VTIMEZONE
TZID:Europe/Andorra
BEGIN:DAYLIGHT
TZOFFSETFROM:+0100
TZOFFSETTO:+0200
TZNAME:CEST
DTSTART:20230326T010000
END:DAYLIGHT
BEGIN:STANDARD
TZOFFSETFROM:+0200
TZOFFSETTO:+0100
TZNAME:CET
DTSTART:20231029T010000
END:STANDARD
END:VTIMEZONE
BEGIN:VEVENT
DTSTART;TZID=Europe/Andorra:20231020T190000
DTEND;TZID=Europe/Andorra:20231026T140000
DTSTAMP:20260422T052219
CREATED:20231022T075806Z
LAST-MODIFIED:20250710T055345Z
UID:20521-1697828400-1698328800@octubre.cat
SUMMARY:Exposició "Alcoi\, 1873. La Revolució del Petroli"
DESCRIPTION:Aquest any es commemora el 150 aniversari d’una revolta de caire llibertari que ha estat catalogada pels historiadors com la insurrecció obrera més important del segle XIX al nostre país. Per això\, des d’Alcoi\, on van ocórrer els fets\, un grapat de docents va crear el Col·lectiu #Revolta1873 amb la intenció de donar a conèixer els fets “lluny de mites i mentides”. \nAmb aquesta premissa es presenta el curt documental que gràcies al micromecenatge va veure la llum a principi d’any. En paral·lel\, des de l’IES públic Andreu Sempere d’Alcoi\, l’alumnat del batxillerat artístic i de la formació professional bàsica d’arts gràfiques van preparar il·lustracions per alimentar l’audiovisual. Amb el temps aquestes imatges es van convertir en una exposició i en una publicació en valencià\, castellà\, anglès i francès per difondre l’esdeveniment. \n  \n \n—\nOrganitzat pel sindicat CGT amb la col·laboració de La Teixidora i de l’Octubre CCC
URL:https://octubre.cat/activitat/exposicio-alcoi-1873-la-revolucio-del-petroli/
LOCATION:Hall
CATEGORIES:Exposicions
ATTACH;FMTTYPE=image/jpeg:https://octubre.cat/www/wp-content/uploads/2023/10/etroli-alcoi-01.jpeg
END:VEVENT
BEGIN:VEVENT
DTSTART;TZID=Europe/Andorra:20231026T180000
DTEND;TZID=Europe/Andorra:20231026T180000
DTSTAMP:20260422T052219
CREATED:20231019T142913Z
LAST-MODIFIED:20231019T142913Z
UID:20515-1698343200-1698343200@octubre.cat
SUMMARY:Cinema: Un embolic inesperat\, de Melissa Drigeard i Ibrahim Hamdan
DESCRIPTION:La vida somriu a Audrey i a Jérôme. Tenen tres fills meravellosos i una vida professional perfecta. Un cap de setmana\, decideixen viatjar cadascun pel seu compte… amb els seus respectius amants. Només que tots dos han tingut la mateixa idea: anar a la seua casa de camp. \nTítol original: Tout nous sourit\nDirecció: Melissa Drigeard i Ibrahim Hamdan\nGuió: Melissa Drigeard\, Vincent Juillet\nMúsica: Brad Thomas Ackley\nFotografia: Myriam Vinocour\nRepartiment: Elsa Zylberstein\, Stéphane De Groodt\, Guy Marchand\, Chine Thybaud\, Baptiste Clavely\, Karidja Touré\nCoproducció França – Bèlgica (2020)\nVersió doblada al català\nDurada: 95’ \n  \n \nProjecció organitzada per Cappepv / Escola Valenciana amb la col·laboració de l’Octubre CCC.
URL:https://octubre.cat/activitat/cinema-un-embolic-inesperat-de-melissa-drigeard-i-ibrahim-hamdan/
LOCATION:Sala d’actes
CATEGORIES:Cinema
ATTACH;FMTTYPE=image/jpeg:https://octubre.cat/www/wp-content/uploads/2023/10/tout_nous_sourit.jpg
END:VEVENT
BEGIN:VEVENT
DTSTART;TZID=Europe/Andorra:20231026T190000
DTEND;TZID=Europe/Andorra:20231026T190000
DTSTAMP:20260422T052220
CREATED:20230920T095223Z
LAST-MODIFIED:20231017T163403Z
UID:20393-1698346800-1698346800@octubre.cat
SUMMARY:Presentació del llibre I si una nació desfilant per una catifa vermella\, de  Juana Dolores
DESCRIPTION:Aquest llibre és un artefacte polític i artístic. Un rèquiem\, una missa per a difunts on Juana Dolores invoca la nació catalana i\, al mateix temps\, la interpreta. Per això\, amb un estil i un llenguatge radicalment en femení\, nacional i popular\, ha conjurat «contra el vell món que va morir\, contra el nou món que no va aparèixer\, contra els monstres que en aquest clarobscur sorgeixen en forma de poetes\, líders i amants\, que han renunciat al sentit de la identitat. I han poetitzat\, liderat\, estimat aquest país\, apòcrifament». Així com en tota la seva obra\, Juana Dolores idea i crea a partir de la tensió entre la ideologia i la bellesa. \n  \n \n(Edicions Poncianes)
URL:https://octubre.cat/activitat/presentacio-del-llibre-i-si-una-nacio-desfilant-per-una-catifa-vermella-de-juana-dolores/
LOCATION:Llibreria Fan Set
CATEGORIES:Literatura
ATTACH;FMTTYPE=image/jpeg:https://octubre.cat/www/wp-content/uploads/2023/09/Foto-Juana-Dolores-scaled.jpg
END:VEVENT
END:VCALENDAR