BEGIN:VCALENDAR
VERSION:2.0
PRODID:-//Octubre Centre de Cultura Contemporània - ECPv5.1.6//NONSGML v1.0//EN
CALSCALE:GREGORIAN
METHOD:PUBLISH
X-WR-CALNAME:Octubre Centre de Cultura Contemporània
X-ORIGINAL-URL:https://octubre.cat
X-WR-CALDESC:Events for Octubre Centre de Cultura Contemporània
BEGIN:VTIMEZONE
TZID:Europe/Andorra
BEGIN:DAYLIGHT
TZOFFSETFROM:+0100
TZOFFSETTO:+0200
TZNAME:CEST
DTSTART:20230326T010000
END:DAYLIGHT
BEGIN:STANDARD
TZOFFSETFROM:+0200
TZOFFSETTO:+0100
TZNAME:CET
DTSTART:20231029T010000
END:STANDARD
END:VTIMEZONE
BEGIN:VEVENT
DTSTART;TZID=Europe/Andorra:20231016T180000
DTEND;TZID=Europe/Andorra:20231024T210000
DTSTAMP:20260422T051848
CREATED:20231018T084855Z
LAST-MODIFIED:20231018T084855Z
UID:20508-1697479200-1698181200@octubre.cat
SUMMARY:9é Festival de Cinema Ciutadà Compromès
DESCRIPTION:Del 16 al 24 d’octubre de 2023\n66 projeccions a sales de tot el País Valencià\, incloent-hi l’Octubre CCC.\nDescarrega el programa complet en aquest enllaç \nLes categories de premis són les següents:\n–Premi Audiovisual en Valencià\n–Premi Ciutadania (per a produccions socials\, sobre participació o reivindicatius)\n–Memòria Democràtica i Històrica\n–Igualtat i diversitat\n–Ecologia i Canvi Climàtic\n–Drets Humans i Cultura de Pau\n–Innovació i Digitalització\n–Premi Especial del Públic\n–Premi Audiovisual Accessible \n—\nOrganitzat per Acicom amb la col·laboració d’ACPV
URL:https://octubre.cat/activitat/9e-festival-de-cinema-ciutada-compromes/
LOCATION:Espais diversos
CATEGORIES:Cinema
ATTACH;FMTTYPE=image/jpeg:https://octubre.cat/www/wp-content/uploads/2023/10/Sense-titol.jpg
END:VEVENT
BEGIN:VEVENT
DTSTART;TZID=Europe/Andorra:20231018T180000
DTEND;TZID=Europe/Andorra:20231018T180000
DTSTAMP:20260422T051848
CREATED:20230905T093308Z
LAST-MODIFIED:20250710T084507Z
UID:20277-1697652000-1697652000@octubre.cat
SUMMARY:Cinema: Lyra\, d’Alison Millar
DESCRIPTION:El 17 d’abril de 2019 Lyra McKee va ser assassinada a la ciutat de Derry (Irlanda) per la nova IRA. Tenia només 29 anys. La Lyra era una celebrada periodista d’investigació i activista LGTBIQ+ nord-irlandesa que va tenir el valor de fer les preguntes incòmodes que ningú al seu país semblava voler fer. Travessada pel conflicte estructural de la seva terra\, la Lyra mai es va deixar aturar per la por amb la convicció que acabar amb la violència era possible. “Estic treballant en una història que implica fer-me preguntes sobre persones perilloses”. A partir d’aquesta afirmació el documental d’Alison Millar explora la vida de la Lyra i la seva tràgica mort posant l’accent en la seva brillant carrera periodística\, els seus valors humans i el seu profund amor cap a Irlanda. Premiada a Sheffield 2022. \n  \n \n  \nDirecció: Alison Millar\nProducció Executiva: Erica Starling Productions Ltd\nIrlanda i Regne Unit (2022)\nVO en anglès subtitulada en català\nDurada: 92’ \n  \n \nCicle “Acció Documental +” organitzat per ACICOM i ACPV. DocsBarcelona / El documental del mes.
URL:https://octubre.cat/activitat/cinema-lyra-dalison-millar/
LOCATION:Sala d’actes
CATEGORIES:Acció Documental +
ATTACH;FMTTYPE=image/jpeg:https://octubre.cat/www/wp-content/uploads/2023/09/Lyra_still-6.jpg
END:VEVENT
BEGIN:VEVENT
DTSTART;TZID=Europe/Andorra:20231018T190000
DTEND;TZID=Europe/Andorra:20231018T190000
DTSTAMP:20260422T051848
CREATED:20230905T162450Z
LAST-MODIFIED:20231006T081033Z
UID:20298-1697655600-1697655600@octubre.cat
SUMMARY:Presentació del llibre Massa deutes amb les flors\, de Iolanda Batallé
DESCRIPTION:Amb l’autora acompanyada per Núria Cadenes i Purificació Mascarell. \nUna dona en crisi s’instal·la en una casa a les muntanyes amb l’esperança de poder-se refer escrivint en solitud. No preveu\, però\, que les persones ferides es reconeixen i s’ajuden\, i és així com serà acollida per una família després d’una vivència colpidora.\nLa importància de dir les coses\, la necessitat d’escoltar i d’explicar\, l’empatia\, la tendresa i el dol compartit faran que\, conversa rere conversa\, l’escriptora reconstrueixi una història familiar que és un cant d’amor a la vida en les valls altes del Pirineu. \n  \n \n(Columna)
URL:https://octubre.cat/activitat/presentacio-del-llibre-massa-deutes-amb-les-flors-de-iolanda-batalle/
LOCATION:Llibreria Fan Set
CATEGORIES:Literatura
ATTACH;FMTTYPE=image/jpeg:https://octubre.cat/www/wp-content/uploads/2023/09/iolanda_batalle.jpg
END:VEVENT
BEGIN:VEVENT
DTSTART;TZID=Europe/Andorra:20231018T190000
DTEND;TZID=Europe/Andorra:20231018T190000
DTSTAMP:20260422T051848
CREATED:20231006T075435Z
LAST-MODIFIED:20231006T075435Z
UID:20462-1697655600-1697655600@octubre.cat
SUMMARY:I Jornades Dones Creadores
DESCRIPTION:Sessió 1: Dones i arts escèniques \nPrograma:\n–“Creant des dels marges”\, improvisació amb La Mar Salà.\n–Conversa amb Joana Börsch (Fugint de l’Escalímpal)\, Marina Mulet i Anna Berenguer (Va com Va Teatre)\, Maria Colomer i Carme Rubio (La Mar Salà) i Maite Bacete-Garcia (directora del Conservatori Professional de Dansa València). \nCondueix: Anna Gascon\, especialista en teatre en l’educació \n—\nOrganitzat per Acció Cultural del País Valencià
URL:https://octubre.cat/activitat/i-jornades-dones-creadores/
LOCATION:Hall
CATEGORIES:I Jornades Dones Creadores
ATTACH;FMTTYPE=image/jpeg:https://octubre.cat/www/wp-content/uploads/2023/10/dones-creadores.jpg
END:VEVENT
END:VCALENDAR