BEGIN:VCALENDAR
VERSION:2.0
PRODID:-//Octubre Centre de Cultura Contemporània - ECPv5.1.6//NONSGML v1.0//EN
CALSCALE:GREGORIAN
METHOD:PUBLISH
X-WR-CALNAME:Octubre Centre de Cultura Contemporània
X-ORIGINAL-URL:https://octubre.cat
X-WR-CALDESC:Events for Octubre Centre de Cultura Contemporània
BEGIN:VTIMEZONE
TZID:Europe/Andorra
BEGIN:DAYLIGHT
TZOFFSETFROM:+0100
TZOFFSETTO:+0200
TZNAME:CEST
DTSTART:20230326T010000
END:DAYLIGHT
BEGIN:STANDARD
TZOFFSETFROM:+0200
TZOFFSETTO:+0100
TZNAME:CET
DTSTART:20231029T010000
END:STANDARD
END:VTIMEZONE
BEGIN:VEVENT
DTSTART;TZID=Europe/Andorra:20231005T190000
DTEND;TZID=Europe/Andorra:20231005T190000
DTSTAMP:20260422T051855
CREATED:20230908T093550Z
LAST-MODIFIED:20230908T093550Z
UID:20340-1696532400-1696532400@octubre.cat
SUMMARY:Presentació del llibre Una historia de violencia. La Transición valenciana (1975-1982)\, de  Borja Ribera
DESCRIPTION:Presentació a càrrec de:\n—Vicent Soler (Economista i president de la Fundació ADEIT)\n—Anaclet Pons (Catedràtic d’Història Contemporània de la Universitat de València)\n—Vicent Flor (Sociòleg i director de la Institució Alfons el Magnànim)\n—Borja Ribera (Historiador i autor del llibre) \nDurant la Transició va haver-hi al País Valencià centenars d’episodis violents políticament motivats. Atemptats amb bomba hi va haver un mínim de seixanta-vuit. La majoria d’aquestes accions van ser obra de grups d’extrema dreta i anticatalanistes\, els quals amb freqüència es mimetitzaven. Aquest llibre\, fruit de més de cinc anys de recerca\, analitza en profunditat el que va passar aquells anys\, demostrant que almenys una part d’aquella violència es va dur a terme amb consentiment de les autoritats i fins i tot amb la complicitat de càrrecs electes d’UCD. \n  \n \n(Tirant)
URL:https://octubre.cat/activitat/presentacio-del-llibre-una-historia-de-violencia-la-transicion-valenciana-1975-1982-de-borja-ribera/
LOCATION:Llibreria Fan Set
CATEGORIES:Literatura
ATTACH;FMTTYPE=image/jpeg:https://octubre.cat/www/wp-content/uploads/2023/09/borja-ribera.jpg
END:VEVENT
BEGIN:VEVENT
DTSTART;TZID=Europe/Andorra:20231005T193000
DTEND;TZID=Europe/Andorra:20231005T193000
DTSTAMP:20260422T051855
CREATED:20230929T074803Z
LAST-MODIFIED:20230929T074803Z
UID:20438-1696534200-1696534200@octubre.cat
SUMMARY:Estrena de Derelicte\, el bioclip del grup Palmer
DESCRIPTION:Estrena en primícia del migmetratge que combina videoclips i fragments documentals al voltant del disc Derelicte (Bureo Músiques\, 2023) del grup Palmer. \nPresentació a càrrec de Jaume G. Llorens\, doctor en Llengües i Cultures Europees. Col·loqui posterior amb Jaume G. Llorens i els integrants del grup Palmer\, Aina Monferrer i Jordi Palou. \n  \n \n—\nOrganitzat per ACPV Joves
URL:https://octubre.cat/activitat/estrena-de-derelicte-el-bioclip-del-grup-palmer/
LOCATION:Sala d’actes
CATEGORIES:Cinema,Música
ATTACH;FMTTYPE=image/jpeg:https://octubre.cat/www/wp-content/uploads/2023/09/Pa_Lao_i_Aina_Monferrer_al_Tenderete_-_01.jpg
END:VEVENT
END:VCALENDAR