BEGIN:VCALENDAR
VERSION:2.0
PRODID:-//Octubre Centre de Cultura Contemporània - ECPv5.1.6//NONSGML v1.0//EN
CALSCALE:GREGORIAN
METHOD:PUBLISH
X-WR-CALNAME:Octubre Centre de Cultura Contemporània
X-ORIGINAL-URL:https://octubre.cat
X-WR-CALDESC:Events for Octubre Centre de Cultura Contemporània
BEGIN:VTIMEZONE
TZID:Europe/Andorra
BEGIN:DAYLIGHT
TZOFFSETFROM:+0100
TZOFFSETTO:+0200
TZNAME:CEST
DTSTART:20230326T010000
END:DAYLIGHT
BEGIN:STANDARD
TZOFFSETFROM:+0200
TZOFFSETTO:+0100
TZNAME:CET
DTSTART:20231029T010000
END:STANDARD
END:VTIMEZONE
BEGIN:VEVENT
DTSTART;TZID=Europe/Andorra:20230916T100000
DTEND;TZID=Europe/Andorra:20230916T213000
DTSTAMP:20260422T063041
CREATED:20230911T082541Z
LAST-MODIFIED:20230913T131723Z
UID:20345-1694858400-1694899800@octubre.cat
SUMMARY:Trobada d’Estiu de Joves ACPV
DESCRIPTION:Un punt de referència de projectes urbans i digitals. S’han preparat activitats diferents que duraran tot el dia: tindrem tallers\, música\, exposicions\, xerrades\, converses amb creadors i molt més. \n10:00 h: Inici de la Trobada d’Estiu. \n10:30 h: Taller de creació digital. Amb Llet i Vi i Patè i Avant. \n11:30 h: Concurs de mems. Amb Xufet i Memes Alcoi. \n12:45 h: Projectes digitals. Amb Poetry Spam\, Tresdeu\, És País Valencià\, Disruptive Pattern i Irina Sánchez. \n16:30 h: Converses instantànies. \n16:30 h: Lettering. Amb Cesc Roca. \n16:30 h: Taller de moda i complements. Amb @Meeryag i @Mariolarua \n17:00 h: Mostra de serigrafia. Amb Ubeefe. \n18:30 h: Concerts. Amb Avant\, Centvi Dj i DJ Nix. \nAl llarg de tot el dia hi haurà la confecció d’un mural conjunt i fira de projectes/entitats. \n  \n\n—\nOrganitzat per Joves d’Acció Cultural del País Valencià
URL:https://octubre.cat/activitat/trobada-destiu-de-joves-acpv/
LOCATION:Hall
CATEGORIES:Conferències i congressos,Els tallers de l'Octubre,Música
ATTACH;FMTTYPE=image/jpeg:https://octubre.cat/www/wp-content/uploads/2023/09/trobada-joves-digital-cap.jpg
END:VEVENT
END:VCALENDAR