BEGIN:VCALENDAR
VERSION:2.0
PRODID:-//Octubre Centre de Cultura Contemporània - ECPv5.1.6//NONSGML v1.0//EN
CALSCALE:GREGORIAN
METHOD:PUBLISH
X-WR-CALNAME:Octubre Centre de Cultura Contemporània
X-ORIGINAL-URL:https://octubre.cat
X-WR-CALDESC:Events for Octubre Centre de Cultura Contemporània
BEGIN:VTIMEZONE
TZID:Europe/Andorra
BEGIN:DAYLIGHT
TZOFFSETFROM:+0100
TZOFFSETTO:+0200
TZNAME:CEST
DTSTART:20230326T010000
END:DAYLIGHT
BEGIN:STANDARD
TZOFFSETFROM:+0200
TZOFFSETTO:+0100
TZNAME:CET
DTSTART:20231029T010000
END:STANDARD
END:VTIMEZONE
BEGIN:VEVENT
DTSTART;TZID=Europe/Andorra:20230912T190000
DTEND;TZID=Europe/Andorra:20230912T190000
DTSTAMP:20260422T062817
CREATED:20230904T144219Z
LAST-MODIFIED:20230904T144219Z
UID:20267-1694545200-1694545200@octubre.cat
SUMMARY:La Podcastera de l’Octubre: Deparkineo
DESCRIPTION:Gravació en directe d’un pòdcast amb públic\, a càrrec de Deparkineo\, el pòdcast de les periodistes valencianes Carmen Alonso\, Maria Devesa\, i Marta Meneu que ofereix un producte en format conversacional fet per i per a gent jove. L’enregistren un cop cada mes a Ràdio Godella (Horta Nord). \nEntre altres llocs podeu seguir-les a Spotify\, Ivoox i Youtube. \nEntrada lliure \n \n—\nOrganitzat per ACPV Joves
URL:https://octubre.cat/activitat/la-podcastera-de-loctubre-deparkineo/
LOCATION:Sala d’actes
CATEGORIES:La Podcastera de l'Octubre CCC
ATTACH;FMTTYPE=image/jpeg:https://octubre.cat/www/wp-content/uploads/2023/04/podcastera-general.jpg
END:VEVENT
END:VCALENDAR