BEGIN:VCALENDAR
VERSION:2.0
PRODID:-//Octubre Centre de Cultura Contemporània - ECPv5.1.6//NONSGML v1.0//EN
CALSCALE:GREGORIAN
METHOD:PUBLISH
X-WR-CALNAME:Octubre Centre de Cultura Contemporània
X-ORIGINAL-URL:https://octubre.cat
X-WR-CALDESC:Events for Octubre Centre de Cultura Contemporània
BEGIN:VTIMEZONE
TZID:Europe/Andorra
BEGIN:DAYLIGHT
TZOFFSETFROM:+0100
TZOFFSETTO:+0200
TZNAME:CEST
DTSTART:20230326T010000
END:DAYLIGHT
BEGIN:STANDARD
TZOFFSETFROM:+0200
TZOFFSETTO:+0100
TZNAME:CET
DTSTART:20231029T010000
END:STANDARD
END:VTIMEZONE
BEGIN:VEVENT
DTSTART;TZID=Europe/Andorra:20230705T190000
DTEND;TZID=Europe/Andorra:20230728T210000
DTSTAMP:20260424T092354
CREATED:20230620T161034Z
LAST-MODIFIED:20250710T055305Z
UID:20151-1688583600-1690578000@octubre.cat
SUMMARY:«El cau de les sorpreses»\, de Josep Sou
DESCRIPTION:(objectes cínics i alliberats) \n«Quan tot resta en silenci se sent la veu dels objectes que parlen. I des de la solitud\, des de l’abandó d’una vida\, més o menys quotidiana\, la remor de les coses que diuen sobrevola el nostre entorn. \nAixí\, els objectes\, fora del seu àmbit acostumat\, creixen en proposta estètica; potser ens fan raons a cau d’orella per a dir-nos de la vida i de l’existència. Una mena de discurs callat\, de paraules mai no dites\, però de complicitats que ens donen la mà cap a un nou món on\, quasi segur\, creix el coneixement. \nLa poètica experimental té algunes coses que viuen al si del misteri. L’assaig líric propicia el dir joglaresc d’una altra manera\, amb uns altres suports que van més enllà de la paraula\, tot combinant-se amb les imatges. I és un deure entusiasmant escorcollar el món de les idees per a collir\, tal vegada\, una petita engruna d’intel·ligència\, d’humor i d’ironia. La pulsió vital també ens ho demana. \nAmb les imatges que presentem hem construït un modest univers de comunicació poètica per a contar històries i aproximar-nos a tots aquells que generosament ens acompanyen» \nj. sou \n  \n \n  \n \nJosep Sou\, Alcoi 1951. Estudia Filosofia i lletres a València i Salamanca. Doctor en Belles Arts per la Universitat Miguel Hernández d’Elx. Professor de Pintura Urbana a la mateixa universitat. Director Tècnic de la Càtedra Antoni Miró d’Art Contemporani de la Universitat d’Alacant\, en l’actualitat. \nHa publicat\, entre d’altres\, els següents llibres de poesia: L’estança. Camins en la pintura d’Antoni Miró\, València 1992; L’enigmàtic valor de la ics\, Alacant 1993; Concert d’aigua\, Alzira 1997; Ma non troppo\, Barcelona 2006; Ivarca\, Alacant 2008; Perbreviter\, València 2011; Cantabile con fuoco\, València 2015; Fills del sol i de la lluna\, Navarrés 2016; Cantata\, Málaga 2017; XXL\, Màlaga 2019; A dues veus\, Puçol 2022. \nTambé ha publicat l’assaig Bartolomé Ferrando. La fractura dels marges poètics\, València 2008. El seu treball de música visual Música contra el dolor I\,II III\, ha estat publicat en un CD per Logisprimt en Alcoi el 2011. Publica De fil de vint\, Performances poètiques nº 2\, en l’Editorial Electrònica de la UMH\, Elx 2013. També nombrosos catàlegs i antologies de poètica experimental recullen les exposicions que\, en aquesta disciplina creativa\, realitza l’autor.
URL:https://octubre.cat/activitat/el-cau-de-les-sorpreses-de-josep-sou/
LOCATION:Sala d’exposicions
CATEGORIES:Exposicions
ATTACH;FMTTYPE=image/jpeg:https://octubre.cat/www/wp-content/uploads/2023/06/Tu-tambe.-A-Jordi-Macian-2022-Grafica-digital-sobre-llenc-754-x-754-scaled.jpg
END:VEVENT
BEGIN:VEVENT
DTSTART;TZID=Europe/Andorra:20230719T190000
DTEND;TZID=Europe/Andorra:20230719T190000
DTSTAMP:20260424T092355
CREATED:20230711T100404Z
LAST-MODIFIED:20250710T100110Z
UID:20180-1689793200-1689793200@octubre.cat
SUMMARY:La reproducció de les desigualtats socials al sistema educatiu. El mapa escolar de València
DESCRIPTION:Seminari de presentació del llibre La reproducció de les desigualtats socials al sistema educatiu. El mapa escolar de València \nHi intervindran José Manuel Rodríguez-Victoriano (director de la investigació) i els autors de la publicació acompanyats per\n—Jaume Martínez Bonafé (professor de la Facultat de Ciències de l’Educació\, UV)\n—Enrique Martín Criado (professor de la Universitat Pablo de Olavide)\n—Francisco Murillo (professor de la Universitat Autònoma de Madrid) \nAquest estudi constata\, des de la investigació científica\, l’estreta relació entre el dret de les famílies a la lliure elecció de centre educatiu\, el districte únic i la segregació escolar. Mostra amb dades quantitatives i qualitatives com l’escola concertada contribueix a la reproducció de la desigualtat social.\nLa investigació va ser fruit d’un conveni entre l’Ajuntament de València i la Universitat de València. Un model de col·laboració no mercantil entre les universitats i l’Administració pública que entén la investigació a les universitats públiques com un «bé comú» i implica una aposta explícita per la seva transferència als diferents agents socials implicats. \n  \n \n(Publicacions de la Universitat de València)
URL:https://octubre.cat/activitat/la-reproduccio-de-les-desigualtats-socials-al-sistema-educatiu-el-mapa-escolar-de-valencia/
LOCATION:Sala d’actes
CATEGORIES:Conferències i congressos
ATTACH;FMTTYPE=image/jpeg:https://octubre.cat/www/wp-content/uploads/2023/07/escola.jpg
END:VEVENT
END:VCALENDAR