BEGIN:VCALENDAR
VERSION:2.0
PRODID:-//Octubre Centre de Cultura Contemporània - ECPv5.1.6//NONSGML v1.0//EN
CALSCALE:GREGORIAN
METHOD:PUBLISH
X-WR-CALNAME:Octubre Centre de Cultura Contemporània
X-ORIGINAL-URL:https://octubre.cat
X-WR-CALDESC:Events for Octubre Centre de Cultura Contemporània
BEGIN:VTIMEZONE
TZID:Europe/Andorra
BEGIN:DAYLIGHT
TZOFFSETFROM:+0100
TZOFFSETTO:+0200
TZNAME:CEST
DTSTART:20230326T010000
END:DAYLIGHT
BEGIN:STANDARD
TZOFFSETFROM:+0200
TZOFFSETTO:+0100
TZNAME:CET
DTSTART:20231029T010000
END:STANDARD
END:VTIMEZONE
BEGIN:VEVENT
DTSTART;TZID=Europe/Andorra:20230701T120000
DTEND;TZID=Europe/Andorra:20230701T120000
DTSTAMP:20260423T084159
CREATED:20230622T090057Z
LAST-MODIFIED:20230622T111134Z
UID:20162-1688212800-1688212800@octubre.cat
SUMMARY:Documental: La gente que solo buscaba la libertad\, d’Isabel Ginés i Carlos Gonga
DESCRIPTION:Presentació a càrrec de la directora Isabel Ginés i amb la participació de Rosa Pérez Garijo (consellera de Qualitat Democràtica de la Generalitat Valenciana) i Àngel González\, (president de la Coordinadora d’Associacions per la Memòria Democràtica del País Valencià). \nElda ha sigut sempre terra de sabaters\, que a la Guerra Civil no van tindre més remei que posar-se a fabricar coses per a l’exèrcit republicà: botes\, camises\, corretges o motxilles. Els tallers també van passar a fabricar blindatges\, armes… També va ser refugi de molta gent que fugia dels bombardejos. Va arribar a ser fins i tot capital d’Espanya\, tot i que només durant 10 dies. Tota Elda es va transformar i es va bolcar amb la República\, molts dels seus edificis clamen història.\nDonada per finalitzada la guerra va arribar la repressió franquista\, que a Elda va deixar al seu pas com a mínim 33 afusellats i 11 deportats a camps de concentració nazis\, amb l’aprovació de Franco. Només els seus familiars saben què van viure. Aquest documental dóna veu a famílies eldenques i d’altres poblacions alacantines. \n  \n \n  \nDirecció: Isabel Ginés i Carlos Gonga (2023)\nAjudant de direcció: Verónica Cañizares\nGuió\, muntatge i so: Isabel Ginés\nFotografia i càmera: Carlos Gonga\nVeu en Off: María Palau\, Marta García Carbonell\nParticipants:\n–Historiador: Mario Bañón\n–Familiars de víctimes del franquisme: Antonio Gisbert\, Bárbara Bellot i família\, Fani de Haro\, Montse Rico\, Rafa Bernabeu\, Sonia Calderón\, Vicente Olcina\nProducció: Checkout\, amb el suport de la Conselleria de Participació\, Transparència\, Cooperació i Qualitat Democràtica de la Generalitat Valenciana \, i de l’Associació de Familiars de Víctimes del Franquisme del Cementeri d’Alacant\nDurada: 66’ \n  \n \n—\nProjecció organitzada amb la col·laboració de l’Octubre CCC
URL:https://octubre.cat/activitat/documental-la-gente-que-solo-buscaba-la-libertad-disabel-gines-i-carlos-gonga/
LOCATION:Sala d’actes
CATEGORIES:Cinema
ATTACH;FMTTYPE=image/jpeg:https://octubre.cat/www/wp-content/uploads/2023/06/IMG_5874-Fani-de-Haro-camina-junto-a-Montse-Rico-por-el-cementerio-de-Alicante.-Frame-del-documental.jpg
END:VEVENT
END:VCALENDAR