BEGIN:VCALENDAR
VERSION:2.0
PRODID:-//Octubre Centre de Cultura Contemporània - ECPv5.1.6//NONSGML v1.0//EN
CALSCALE:GREGORIAN
METHOD:PUBLISH
X-WR-CALNAME:Octubre Centre de Cultura Contemporània
X-ORIGINAL-URL:https://octubre.cat
X-WR-CALDESC:Events for Octubre Centre de Cultura Contemporània
BEGIN:VTIMEZONE
TZID:Europe/Andorra
BEGIN:DAYLIGHT
TZOFFSETFROM:+0100
TZOFFSETTO:+0200
TZNAME:CEST
DTSTART:20230326T010000
END:DAYLIGHT
BEGIN:STANDARD
TZOFFSETFROM:+0200
TZOFFSETTO:+0100
TZNAME:CET
DTSTART:20231029T010000
END:STANDARD
END:VTIMEZONE
BEGIN:VEVENT
DTSTART;TZID=Europe/Andorra:20230628T183000
DTEND;TZID=Europe/Andorra:20230628T183000
DTSTAMP:20260423T040646
CREATED:20230612T153852Z
LAST-MODIFIED:20230612T153852Z
UID:20140-1687977000-1687977000@octubre.cat
SUMMARY:Cinema Jove 2023: Videodrome\, de David Cronenberg
DESCRIPTION:Max Renn\, responsable d’un sòrdid canal de televisió per cable\, descobreix un dia una emissora pirata anomenada “Videodrome” amb continguts molt violents i realistes. Un palpitant malson de ciència-ficció que ens mostra un món on el vídeo pot controlar i alterar la vida humana \nDirecció i guió: David Cronenberg\nMúsica: Howard Shore\nFotografia: Mark Irwin\nRepartiment: James Woods\, Debbie Harry\, Sonja Smith\nProducció: CFDC\nPaís: Canadà\nAny: 1983\nDuració: 87 min \n  \n \n—\nOrganitzat pel festival Cinema Jove amb la col·laboració de l’Octubre CCC.\nL’edició número 38 de Cinema Jove\, Festival Internacional de València\, se celebra del 22 de juny a l’1 de juliol de 2023 a diversos llocs de la ciutat de València (Rialto\, Teatre Principal\, Centre del Carme\, CM Rector Peset\, Espai Túria) i a l’Octubre CCC presentem la secció «El jove Cronenberg» dedicada a les primeres produccions del cineasta canadenc David Cronenberg.
URL:https://octubre.cat/activitat/cinema-jove-2023-videodrome-de-david-cronenberg/
LOCATION:Sala d’actes
CATEGORIES:Cinema Jove 2023
ATTACH;FMTTYPE=image/jpeg:https://octubre.cat/www/wp-content/uploads/2023/06/videodrome-foto-1-1024x576-1.jpeg
END:VEVENT
BEGIN:VEVENT
DTSTART;TZID=Europe/Andorra:20230628T190000
DTEND;TZID=Europe/Andorra:20230628T190000
DTSTAMP:20260423T040646
CREATED:20230609T165946Z
LAST-MODIFIED:20231006T080658Z
UID:20101-1687978800-1687978800@octubre.cat
SUMMARY:Presentació del llibre Retorn a Fukushima\, de Maite Alay i Salvador Balcells
DESCRIPTION:Amb Salvador Balcells i la filòloga Maria Conca. \nUn reporter freelance barceloní en hores baixes arriba a Tòquio dies abans del terratrèmol\, el tsunami i el desastre nuclear de Fukushima\, que van assolar la regió de Tohoku\, amenaçant l’arxipèlag i el planeta amb una catàstrofe nuclear. Mentre molts occidentals intenten fugir del país\, el periodista es dirigeix contracorrent cap a les zones més afectades\, al nord profund del seu admirat Bassho\, en un viatge insòlit on coneixerà personatges extraordinaris i es veurà atrapat en una trama on ningú és qui diu ser i on els esdeveniments es van succeint a un ritme de vertigen\, fins al sorprenent desenllaç final. Com a rerefons\, el paisatge japonès\, els costums\, els mites i llegendes i una atmosfera que combina el pensament oriental amb les tecnologies més avançades i que seduirà els lectors des de les primeres línies. \n  \n \n(Voliana)
URL:https://octubre.cat/activitat/presentacio-del-llibre-retorn-a-fukushima-de-maite-alay-i-salvador-balcells/
LOCATION:Llibreria Fan Set
CATEGORIES:Literatura
ATTACH;FMTTYPE=image/jpeg:https://octubre.cat/www/wp-content/uploads/2023/06/maite-alay-i-salvador-bacells.jpg
END:VEVENT
END:VCALENDAR