BEGIN:VCALENDAR
VERSION:2.0
PRODID:-//Octubre Centre de Cultura Contemporània - ECPv5.1.6//NONSGML v1.0//EN
CALSCALE:GREGORIAN
METHOD:PUBLISH
X-WR-CALNAME:Octubre Centre de Cultura Contemporània
X-ORIGINAL-URL:https://octubre.cat
X-WR-CALDESC:Events for Octubre Centre de Cultura Contemporània
BEGIN:VTIMEZONE
TZID:Europe/Andorra
BEGIN:DAYLIGHT
TZOFFSETFROM:+0100
TZOFFSETTO:+0200
TZNAME:CEST
DTSTART:20230326T010000
END:DAYLIGHT
BEGIN:STANDARD
TZOFFSETFROM:+0200
TZOFFSETTO:+0100
TZNAME:CET
DTSTART:20231029T010000
END:STANDARD
END:VTIMEZONE
BEGIN:VEVENT
DTSTART;TZID=Europe/Andorra:20230526T000000
DTEND;TZID=Europe/Andorra:20230617T000000
DTSTAMP:20260421T161909
CREATED:20230519T091531Z
LAST-MODIFIED:20250710T055737Z
UID:19996-1685059200-1686960000@octubre.cat
SUMMARY:«Parts de mi. Registre de la meua existència»\, d’Ana Mortera Herrero
DESCRIPTION:«En aquesta sèrie faig un exercici de recol·lecció on em retrate a mi mateixa a través dels petits residus que em formen. Va ser començada al juny de 2022\, i actualment segueix en desenvolupament. Plantejada gairebé com a un diari\, aquesta proposta va augmentant amb una recol·lecció cada mes. Investigant sobre la identitat i la relació d’una mateixa amb el cos\, em retrate a mi mateixa mitjançant objectes trobats i petits residus que produeix el meu cos.» \n  \n \n—\nTreball elaborat a la Facultat de Belles Arts de Sant Carles – Universitat Politècnica de València (Departament de Comunicació Audiovisual\, Documentació i Història de l’Art\ni Departament d’Escultura)
URL:https://octubre.cat/activitat/parts-de-mi-registre-de-la-meua-existencia-dana-mortera-herrero/
LOCATION:Excusats
CATEGORIES:Instal·lacions
ATTACH;FMTTYPE=image/jpeg:https://octubre.cat/www/wp-content/uploads/2023/05/ana_mortera.jpg
END:VEVENT
BEGIN:VEVENT
DTSTART;TZID=Europe/Andorra:20230601T193000
DTEND;TZID=Europe/Andorra:20230624T140000
DTSTAMP:20260421T161909
CREATED:20230524T084745Z
LAST-MODIFIED:20250710T055151Z
UID:20021-1685647800-1687615200@octubre.cat
SUMMARY:«Compte enrere»\, de JviMonster
DESCRIPTION:«En els temps del confinament\, mentre esperàvem que es reprengueren els concerts amb contacte humà directe\, i com a teràpia o cura de com els trobava a faltar\, em vaig dedicar a recollir algunes de les fotos que havia anat fent\, posar-les amb més o menys ordre cronològic i amb uns comentaris o micro-ressenyes passades pel tamís del record. I d’allò en va eixir un llibre. \nAquesta exposició és part del material extret d’aquest llibre\, la major part\, i reflecteix la meua afició a la música en directe\, a fer fotos i\, d’alguna forma\, a expressar el que significa la música en directe i l’afany per a capturar “l’instant”. \nEl títol\, al principi\, feia referència a l’espera a tornar a concerts\, una pausa. Hui\, realment\, fa una referència atemporal a la sempre emocionant sensació de començar i/o acabar qualsevol cosa. (Acabar-les no sempre és obligat) \nNomés em queda expressar el meu agraïment a totes les sales i als promotors que ens regalen setmana rere setmana el millor concert de l’any.» \n  \n \n—\nImpressió del catàleg: DV Art
URL:https://octubre.cat/activitat/compte-enrere-de-jvimonster/
LOCATION:Sala d’exposicions
CATEGORIES:Exposicions
ATTACH;FMTTYPE=image/jpeg:https://octubre.cat/www/wp-content/uploads/2023/05/javimonster.jpg
END:VEVENT
BEGIN:VEVENT
DTSTART;TZID=Europe/Andorra:20230602T190000
DTEND;TZID=Europe/Andorra:20230602T190000
DTSTAMP:20260421T161909
CREATED:20230510T112325Z
LAST-MODIFIED:20250710T082155Z
UID:19977-1685732400-1685732400@octubre.cat
SUMMARY:Presentació del llibre La claror al jardí / The sunlight on the garden\, de Louis MacNeice
DESCRIPTION:Amb la participació del traductor\, Marcel Riera\, l’escriptor Jaume Pérez Montaner i els editors de l’obra Josep Porcar i Marta Vilardaga. \nLa poesia de Louis MacNeice (Belfast\, 1907 – Londres\, 1963)\, en un primer moment coneguda per formar part de l’Auden Group\, és avui considerada\, per poetes i estudiosos\, d’una influència cabdal dins de la gran tradició de la poesia irlandesa i\, entre els membres del grup\, l’única d’un interès creixent fins als nostres dies\, salvant la del seu amic W.  H. Auden. El to confessional\, la singular destresa amb què expressa el dolor i l’entusiasme pels aspectes corrents i suposadament superfi­cials de la vida com a reveladors de motivacions més profundes o amagades de l’ésser humà\, fan de la seva obra una de les més autèntiques i sensibles. \n  \n \n(Salze Editorial)
URL:https://octubre.cat/activitat/presentacio-del-llibre-la-claror-al-jardi-the-sunlight-on-the-garden-de-louis-macneice/
LOCATION:Llibreria Fan Set
CATEGORIES:Literatura
ATTACH;FMTTYPE=image/jpeg:https://octubre.cat/www/wp-content/uploads/2023/05/Louis-MacNeice.jpg
END:VEVENT
END:VCALENDAR