BEGIN:VCALENDAR
VERSION:2.0
PRODID:-//Octubre Centre de Cultura Contemporània - ECPv5.1.6//NONSGML v1.0//EN
CALSCALE:GREGORIAN
METHOD:PUBLISH
X-WR-CALNAME:Octubre Centre de Cultura Contemporània
X-ORIGINAL-URL:https://octubre.cat
X-WR-CALDESC:Events for Octubre Centre de Cultura Contemporània
BEGIN:VTIMEZONE
TZID:Europe/Andorra
BEGIN:DAYLIGHT
TZOFFSETFROM:+0100
TZOFFSETTO:+0200
TZNAME:CEST
DTSTART:20230326T010000
END:DAYLIGHT
BEGIN:STANDARD
TZOFFSETFROM:+0200
TZOFFSETTO:+0100
TZNAME:CET
DTSTART:20231029T010000
END:STANDARD
END:VTIMEZONE
BEGIN:VEVENT
DTSTART;TZID=Europe/Andorra:20230428T200000
DTEND;TZID=Europe/Andorra:20230521T000000
DTSTAMP:20260420T115519
CREATED:20230420T144032Z
LAST-MODIFIED:20250710T054935Z
UID:19766-1682712000-1684627200@octubre.cat
SUMMARY:«Lletres de llum»\, d’Àlex Durà Díez
DESCRIPTION:Àlex va ser un artista jove que intentava transmetre amb imatges. Va aprendre a mirar el món al compàs de cançons\, les lletres de les quals formen parella amb les imatges\, en una dansa poètica que ens ancora a l’essència d’una vida que busca sentit a través de la bellesa\, el compromís i l’amor. \nÀlex Durà Díez (2002-2021)\, a qui se li va detectar un sarcoma d’Ewing als 17 anys\, va ser un jove amb una vida excepcional. Tenia clar que\, com al joc\, hem de fer la millor partida possible amb les cartes que ens han tocat. Per això\, va escollir viure intensament\, des de l’alegria i l’amor\, conscient de les necessitats del món\, del planeta i de la gent que l’envoltava. \nAmb aquesta exposició\, volem transmetre que la seua força\, la seua alegria i el seu llegat continuen ben vius. L’amor i la bellesa\, per sempre. \n \n—\nComissari: Alberto Di Lolli.\nAmb la col·laboració de la Facultat de Belles Arts de Sant Carles i de l’Àrea d’Acció Cultural de la Universitat Politècnica de València.\nDisseny del catàleg: Alberto Di Lolli i Maria Ángeles Alcorisa.
URL:https://octubre.cat/activitat/lletres-de-llum-dalex-dura-diez/
LOCATION:Sala d’exposicions
CATEGORIES:Exposicions
ATTACH;FMTTYPE=image/jpeg:https://octubre.cat/www/wp-content/uploads/2023/04/alex-dura-1.jpg
END:VEVENT
BEGIN:VEVENT
DTSTART;TZID=Europe/Andorra:20230520T120000
DTEND;TZID=Europe/Andorra:20230520T120000
DTSTAMP:20260420T115519
CREATED:20230420T085204Z
LAST-MODIFIED:20231006T080356Z
UID:19754-1684584000-1684584000@octubre.cat
SUMMARY:Presentació del llibre El crit\, de Susanna Lliberós
DESCRIPTION:Amb l’autora acompanya per Gemma Lluch.\nRecital de Susanna Lliberós i Francesc Anyó. \nDavant unes circumstàncies personals incertes i un moment social decebedor\, Susanna Lliberós crida. Com hi ha un crit de guerra o com es crida l’amor\, amb la mateixa força. I amb la mateixa complementarietat\, o contrarietat. El temps i el context passen pel sedàs del dolor físic i del patiment psíquic personal fins a convertir-se en un crit que busca la col·lectivitat per a sonar més fort. Un crit com una rebel·lió\, com una manera d’estar en aquest món. Esteu davant uns versos honestos que amb una lucidesa lírica poc freqüent reivindiquen la bellesa i el poder de la fragilitat. El Crit fa un homenatge a la llum quan s’està a l’engolidor més fosc de la tempesta. Hi ha soroll\, i la poeta no el defuig\, sap que de manera incontestable arribarà la música. Al remat està ací\, entre nosaltres. \n  \n \n—\n(Onada)
URL:https://octubre.cat/activitat/presentacio-del-llibre-el-crit-de-susanna-lliberos/
LOCATION:Llibreria Fan Set
CATEGORIES:Literatura
ATTACH;FMTTYPE=image/jpeg:https://octubre.cat/www/wp-content/uploads/2023/04/Susana_Lliberos.jpg
END:VEVENT
BEGIN:VEVENT
DTSTART;TZID=Europe/Andorra:20230520T120000
DTEND;TZID=Europe/Andorra:20230520T120000
DTSTAMP:20260420T115519
CREATED:20230509T101738Z
LAST-MODIFIED:20250710T083421Z
UID:19953-1684584000-1684584000@octubre.cat
SUMMARY:VLC Negra 2023. Master class «El desafiament de l’originalitat en la ficció criminal»\, per Antonio Lozano
DESCRIPTION:Pocs gèneres literaris tenen un seguiment tan massiu com la novel·la negra i\, alhora\, desperten tants recels entre la comunitat lectora\, que el veuen com a menor\, des d’un punt de vista literari\, o morbós des d’una òptica moral. Un dels grans debats que es fan al voltant del seu gènere es refereix a les convencions i codis\, que estan molt marcats\, i que de vegades fan la sensació de repetició. No obstant això\, molts creadors se n’han adonat i han utilitzat el seu temps a invertir els codis\, transformar els arquetips\, confondre el lector i alhora fascinar-lo. Partirem de la representació clàssica i estudiarem casos de ficció on aquestes convencions s’han trencat per fer millors i més modernes ficcions\, adaptades als nous temps\, sempre d’una manera molt pràctica. \n  \n \n—\nOrganitzat pel festival VLC Negra 2023 amb la col·laboració de l’Octubre CCC
URL:https://octubre.cat/activitat/vlc-negra-2023-master-class-el-desafiament-de-loriginalitat-en-la-ficcio-criminal-per-antonio-lozano/
LOCATION:Aula 1
CATEGORIES:Els tallers de l'Octubre,Literatura
ATTACH;FMTTYPE=image/jpeg:https://octubre.cat/www/wp-content/uploads/2021/05/valencia-negra-logo.jpg
END:VEVENT
END:VCALENDAR