BEGIN:VCALENDAR
VERSION:2.0
PRODID:-//Octubre Centre de Cultura Contemporània - ECPv5.1.6//NONSGML v1.0//EN
CALSCALE:GREGORIAN
METHOD:PUBLISH
X-WR-CALNAME:Octubre Centre de Cultura Contemporània
X-ORIGINAL-URL:https://octubre.cat
X-WR-CALDESC:Events for Octubre Centre de Cultura Contemporània
BEGIN:VTIMEZONE
TZID:Europe/Andorra
BEGIN:DAYLIGHT
TZOFFSETFROM:+0100
TZOFFSETTO:+0200
TZNAME:CEST
DTSTART:20230326T010000
END:DAYLIGHT
BEGIN:STANDARD
TZOFFSETFROM:+0200
TZOFFSETTO:+0100
TZNAME:CET
DTSTART:20231029T010000
END:STANDARD
END:VTIMEZONE
BEGIN:VEVENT
DTSTART;TZID=Europe/Andorra:20230428T200000
DTEND;TZID=Europe/Andorra:20230521T000000
DTSTAMP:20260420T140615
CREATED:20230420T144032Z
LAST-MODIFIED:20250710T054935Z
UID:19766-1682712000-1684627200@octubre.cat
SUMMARY:«Lletres de llum»\, d’Àlex Durà Díez
DESCRIPTION:Àlex va ser un artista jove que intentava transmetre amb imatges. Va aprendre a mirar el món al compàs de cançons\, les lletres de les quals formen parella amb les imatges\, en una dansa poètica que ens ancora a l’essència d’una vida que busca sentit a través de la bellesa\, el compromís i l’amor. \nÀlex Durà Díez (2002-2021)\, a qui se li va detectar un sarcoma d’Ewing als 17 anys\, va ser un jove amb una vida excepcional. Tenia clar que\, com al joc\, hem de fer la millor partida possible amb les cartes que ens han tocat. Per això\, va escollir viure intensament\, des de l’alegria i l’amor\, conscient de les necessitats del món\, del planeta i de la gent que l’envoltava. \nAmb aquesta exposició\, volem transmetre que la seua força\, la seua alegria i el seu llegat continuen ben vius. L’amor i la bellesa\, per sempre. \n \n—\nComissari: Alberto Di Lolli.\nAmb la col·laboració de la Facultat de Belles Arts de Sant Carles i de l’Àrea d’Acció Cultural de la Universitat Politècnica de València.\nDisseny del catàleg: Alberto Di Lolli i Maria Ángeles Alcorisa.
URL:https://octubre.cat/activitat/lletres-de-llum-dalex-dura-diez/
LOCATION:Sala d’exposicions
CATEGORIES:Exposicions
ATTACH;FMTTYPE=image/jpeg:https://octubre.cat/www/wp-content/uploads/2023/04/alex-dura-1.jpg
END:VEVENT
BEGIN:VEVENT
DTSTART;TZID=Europe/Andorra:20230513T120000
DTEND;TZID=Europe/Andorra:20230513T120000
DTSTAMP:20260420T140615
CREATED:20230502T092309Z
LAST-MODIFIED:20230502T092309Z
UID:19926-1683979200-1683979200@octubre.cat
SUMMARY:DocsValència 2023: Allende\, mi abuelo Allende\, de Marcia Tambutti Allende
DESCRIPTION:Transcorreguts 35 anys del colp d’estat a Xile que va derrocar al seu avi Salvador Allende\, Marcia creu que ha arribat el moment de recuperar les imatges i memòries de la vida quotidiana perdudes amb el colp i submergides sota la transcendència política del seu avi\, l’exili i el dolor de la seua família. Una mirada aguda i propera que intenta trencar amb el silenci familiar sostingut per dècades en tres generacions d’una família ferida. \nDirecció: Marcia Tambutti Allende\nProducció: Paola Castillo\nFotografia: David Bravo\, Eduardo Cruz Cok\nEdició: Titi Viera Gallo\, Coti Donoso\nDisseny sonor: Cristián Larrea\, Juan Pablo Manríquez\, Roberto Espinoza\nPaís: Xile\, Mèxic\nAny: 2015\nDuració: 90 min\nIdioma: castellà \n  \n \n—\nLa setena edició del Festival DocsValència / Espai de No Ficció se celebra a València del 5 al 13 de maig de 2023. Les sessions tenen lloc als Cines Lys\, el Col·legi Major Rector Peset\, La Filmoteca\, La Nau i l’Octubre CCC.
URL:https://octubre.cat/activitat/docsvalencia-2023-allende-mi-abuelo-allende-de-marcia-tambutti-allende/
LOCATION:Sala d’actes
CATEGORIES:DocsValència 2023
ATTACH;FMTTYPE=image/webp:https://octubre.cat/www/wp-content/uploads/2023/05/Allende-Still.webp
END:VEVENT
BEGIN:VEVENT
DTSTART;TZID=Europe/Andorra:20230513T160000
DTEND;TZID=Europe/Andorra:20230513T160000
DTSTAMP:20260420T140616
CREATED:20230502T094839Z
LAST-MODIFIED:20250710T085129Z
UID:19929-1683993600-1683993600@octubre.cat
SUMMARY:DocsValència 2023: Naturaleza de lo extraordinario\, de Ligia Pájaro i Vicente Navarro
DESCRIPTION:L’Escola de Pensament Lliure és un projecte de filosofia per a la discapacitat intel·lectual\, en una àgora en què tot el món\, independentment de la seua capacitat\, és benvingut. L’extraordinari s’inscriu poèticament en l’ordinari\, apropiant-se d’allò que li és natural\, materialitzant la utopia possible. \nDirecció: Ligia Pájaro\, Vicente Navarro\nProducció: Araceli Isaac Delso\, Jordi Llorca\nFotografia: Vicente Navarro\nEdició: Vicente Navarro\nDisseny sonor: Iván Martínez-Rufat\, Javier Belda\, Jorge Flor\nPaís: Espanya\nAny: 2023\nDuració: 70 min\nIdioma: castellà\, valencià \n  \n \n—\nLa setena edició del Festival DocsValència / Espai de No Ficció se celebra a València del 5 al 13 de maig de 2023. Les sessions tenen lloc als Cines Lys\, el Col·legi Major Rector Peset\, La Filmoteca\, La Nau i l’Octubre CCC.
URL:https://octubre.cat/activitat/docsvalencia-2023-naturaleza-de-lo-extraordinario-de-ligia-pajaro-i-vicente-navarro/
LOCATION:Sala d’actes
CATEGORIES:DocsValència 2023
ATTACH;FMTTYPE=image/webp:https://octubre.cat/www/wp-content/uploads/2023/05/Naturaleza-Still.webp
END:VEVENT
BEGIN:VEVENT
DTSTART;TZID=Europe/Andorra:20230513T180000
DTEND;TZID=Europe/Andorra:20230513T180000
DTSTAMP:20260420T140616
CREATED:20230502T095220Z
LAST-MODIFIED:20230502T095220Z
UID:19932-1684000800-1684000800@octubre.cat
SUMMARY:DocsValència 2023: Karaoke Paradise\, d’Einari Paakkanen
DESCRIPTION:Llocs. Gent. Cançons interpretades com una alliberació\, fragments de felicitat\, records de vegades divertits\, de vegades dolorosos. Aquests moments de la vida són capturats per una càmera. Durant diverses actuacions de karaoke en tot el paisatge finés. Alegria i melancolia es fusionen en l’acostament amable d’aquesta pel·lícula que deixarà una empremta inesborrable en l’audiència. \nTítol original: Karaoke Paratíísí\nDirecció: Einari Paakkanen\nProducció: Marianne Mäkelä\nFotografia: Marita Hällfors\nEdició: Antti Reikko\, Einari Paakkanen\nDisseny sonor: Pietu Korhonen\nPaís: Finlàndia\nAny: 2022\nDuració: 75 min\nIdioma: finés \n  \n \n—\nLa setena edició del Festival DocsValència / Espai de No Ficció se celebra a València del 5 al 13 de maig de 2023. Les sessions tenen lloc als Cines Lys\, el Col·legi Major Rector Peset\, La Filmoteca\, La Nau i l’Octubre CCC.
URL:https://octubre.cat/activitat/docsvalencia-2023-karaoke-paradise-deinari-paakkanen/
LOCATION:Sala d’actes
CATEGORIES:DocsValència 2023
ATTACH;FMTTYPE=image/webp:https://octubre.cat/www/wp-content/uploads/2023/05/KaraokeParadise-Still.webp
END:VEVENT
BEGIN:VEVENT
DTSTART;TZID=Europe/Andorra:20230513T200000
DTEND;TZID=Europe/Andorra:20230513T200000
DTSTAMP:20260420T140616
CREATED:20230502T095630Z
LAST-MODIFIED:20230502T095630Z
UID:19935-1684008000-1684008000@octubre.cat
SUMMARY:DocsValència 2023: Carpetas azules\, d’Ander Iriarte
DESCRIPTION:Ander sospita que\, de la mateixa manera que molts altres\, el que va patir el seu pare en la comandància fou tortura. Mentre resol les seues sospites\, se submergeix en el món dels metges forenses\, psicòlegs\, psiquiatres i advocats que han elaborat el «Projecte d’investigació de la tortura i maltractaments en el País Basc entre 1960 i 2014». Juntament amb ells aprofundeix en conceptes com la tortura psicològica o el Protocol d’Istanbul\, fent-nos conéixer la realitat de la tortura en el nord global. \nTítol original: Karpeta urdinak\nDirecció: Ander Iriarte\nProducció: Katti Pochelu\, Ander Iriarte\nFotografia: Eñaut Castagnet\nEdició: Amaia Merino\, Laurent Dufreche\, Ander Iriarte\nDisseny sonor: Unai Gimenez\, Iñigo Etxarri\nPaís: Espanya\nAny: 2022\nDuració: 113 min\nIdioma: euskera\, castellà \n  \n \n—\nLa setena edició del Festival DocsValència / Espai de No Ficció se celebra a València del 5 al 13 de maig de 2023. Les sessions tenen lloc als Cines Lys\, el Col·legi Major Rector Peset\, La Filmoteca\, La Nau i l’Octubre CCC.
URL:https://octubre.cat/activitat/docsvalencia-2023-carpetas-azules-dander-iriarte/
LOCATION:Sala d’actes
CATEGORIES:DocsValència 2023
ATTACH;FMTTYPE=image/webp:https://octubre.cat/www/wp-content/uploads/2023/05/CarpetasAzules-Still.webp
END:VEVENT
END:VCALENDAR