BEGIN:VCALENDAR
VERSION:2.0
PRODID:-//Octubre Centre de Cultura Contemporània - ECPv5.1.6//NONSGML v1.0//EN
CALSCALE:GREGORIAN
METHOD:PUBLISH
X-WR-CALNAME:Octubre Centre de Cultura Contemporània
X-ORIGINAL-URL:https://octubre.cat
X-WR-CALDESC:Events for Octubre Centre de Cultura Contemporània
BEGIN:VTIMEZONE
TZID:Europe/Andorra
BEGIN:DAYLIGHT
TZOFFSETFROM:+0100
TZOFFSETTO:+0200
TZNAME:CEST
DTSTART:20230326T010000
END:DAYLIGHT
BEGIN:STANDARD
TZOFFSETFROM:+0200
TZOFFSETTO:+0100
TZNAME:CET
DTSTART:20231029T010000
END:STANDARD
END:VTIMEZONE
BEGIN:VEVENT
DTSTART;TZID=Europe/Andorra:20230425T180000
DTEND;TZID=Europe/Andorra:20230425T180000
DTSTAMP:20260425T155205
CREATED:20230223T161118Z
LAST-MODIFIED:20250710T084232Z
UID:19564-1682445600-1682445600@octubre.cat
SUMMARY:Cinema: Memòries del tsunami\, de Hélène Robert i Jeremy Perrin
DESCRIPTION:Una història sobre fantasmes i esperits que mostra com les onades del tsunami que el 2011 va trasbalsar el Japó segueixen vives en l’imaginari col·lectiu dels pobles que van patir la tragèdia. Observem\, amb incredulitat\, la construcció d’un espigó immens al llarg de 400 km que bloquejarà per complet l’obertura al mar dels pobles de la costa de Tohoku.\nL’11 de març de 2011\, un tsunami sense precedents va assolar el Japó\, deixant al seu pas més de 15.000 persones mortes i un país devastat. Aquesta onada mortífera va ser conseqüència d’un terratrèmol de magnitud 9 que havia tingut lloc aquella mateixa matinada. Per als habitants de la ciutat de Sendai\, capital de la prefectura de Miyagi\, el mar s’ha acabat convertint en un element hostil. Des d’aleshores s’està construint un espigó immens mentre els desapareguts tornen a assaltar la vida des de les profunditats del mar. Igual que el mur antitsunamis s’estén per la costa\, es multipliquen també els casos de fantasmes i esperits que tornen a casa arreu del litoral japonès. \n  \n \n  \nDirecció: Hélène Robert i Jeremy Perrin\nTítol original: Rising from the Tsunami\nSo: Jeremy Perrin\nProducció: La Société des Apaches & Baldanders Films\nEdició: Laurent Leveneur\nMúsica: Elg\nProducció: Jean-Baptiste Fribourg \, Francis Forge \, Elisabeth Pawlowski \, Elsa Minisini\nFrança (2019)\nVO en japonès subtitulada en català\nDurada: 68’ \n  \n \nCicle “Acció Documental +” organitzat per ACICOM i ACPV. DocsBarcelona / El documental del mes.
URL:https://octubre.cat/activitat/cinema-memories-del-tsunami-de-helene-robert-i-jeremy-perrin/
LOCATION:Sala d’actes
CATEGORIES:Acció Documental +
ATTACH;FMTTYPE=image/jpeg:https://octubre.cat/www/wp-content/uploads/2023/02/tsunami1-1.jpg
END:VEVENT
END:VCALENDAR