BEGIN:VCALENDAR
VERSION:2.0
PRODID:-//Octubre Centre de Cultura Contemporània - ECPv5.1.6//NONSGML v1.0//EN
CALSCALE:GREGORIAN
METHOD:PUBLISH
X-WR-CALNAME:Octubre Centre de Cultura Contemporània
X-ORIGINAL-URL:https://octubre.cat
X-WR-CALDESC:Events for Octubre Centre de Cultura Contemporània
BEGIN:VTIMEZONE
TZID:Europe/Andorra
BEGIN:DAYLIGHT
TZOFFSETFROM:+0100
TZOFFSETTO:+0200
TZNAME:CEST
DTSTART:20230326T010000
END:DAYLIGHT
BEGIN:STANDARD
TZOFFSETFROM:+0200
TZOFFSETTO:+0100
TZNAME:CET
DTSTART:20231029T010000
END:STANDARD
END:VTIMEZONE
BEGIN:VEVENT
DTSTART;TZID=Europe/Andorra:20230418T120000
DTEND;TZID=Europe/Andorra:20230418T120000
DTSTAMP:20260425T042327
CREATED:20230412T095129Z
LAST-MODIFIED:20230412T095129Z
UID:19719-1681819200-1681819200@octubre.cat
SUMMARY:SocialMed 2023: Fi de la pobresa
DESCRIPTION:Presentació de l’informe de la situació de la pobresa a Espanya\, a càrrec de Núria Tendeiro\, membre de l’equip tècnic de l’EAPN España i directora de l’EAPN Comunitat Valenciana-Xarxa per la Inclusió. \n—\nOrganitzat per SocialMed 2023 – Festival dels Drets Humans de la Mediterrània amb la col·laboració de l’Octubre CCC.
URL:https://octubre.cat/activitat/socialmed-2023-fi-de-la-pobresa/
LOCATION:Aula 1
CATEGORIES:Conferències i congressos
ATTACH;FMTTYPE=image/jpeg:https://octubre.cat/www/wp-content/uploads/2023/04/socialmed-2023.jpeg
END:VEVENT
END:VCALENDAR