BEGIN:VCALENDAR
VERSION:2.0
PRODID:-//Octubre Centre de Cultura Contemporània - ECPv5.1.6//NONSGML v1.0//EN
CALSCALE:GREGORIAN
METHOD:PUBLISH
X-WR-CALNAME:Octubre Centre de Cultura Contemporània
X-ORIGINAL-URL:https://octubre.cat
X-WR-CALDESC:Events for Octubre Centre de Cultura Contemporània
BEGIN:VTIMEZONE
TZID:Europe/Andorra
BEGIN:DAYLIGHT
TZOFFSETFROM:+0100
TZOFFSETTO:+0200
TZNAME:CEST
DTSTART:20230326T010000
END:DAYLIGHT
BEGIN:STANDARD
TZOFFSETFROM:+0200
TZOFFSETTO:+0100
TZNAME:CET
DTSTART:20231029T010000
END:STANDARD
END:VTIMEZONE
BEGIN:VEVENT
DTSTART;TZID=Europe/Andorra:20230310T190000
DTEND;TZID=Europe/Andorra:20230415T140000
DTSTAMP:20260424T195404
CREATED:20230225T155108Z
LAST-MODIFIED:20250710T054843Z
UID:19587-1678474800-1681567200@octubre.cat
SUMMARY:Joan Fuster – Josep Pla: una conversa infinita
DESCRIPTION:Josep Pla (Palafrugell\, 1897-1981) i Joan Fuster (Sueca\, 1922-1992) són els dos escriptors més decisius de la literatura catalana del segle XX. Al marge de les diferències generacionals o ideològiques\, la seva manera d’entendre la literatura i el país no només són complementàries\, sinó que mostren unes grans afinitats: referents literaris compartits\, preocupacions semblants\, dedicació paral·lela al periodisme\, editors en comú. Amb aquesta exposició volem il·lustrar com les seves trajectòries particulars s’entrellacen entre articles\, llibres i cartes; construint una posteritat de paper que ens permet apreciar-los\, avui\, com una unitat literària i com una sòlida columna que sustenta la cultura catalana de la segona meitat del segle XX. \n  \n \n—\nUna producció de la Fundació Josep Pla\nComissari: Antoni Martí Monterde
URL:https://octubre.cat/activitat/joan-fuster-josep-pla-una-conversa-infinita/
LOCATION:Sala d’exposicions
CATEGORIES:Any Joan Fuster 2022,Exposicions,Literatura
ATTACH;FMTTYPE=image/jpeg:https://octubre.cat/www/wp-content/uploads/2023/02/fuster-pla-2.jpg
END:VEVENT
BEGIN:VEVENT
DTSTART;TZID=Europe/Andorra:20230412T190000
DTEND;TZID=Europe/Andorra:20230412T190000
DTSTAMP:20260424T195404
CREATED:20230324T173333Z
LAST-MODIFIED:20250710T082035Z
UID:19683-1681326000-1681326000@octubre.cat
SUMMARY:Presentació del llibre Cròniques des de Madrid (Un periodista a la Cort)\, de Miquel Alberola
DESCRIPTION:Amb pròleg de Manuel Vicent. \nPresentació amb l’autor acompanyat per Ferran Torrent (escriptor)\, JJ Pérez Benlloch (periodista) i Vicent Baydal (editor). \nEn el 2015 el periodista d’El País Miquel Alberola va deixar el càrrec de delegat a terres valencianes i es va traslladar a Madrid per a ser corresponsal durant quatre anys en la Casa del Rei\, el Congrés dels Diputats i el Senat\, un triangle que va absorbir l’impacte d’una col·lisió inèdita en la política espanyola. \nCom en un quadern de bitàcola\, ací entronca la seua visió personal amb un temps convuls en què no només viurà de prop els intents de Felip VI per regenerar la Corona\, enmig de reiterades eleccions\, la declaració d’independència de Catalunya\, l’esclat de la corrupció i una moció de censura\, sinó que també viatjarà per mig món\, del Japó o Iraq a Moçambic i el Perú\, passant per Londres\, Buenos Aires i Barcelona\, constantment disposat a narrar-ho tot de manera esmolada i suggestiva. Una crònica captivadora\, sorprenent i imprescindible. \n  \n \n(Drassana)
URL:https://octubre.cat/activitat/presentacio-del-llibre-croniques-des-de-madrid-un-periodista-a-la-cort-de-miquel-alberola/
LOCATION:Llibreria Fan Set
CATEGORIES:Literatura
ATTACH;FMTTYPE=image/jpeg:https://octubre.cat/www/wp-content/uploads/2023/03/miquel-alberola-2.jpg
END:VEVENT
END:VCALENDAR