BEGIN:VCALENDAR
VERSION:2.0
PRODID:-//Octubre Centre de Cultura Contemporània - ECPv5.1.6//NONSGML v1.0//EN
CALSCALE:GREGORIAN
METHOD:PUBLISH
X-WR-CALNAME:Octubre Centre de Cultura Contemporània
X-ORIGINAL-URL:https://octubre.cat
X-WR-CALDESC:Events for Octubre Centre de Cultura Contemporània
BEGIN:VTIMEZONE
TZID:Europe/Andorra
BEGIN:DAYLIGHT
TZOFFSETFROM:+0100
TZOFFSETTO:+0200
TZNAME:CEST
DTSTART:20230326T010000
END:DAYLIGHT
BEGIN:STANDARD
TZOFFSETFROM:+0200
TZOFFSETTO:+0100
TZNAME:CET
DTSTART:20231029T010000
END:STANDARD
END:VTIMEZONE
BEGIN:VEVENT
DTSTART;TZID=Europe/Andorra:20230217T080000
DTEND;TZID=Europe/Andorra:20230319T170000
DTSTAMP:20260420T113133
CREATED:20230219T083343Z
LAST-MODIFIED:20250710T055623Z
UID:19523-1676620800-1679245200@octubre.cat
SUMMARY:L’Espiral del Sud 2023: Instal·lacions
DESCRIPTION:Instal·lacions a càrrec dels artistes\n–Ad Ec\n–Behzad Shafagh\n–Bibiana Martínez\n–Diego Arribas\n–Fanny Galera\n–Emilio Gallego\n–Fred Chemama \n  \n \n—\nInstal·lacions creades in situ amb motiu de les III Trobades Transculturals d’Artistes celebrades a l’Octubre CCC i al Centre del Carme de València\, organitzades per L’Espiral del Sud AC amb la col·laboració de l’Octubre CCC.
URL:https://octubre.cat/activitat/lespiral-del-sud-2023-installacions/
LOCATION:Hall
CATEGORIES:Instal·lacions
ATTACH;FMTTYPE=image/jpeg:https://octubre.cat/www/wp-content/uploads/2023/02/espiral_del_sud_2023_57-scaled.jpg
END:VEVENT
BEGIN:VEVENT
DTSTART;TZID=Europe/Andorra:20230307T190000
DTEND;TZID=Europe/Andorra:20230307T190000
DTSTAMP:20260420T113133
CREATED:20230119T102312Z
LAST-MODIFIED:20250710T081856Z
UID:19366-1678215600-1678215600@octubre.cat
SUMMARY:Presentació del llibre La persistència dels roures\, de Sebastià Carratalà
DESCRIPTION:II Premi Ciutat d’Alcoi de Novel·la “Isabel-Clara Simó”.\nPresentació amb l’autor acompanyat per l’editor Marc Senabre. \nUna novel·la sobre una nissaga de l’alta burgesia valenciana\, la seua lluita incansable per mantindre el prestigi i dels canvis que experimentarà quan una dona agafe les regnes del negoci familiar per primera vegada. \nAlfredo Roure\, banquer i home de negocis implacable\, se sent vell i malalt. La perspectiva del final es converteix en una tragèdia per a algú que ha dedicat la vida a fer prosperar els negocis familiars a qualsevol preu. Però si alguna cosa caracteritza la nissaga és la seua resistència\, la seua naturalesa persistent\, pròpia d’un arbre sòlid i antic. Des de fa segles mantenen la seua posició\, a pesar de les guerres\, els canvis polítics o els problemes personals. I així serà en el futur\, quan encara sota els efectes de la crisi econòmica de 2008\, Susan\, la filla d’Alfredo\, agafe les regnes per a mantindre ben alt el nom\, el poder i la influència dels Roure. \nAmb aquesta novel·la\, plena de girs i detalls\, Sebastià Carratalà construeix un retrat irònic i molt perfilat sobre la burgesia valenciana\, matisat pel filtre de la ficció\, però amb més força fins i tot que la realitat mateixa. \n  \n \n(Bromera)
URL:https://octubre.cat/activitat/presentacio-del-llibre-la-persistencia-dels-roures-de-sebastia-carratala/
LOCATION:Llibreria Fan Set
CATEGORIES:Literatura
ATTACH;FMTTYPE=image/jpeg:https://octubre.cat/www/wp-content/uploads/2023/01/sebastia-carratala.jpg
END:VEVENT
BEGIN:VEVENT
DTSTART;TZID=Europe/Andorra:20230307T190000
DTEND;TZID=Europe/Andorra:20230307T190000
DTSTAMP:20260420T113133
CREATED:20230301T121116Z
LAST-MODIFIED:20250710T081051Z
UID:19603-1678215600-1678215600@octubre.cat
SUMMARY:Presentació del disc i del videoclip Regina\, de Capella de Ministrers
DESCRIPTION:Presentació del nou disc de Capella de Ministrers i del videoclip del treball Regina\, 18 monarques medievals de la Corona d’Aragó.  \nLa presentació serà a càrrec de:\n—Carles Magraner\, director de Capella de Ministrers\n—Vicent Monsonís\, director del videoclip\n—Vicent Baydal\, historiador \nCarles Magraner presenta amb Capella de Ministrers el seu darrer treball dedicat a les monarques de la Corona d’Aragó\, el 7 de març\, tot coincidint amb la vespra de la commemoració del dia de la dona. \n \nDavant del que és un fet constatat i constatable\, ens sorprén que fins als nostres dies mai s’haja dedicat una proposta musical a aquelles dones que\, tot i que de manera indirecta\, van permetre que el curs de la història de la música transcorreguera per aquells llits que l’han convertida en un dels llegats de més envergadura del patrimoni artístic de la humanitat. A manera de particular homenatge a aquestes dones\, dediquem el nostre treball a un molt selecte i influent col·lectiu\, el format per les que van ser reines d’Aragó des del naixement\, a principis del segle XIII\, d’una consciència territorial als diferents regnes de la Corona fins que\, en 1516\, aquesta va deixar d’existir per la fusió amb la de Castella. El repertori ha sigut seleccionat perquè gira al voltant de les nostres protagonistes en les diferents etapes de la seua vida\, fins i tot quan van quedar vídues\, i hem donat prioritat al repertori de font aragonesa. Des de Violant d’Hongria fins a Germana de Foix (1235-1516): l’entorn musical de 18 reines d’Aragó.
URL:https://octubre.cat/activitat/presentacio-del-disc-i-del-videoclip-regina-de-capella-de-ministrers/
LOCATION:Sala d’actes
CATEGORIES:Música
ATTACH;FMTTYPE=image/jpeg:https://octubre.cat/www/wp-content/uploads/2023/03/capella_de_ministrers.jpg
END:VEVENT
END:VCALENDAR