BEGIN:VCALENDAR
VERSION:2.0
PRODID:-//Octubre Centre de Cultura Contemporània - ECPv5.1.6//NONSGML v1.0//EN
CALSCALE:GREGORIAN
METHOD:PUBLISH
X-WR-CALNAME:Octubre Centre de Cultura Contemporània
X-ORIGINAL-URL:https://octubre.cat
X-WR-CALDESC:Events for Octubre Centre de Cultura Contemporània
BEGIN:VTIMEZONE
TZID:Europe/Andorra
BEGIN:DAYLIGHT
TZOFFSETFROM:+0100
TZOFFSETTO:+0200
TZNAME:CEST
DTSTART:20230326T010000
END:DAYLIGHT
BEGIN:STANDARD
TZOFFSETFROM:+0200
TZOFFSETTO:+0100
TZNAME:CET
DTSTART:20231029T010000
END:STANDARD
END:VTIMEZONE
BEGIN:VEVENT
DTSTART;TZID=Europe/Andorra:20230119T000000
DTEND;TZID=Europe/Andorra:20230225T000000
DTSTAMP:20260420T130401
CREATED:20221222T094048Z
LAST-MODIFIED:20250710T054733Z
UID:19226-1674086400-1677283200@octubre.cat
SUMMARY:#PrimaveraMusical
DESCRIPTION:La música valenciana reviscola \nAls anys 60 i 70 la Nova cançó era seguida per un gran públic i hi havia un nombre significatiu d’artistes valencians entre aquell grup. Durant les dues dècades següents\, semblava que als joves del País Valencià els faltaven referents musicals propis. És cert que es podia beure d’allò que al Principat es va etiquetar com a ‘rock català’ però\, què havia passat amb els artistes valencians? \nEls últims 90 es van anar plantant llavors que durant les dues primeres dècades del segle XXI han fet florir una collita impressionant pel que fa a quantitat\, qualitat i varietat. Van aparèixer els primers festivals: Tirant de rock\, Carrascar\, Almadrava rock… i és l’època de grups com Munlogs\, 4000 som prou i les primeres passes d’Obrint pas\, Sant Gatxo\, Owix\, Pinka… \nAmb l’arribada dels 2000 augmenta l’efervescència\, es teixeixen sinergies\, es multipliquen els grups i les cites dels concerts. I en la segona dècada\, hi ha la consolidació del moviment que té a l’horitzó la normalitat\, cada volta més a prop. \n  \n \n \n \nAquesta exposició pretén abastar molts dels elements de la música valenciana i oferir-ne una panoràmica general. És per això que hi ha molts apartats diferents que permeten copsar fins on ha arribat el fenomen. Com a objectiu\, mirar arrere i explicar als jóvens quin ha sigut el trajecte i deixar-ne constància per a seguir el camí. \nEn alguns moments de la visita us vindran records i potser s’entreveurà l’emoció. De segur que descobrireu coses que desconeixíeu. Ens agradaria que la música fera de transport cap a l’art\, les paraules\, els llocs\, les persones… Esperem que gaudiu d’aquest recorregut i que en eixir us envaisquen les ganes de cantar (més que siga de cap). \n—\nPàgina oficial de l’exposició \nUna producció del Servei de Llengües de la Universitat d’Alacant // Museu de la Universitat d’Alacant.
URL:https://octubre.cat/activitat/primaveramusical/
LOCATION:Sala d’exposicions
CATEGORIES:Exposicions
ATTACH;FMTTYPE=image/png:https://octubre.cat/www/wp-content/uploads/2022/12/primaveramusicalCAP.png
END:VEVENT
BEGIN:VEVENT
DTSTART;TZID=Europe/Andorra:20230217T080000
DTEND;TZID=Europe/Andorra:20230319T170000
DTSTAMP:20260420T130401
CREATED:20230219T083343Z
LAST-MODIFIED:20250710T055623Z
UID:19523-1676620800-1679245200@octubre.cat
SUMMARY:L’Espiral del Sud 2023: Instal·lacions
DESCRIPTION:Instal·lacions a càrrec dels artistes\n–Ad Ec\n–Behzad Shafagh\n–Bibiana Martínez\n–Diego Arribas\n–Fanny Galera\n–Emilio Gallego\n–Fred Chemama \n  \n \n—\nInstal·lacions creades in situ amb motiu de les III Trobades Transculturals d’Artistes celebrades a l’Octubre CCC i al Centre del Carme de València\, organitzades per L’Espiral del Sud AC amb la col·laboració de l’Octubre CCC.
URL:https://octubre.cat/activitat/lespiral-del-sud-2023-installacions/
LOCATION:Hall
CATEGORIES:Instal·lacions
ATTACH;FMTTYPE=image/jpeg:https://octubre.cat/www/wp-content/uploads/2023/02/espiral_del_sud_2023_57-scaled.jpg
END:VEVENT
BEGIN:VEVENT
DTSTART;TZID=Europe/Andorra:20230220T190000
DTEND;TZID=Europe/Andorra:20230220T190000
DTSTAMP:20260420T130401
CREATED:20230203T132445Z
LAST-MODIFIED:20231024T094404Z
UID:19489-1676919600-1676919600@octubre.cat
SUMMARY:Presentació del llibre Permanència\, de Castillo Suarez
DESCRIPTION:Traducció del basc de Jaume Gelabert González\nPròleg d’Anna Gas Serra \nPresentació a càrrec de l’autora acompanyada per Maria Josep Escrivà. \nUn tractat poètic sobre la botànica de l’amor\, amb espècies primitives i espècies invasores. \nPermanència es teixeix des d’una nostàlgia radicalment valenta amb la punyida delicada del floc de neu\, des del traç d’algú que escriu amb una marca rosa al pit i que afirma el seu cos obert que estima: «perdre tant / porta irremissiblement la victòria»\, diu la veu poètica de Castillo Suarez fregant el bell mig del camí que s’enfila per «Empelts»\, «Entramats Krainer»\, «Rescloses enderrocades» i «Pastors elèctrics». \n  \n \n(Documenta Balear) \nCastillo Suarez Garcia va néixer a Altsasu el 1976 i viu a Arbizu. Llicenciada en filologia basca\, treballa com a tècnica d’èuscar en l’Administració local. És acadèmica corresponent de la Reial Acadèmia de la Llengua Basca-Euskaltzaindia. Els darrers anys\, a més de diversos volums de literatura infantil i articles d’opinió\, aquesta escriptora navarresa\, que només escriu en èuscar\, ha publicat un bon nombre de llibres de poesia\, pels quals és reconeguda i ha guanyat diversos premis literaris. Actualment\, governa el blog de literatura “Iparraldeko neska” (‘L’al·lota del País del Nord’). El llibre de poemes que presentem\, publicat originàriament en èuscar\, és Irautera (Elkar\, 2019); també s’ha publicat en gallec traduït per Isaac Xubín: Permanencia (Laiovento\, 2021)\, i aviat s’editarà en castellà per l’editorial Bartleby i traduït per Fernando Rey. El seu darrer treball és el recull de poesia Elurra elurraren gainean (Egilea editore\, 2021).
URL:https://octubre.cat/activitat/presentacio-del-llibre-permanencia-de-castillo-suarez/
LOCATION:Llibreria Fan Set
CATEGORIES:Literatura
ATTACH;FMTTYPE=image/jpeg:https://octubre.cat/www/wp-content/uploads/2023/02/Castillo_Suarez_2_Enara_Intsausti.jpg
END:VEVENT
END:VCALENDAR