BEGIN:VCALENDAR
VERSION:2.0
PRODID:-//Octubre Centre de Cultura Contemporània - ECPv5.1.6//NONSGML v1.0//EN
CALSCALE:GREGORIAN
METHOD:PUBLISH
X-WR-CALNAME:Octubre Centre de Cultura Contemporània
X-ORIGINAL-URL:https://octubre.cat
X-WR-CALDESC:Events for Octubre Centre de Cultura Contemporània
BEGIN:VTIMEZONE
TZID:Europe/Andorra
BEGIN:DAYLIGHT
TZOFFSETFROM:+0100
TZOFFSETTO:+0200
TZNAME:CEST
DTSTART:20220327T010000
END:DAYLIGHT
BEGIN:STANDARD
TZOFFSETFROM:+0200
TZOFFSETTO:+0100
TZNAME:CET
DTSTART:20221030T010000
END:STANDARD
END:VTIMEZONE
BEGIN:VEVENT
DTSTART;TZID=Europe/Andorra:20220930T190000
DTEND;TZID=Europe/Andorra:20221028T210000
DTSTAMP:20260420T175221
CREATED:20220915T162344Z
LAST-MODIFIED:20250624T092941Z
UID:18730-1664564400-1666990800@octubre.cat
SUMMARY:Mostra Viva 2022. Exposició «València Copyright»
DESCRIPTION:Mostra Viva del Mediterrani 2022\nExposicions \nInauguració: divendres 30 de setembre a les 19.00h \nDins de l’any de la Capitalitat Mundial del Disseny\, proposem recuperar un esdeveniment cultural de gran significat: En 1984\, l’Ajuntament de València va patrocinar la presència de diversos dibuixants valencians en el XII Festival d’Angulema que es va celebrar en 1985. Sota el títol de «València Copyright» es van editar una sèrie de fullets que actuarien de catàleg de l’exposició «València vignettes» que va exhibir l’obra original de Daniel Torres\, Nacho Balaguer\, Sento\, Mique Beltrán\, Micharmut i Miguel Calatayud en l’alcaldia de la ciutat francesa. Quasi quaranta anys després\, el llegat d’aquesta generació continua intacte com un dels moviments més avantguardistes que ha donat el còmic europeu\, creant una influència fonamental en els autors de les dècades següents. L’exposició «València Copyright» és un homenatge a aquella exposició inicial i que consta de tres parts que relacionen passat\, present i futur de la historieta valenciana. \nComissariada per Álvaro Pons.\nDisseny de MacDiego. \n  \n \n—\nOrganitzat per Mostra Viva del Mediterrani amb la col·laboració de l’Octubre CCC.
URL:https://octubre.cat/activitat/mostra-viva-2022-exposicio-valencia-copyright/
LOCATION:Sala d’exposicions
CATEGORIES:Exposicions,Mostra Viva 2022
ATTACH;FMTTYPE=image/jpeg:https://octubre.cat/www/wp-content/uploads/2022/06/cartell-mostra-viva-2022-CAP.jpg
END:VEVENT
BEGIN:VEVENT
DTSTART;TZID=Europe/Andorra:20221001T190000
DTEND;TZID=Europe/Andorra:20221028T190000
DTSTAMP:20260420T175221
CREATED:20220916T102711Z
LAST-MODIFIED:20250624T093027Z
UID:18737-1664650800-1666983600@octubre.cat
SUMMARY:Mostra Viva 2022. Exposició «Entre llotges i galliners»\, d’Antonio Camaró
DESCRIPTION:Mostra Viva del Mediterrani 2022\nExposicions \nInauguració: dissabte 1 d’octubre a les 19.00h \nAntonio Camaró va ser nomenat per la UNESCO com el pintor de la Concòrdia i la Pau entre les diferents civilitzacions i cultures com a conseqüència de la seua compromesa trajectòria social i humana. Ha exposat a nombrosos museus i galeries de tot el món. La seua obra representa fidelment els valors de diversitat\, respecte mutu i mediterraneïtat.\nAntonio Camaró és l’autor del cartell de la X edició de Mostra Viva del Mediterrani. \n  \n \n  \n“Entre llotges i galliners” \nLes vivències són el que dona valor a la vida\, ja que el sentit de la vida és aquest: viure. Donar importància a gaudir del camí recorregut\, al dia a dia\, als petits detalls\, i a tot el procés d’aprenentatge\, més que a assolir la meta desitjada. “Entre llotges i galliners» és una obra que ens representa la necessitat de viure una vida plena\, donant-li importància i valor a tot allò que ens fa feliços. \n“Entre llotges i galliners” és una exposició conformada per dotze quadres que tenen en comú la importància de viure la vida somiada\, amb els nostres anhels personals\, que provinguen de l’amor i no de la por. Tots aquells desitjos idealitzats\, que d’acomplir-se omplen la nostra existència i\, de no aconseguir-se\, que puguem reconduir-los cap a altres horitzons. \nEl creador d’aquesta obra ens diu: “El tramoista crea amb la seua llanterna màgica mons de bambolines on apareixes tu\, el meu somni i el meu gran amor”\, fent-nos referència a aquest món que il·luminem amb la nostra llum pròpia\, i en aquesta claredat podem albirar els nostres somnis i amors\, podem somiar desperts i viure somiant. Els quadres d’aquesta exposició són moments de la vida diària\, tots aquells instants de la vida que mai no tornaran\, i per això s’han de viure en plenitud\, perquè en recordar-los tinga lloc la màgia de poder sentir-los novament\, de poder somiar amb el que hem viscut. \n“Entre llotges i galliners” ens representa la importància de la nostra vida\, els nostres somnis i els nostres amors… Viure amb les nostres passions\, amb els nostres dubtes\, amb la trobada entre amics\, amb persones d’altres cultures però amb les que compartim els mateixos sentiments\, amb persones amb qui puguem parlar i debatre els somnis per intentar tornar el món aun lloc millor\, aconseguint viure la vida somiada\, seguint la invitació que ens fa Antonio Camaró “fem d’aquest món un circ blau de rojos cadmi i negres mart ”. Viure la vida amb colors vius\, amb un cant alegre\, amb rima\, amb poesia. \n  \n \n  \nA la vida ens trobem de vegades entre llotges\, d’altres en galliners i d’altres sense saber on som\, però tots anhelant i esperant que els nostres somnis es convertesquen en realitat\, que ens porten a la vida que volem viure avui i demà\, que ens facen emocionar-nos\, i bategar més fort el cor. Somiem viure en un altre món\, un de diferent\, un de fictici\, un de somiat però real\, i millor que en el que ens trobem. \nAmb aquesta selecció de quadres es vol transmetre que viure intensament d’acord amb els nostres principis ètics és el somni de qualsevol ésser humà i que\, per això\, la vida ha de ser plena\, lliure i digna\, per a qualsevol persona. \nLa vida no és tenir\, és viure i agrair per tot allò que es té\, per sentir\, per gaudir de cada instant\, per viure allò real\, per recordar allò viscut\, i per somiar allò que vindrà. “Entre llotges i galliners” se centra en destacar la importància del valor de les persones\, dels moments\, del recorregut\, de l’aprenentatge del viatge\, de la trobada amb un mateix i amb l’altre\, de somiar amb una vida plena\, de saber viure\, perquè morir ja ho sap tothom\, fins i tot molts dels que diuen estar vius. \nComissari: Pedro Adalid \n—\nOrganitzat per Mostra Viva del Mediterrani amb la col·laboració de l’Octubre CCC.
URL:https://octubre.cat/activitat/mostra-viva-2022-exposicio-antonio-camaro/
LOCATION:Sala d’exposicions
CATEGORIES:Exposicions,Mostra Viva 2022
ATTACH;FMTTYPE=image/jpeg:https://octubre.cat/www/wp-content/uploads/2022/06/cartell-mostra-viva-2022-CAP.jpg
END:VEVENT
BEGIN:VEVENT
DTSTART;TZID=Europe/Andorra:20221017T173000
DTEND;TZID=Europe/Andorra:20221017T173000
DTSTAMP:20260420T175222
CREATED:20221007T080012Z
LAST-MODIFIED:20221015T173617Z
UID:18841-1666027800-1666027800@octubre.cat
SUMMARY:Presència cubana en la València republicana. Memòria i solidaritat internacional
DESCRIPTION:17.30h. Inauguració de la jornada amb Iñaki Pérez Rico\, director general de Qualitat Democràtica de la Generalitat Valenciana i Rocío Raya\, presidenta de l’Associació Valenciana d’Amistat amb Cuba “José Martí”. \n17.40h. «Brigadistes. L’experiència cubana en València (1936-1939)».\nPonents:\n—Nicolas Hernández Guillén (net del poeta i president de la Fundación Nicolás Guillén).\n—Noemí Rabaza\, vicepresidenta de l’ICAP\nPresenta i modera David Rodríguez\, de l’ Associació Valenciana d’Amistat amb Cuba “José Martí”. \n19.00h. Taula rodona «La recuperació de la memòria i la superació dels silencis. Els casos de la República de Cuba i el País Valencià»\nPonents:\n—Elier Ramírez\, historiador i diputat cubà\, subdirector del Centro Fidel Castro.\n—Juan Salazar\, historiador valencià autor de Guia de la València del primer franquisme (1939-1948) i de Guia Urbana. València 1931-1939.\n—Ángel González\, president de la  Coordinadora d’Associacions per la Memòria Democràtica del País Valencià.\nPresenta Emili Payà\, secretari de la Fundació Josep Renau. \n20.30h: Inici de la ruta guiada per la València Republicana i de la presència cubana. A càrrec de José María Azkárraga\, especialista en memòria democràtica valenciana i autor de Guia de la València del primer franquisme (1939-1948) i de Guia Urbana. València 1931-1939. \n—\nOrganitza: Asociación Valenciana de Amistad con Cuba «José Martí»\nCol·laboren: Fundación Nicolás Guillen (Cuba)\, Fundació Josep Renau\, Coordinadora d’Associacions per la Memòria Democràtica del País Valencià.\nImatge: “Brigada Internacional”\, per Maria Ferrés.
URL:https://octubre.cat/activitat/presencia-cubana-en-la-valencia-republicana-memoria-i-solidaritat-internacional/
LOCATION:Aula 1
CATEGORIES:Conferències i congressos
ATTACH;FMTTYPE=image/jpeg:https://octubre.cat/www/wp-content/uploads/2022/10/maria-ferres-brigada-internacional.jpeg
END:VEVENT
BEGIN:VEVENT
DTSTART;TZID=Europe/Andorra:20221017T180000
DTEND;TZID=Europe/Andorra:20221017T180000
DTSTAMP:20260420T175222
CREATED:20221006T090837Z
LAST-MODIFIED:20250629T101321Z
UID:18818-1666029600-1666029600@octubre.cat
SUMMARY:Cinema: Operació Elefteria\, de Gabi Ochoa
DESCRIPTION:El convuls desmuntatge el 9 de setembre de 1983 de l’escultura eqüestre de Franco en la plaça de l’Ajuntament de València\, llavors plaça del País Valencià\, va culminar l’inici de la Transició a València. Aquesta és la tesi de partida del documental ‘Operació Elefteria’\, dirigit per Gabi Ochoa\, que La República del Lápiz ha produït per a À Punt.\nLa producció reuneix a alguns dels principals protagonistes de la Transició en la tercera ciutat d’Espanya. Militars destinats a València durant el 23-F com l’ex JEMAD José Julio Rodríguez\, que prestava servei en la base aèria de Manises; polítics com l’ex president de la Generalitat i ara senador Joan Lerma\, que es trobava entre els diputats segrestats per Tejero; el que fora alcalde de València Ricard Pérez Casado\, protagonista d’aquells convulsos anys; periodistes com Ferran Belda; artistes com Carmen Calvo; tots ells donen testimoniatge del succeït en el trànsit entre 1979 i 1983\, quatre anys en què la ciutat va viure episodis com els tancs de Milans del Bosch pels seus carrers durant el 23-F. \n  \n \nDirecció: Gabriel Ochoa\nGuió: Carlos Aimeur i Gabriel Ochoa\nSo Directe: Kike Navarro\nDisseny de so: Ivan Martínez-Rufat (GODFADER)\nColor: Carlos Corresa\nGrafisme: Albert Val\nMuntatge: Iñaki Antuñano\nRealització: Pau Martínez\nDirecció de fotografia: Hernán Pérez\nContinguts À Punt Mèdia: Mónica Giner\nProducció Executiva: À Punt Mèdia\, Miriam Civera\nProducció Executiva: la república del lápiz\, Ferran Benavent\nProduït per À Punt Mèdia amb producció delegada de la república del lápiz\nIdioma: valencià\nDurada: 48’
URL:https://octubre.cat/activitat/cinema-operacio-elefteria-de-gabi-ochoa/
LOCATION:Sala d’actes
CATEGORIES:Cinema
ATTACH;FMTTYPE=image/jpeg:https://octubre.cat/www/wp-content/uploads/2022/10/franco.jpg
END:VEVENT
END:VCALENDAR