BEGIN:VCALENDAR
VERSION:2.0
PRODID:-//Octubre Centre de Cultura Contemporània - ECPv5.1.6//NONSGML v1.0//EN
CALSCALE:GREGORIAN
METHOD:PUBLISH
X-WR-CALNAME:Octubre Centre de Cultura Contemporània
X-ORIGINAL-URL:https://octubre.cat
X-WR-CALDESC:Events for Octubre Centre de Cultura Contemporània
BEGIN:VTIMEZONE
TZID:Europe/Andorra
BEGIN:DAYLIGHT
TZOFFSETFROM:+0100
TZOFFSETTO:+0200
TZNAME:CEST
DTSTART:20220327T010000
END:DAYLIGHT
BEGIN:STANDARD
TZOFFSETFROM:+0200
TZOFFSETTO:+0100
TZNAME:CET
DTSTART:20221030T010000
END:STANDARD
END:VTIMEZONE
BEGIN:VEVENT
DTSTART;TZID=Europe/Andorra:20220621T190000
DTEND;TZID=Europe/Andorra:20220722T000000
DTSTAMP:20260420T202047
CREATED:20220607T160741Z
LAST-MODIFIED:20250624T092830Z
UID:18457-1655838000-1658448000@octubre.cat
SUMMARY:Versos com aigua en cistella\, de Francesc López i Gracia Gil
DESCRIPTION:Textos de Francesc J. López\nIl·lustracions de Gracia Gil \nEls dibuixos que s’exposen són el fruit del treball conjunt entre Francesc J. López i Gracia Gil. Francesc ha posat la lletra i Gràcia ha afegit les imatges. \nDavant la gran quantitat de recursos suggeridors que el treball poètic desprén\, la il·lustració va recreant algunes imatges que reforcen la paraula; o bé juga amb el paral·lelisme entre els recursos visuals i els literaris. \nLa interpretació visual i significativa està oberta i busca la multiplicitat de significats que pot aportar la imatge\, sense restar riquesa als aspectes més particulars de cada text. \n  \n \n \n \nAbordar la lectura des del vessant de la plàstica i el treball en equip és com fer confluir una trobada d’idees on el centre és l’ésser humà\, un lloc per a la diversitat d’interpretacions i un horitzó per al coneixement. I encara és més gratificant quan es tracta de sensibilitats semblants on hi ha confluència de criteris i treballs complementaris que s’hi alimenten i s’enriqueixen perquè el resultat cresca. \nEn aquest sentit\, la lectura dels versos de Francesc J. López\, remet a la serenitat que s’expressa a través d’una línia d’horitzó permanent que esdevé el fil connector de l’aigua en la seua vessant més amable\, un horitzó al voltant del qual s’estructuraren les diverses imatges que il·lustren l’obra. \nAquesta línia\, de vegades\, es transforma en una taca més o menys irregular i concreta una forma; altres vegades\, se sotmet al dibuix i torna a fer-se línia recurrent de l’estructura vinculada al pas d’uns poemes a d’altres. \nLa tècnica\, en aquest sentit\, també ha estat triada pel seu caràcter implícit: l’aigua\, com a mitjà necessari per a fixar el color i pels seus diversos matisos\, permet soltar les taques\, deixar un lloc a l’accident i\, a la vegada\, no perdre la forma del traç sempre que calga. L’aigua ha esdevingut desig\, vida i transformació; ens envolta i forma part de nosaltres al temps que se’ns pot escapar de les mans. Per això\, en la primera part\, l’aigua és joc\, un esguit; en la segona\, mostra la força d’una natura amable a través dels seus elements i colors; i\, en la tercera\, aflora la consciència mediambiental dels joves i\, per tant\, la reflexió. \n—\nAmb la col·laboració del Voluntariat Lingüístic d’ACPV
URL:https://octubre.cat/activitat/versos-com-aigua-en-cistella-de-francesc-lopez-i-gracia-gil/
LOCATION:Sala d’exposicions
CATEGORIES:Exposicions
ATTACH;FMTTYPE=image/jpeg:https://octubre.cat/www/wp-content/uploads/2022/06/CAP-El-far-i-la-onada-1.jpg
END:VEVENT
END:VCALENDAR