BEGIN:VCALENDAR
VERSION:2.0
PRODID:-//Octubre Centre de Cultura Contemporània - ECPv5.1.6//NONSGML v1.0//EN
CALSCALE:GREGORIAN
METHOD:PUBLISH
X-WR-CALNAME:Octubre Centre de Cultura Contemporània
X-ORIGINAL-URL:https://octubre.cat
X-WR-CALDESC:Events for Octubre Centre de Cultura Contemporània
BEGIN:VTIMEZONE
TZID:Europe/Andorra
BEGIN:DAYLIGHT
TZOFFSETFROM:+0100
TZOFFSETTO:+0200
TZNAME:CEST
DTSTART:20220327T010000
END:DAYLIGHT
BEGIN:STANDARD
TZOFFSETFROM:+0200
TZOFFSETTO:+0100
TZNAME:CET
DTSTART:20221030T010000
END:STANDARD
END:VTIMEZONE
BEGIN:VEVENT
DTSTART;TZID=Europe/Andorra:20220616T190000
DTEND;TZID=Europe/Andorra:20220616T190000
DTSTAMP:20260420T190058
CREATED:20220422T103811Z
LAST-MODIFIED:20250625T093134Z
UID:18116-1655406000-1655406000@octubre.cat
SUMMARY:Presentació sobre Josep M. Sala-Valldaura
DESCRIPTION:Es presentaran dos llibres: \n—Cartes d’un poeta gran. Llibre (de) bord\, de Josep M. Sala-Valldaura (Editorial Ensiola). \n—Amb tinta blanca. La poesia de Josep M. Sala-Valldaura\, de Marie-Claire Zimmermann i Jad Hatem (Pagès Editors). \nPresenten la poeta Imma López Pavia i Nathalie Bittoun-Debruyne
URL:https://octubre.cat/activitat/presentacio-sobre-josep-m-sala-valldaura/
LOCATION:Llibreria Fan Set
CATEGORIES:Literatura
ATTACH;FMTTYPE=image/jpeg:https://octubre.cat/www/wp-content/uploads/2022/04/JosepMSalaValldaurajpg.jpg
END:VEVENT
END:VCALENDAR