BEGIN:VCALENDAR
VERSION:2.0
PRODID:-//Octubre Centre de Cultura Contemporània - ECPv5.1.6//NONSGML v1.0//EN
CALSCALE:GREGORIAN
METHOD:PUBLISH
X-WR-CALNAME:Octubre Centre de Cultura Contemporània
X-ORIGINAL-URL:https://octubre.cat
X-WR-CALDESC:Events for Octubre Centre de Cultura Contemporània
BEGIN:VTIMEZONE
TZID:Europe/Andorra
BEGIN:DAYLIGHT
TZOFFSETFROM:+0100
TZOFFSETTO:+0200
TZNAME:CEST
DTSTART:20220327T010000
END:DAYLIGHT
BEGIN:STANDARD
TZOFFSETFROM:+0200
TZOFFSETTO:+0100
TZNAME:CET
DTSTART:20221030T010000
END:STANDARD
END:VTIMEZONE
BEGIN:VEVENT
DTSTART;TZID=Europe/Andorra:20220615T180000
DTEND;TZID=Europe/Andorra:20220615T180000
DTSTAMP:20260420T190139
CREATED:20220407T112044Z
LAST-MODIFIED:20250629T100103Z
UID:18094-1655316000-1655316000@octubre.cat
SUMMARY:Cinema: Mil incendis\, de Saeed Taji Farouky
DESCRIPTION:Després de la projecció\, col·loqui amb Pepa Úbeda i José Ramón Bertomeu. \n— \nUn emotiu retrat d’una família de Myanmar (Birmània) que extreu petroli manualment per sobreviure. En un entorn rural marcat pel foc\, els forats al subsol i el ritme mecànic d’una indústria petroliera artesanal\, Thein Shwe i Htwe Tin es deixen el cos i l’ànima per obtenir un barril de petroli al dia. El fill gran\, Zin Ko Aung\, vol trencar amb un sistema violent que explota la integritat dels seus pares. \nEl cineasta Saeed Taji Farouky es va inspirar en There Will Be Blood de Paul Thomas Anderson per capturar un món marcat pels pous de petroli en ple segle XXI. La força de les imatges i un treball sonor immersiu aconsegueixen capturar l’atmosfera mitològica de la cultura popular de Myanmar. El xoc generacional i l’explotació dels recursos naturals es barreja amb l’astrologia\, les vides passades i els cicles de mort i renaixement. \nGuardonada a la Semaine de la critique de Locarno 2021. \n  \n \n  \nTítol original: A Thousand Fires\nDirecció: Saeed Taji Farouky\nProducció: Estelle Robin You\, Palmyre Badinier\, Joram Willink\nAjudants de direcció: Than Win Han\, Joshua Mit Htut\nEdició: Catherine Rascon\nEtalonatge: Erik Demeris\nMúsica: Fatima Dunn\nDisseny de So: Maxence Ciekawy\, James Bulley\nProductora associada: May Odeh\nFrança\, Suïssa\, Països Baixos i Palestina\, Estat deBirmània (2021)\nV.O. subtitulada en català\nDurada: 90’ \n  \n \nCicle “Acció Documental +” organitzat per ACICOM i ACPV. DocsBarcelona / El documental del mes.
URL:https://octubre.cat/activitat/cinema-mil-incendis-de-saeed-taji-farouky/
LOCATION:Sala d’actes
CATEGORIES:Acció Documental +
ATTACH;FMTTYPE=image/jpeg:https://octubre.cat/www/wp-content/uploads/2022/04/A-Thousand-Fires-still-3.jpeg
END:VEVENT
BEGIN:VEVENT
DTSTART;TZID=Europe/Andorra:20220615T190000
DTEND;TZID=Europe/Andorra:20220615T190000
DTSTAMP:20260420T190140
CREATED:20220608T091744Z
LAST-MODIFIED:20250625T093104Z
UID:18468-1655319600-1655319600@octubre.cat
SUMMARY:Presentació del Teatre Complet de Manuel Molins
DESCRIPTION:Amb l’autor acompanyat per Maria Josep Amigó (vicepresidenta de la Diputació de València) i Joan Carles Martí (periodista). \nManuel Molins és un autor prolífic amb obres d’una gran diversitat formal i de temàtica i intencionalitat molt variades. Com a dramaturg no sols és autor de textos teatrals sinó que també s’ha interessat per la direcció escènica i el muntatge d’espectacles partint de textos o poemes d’autors com Joan Fuster\, Vicent Andrés Estellés\, Mercè Rodoreda o Arthur Rimbaud. Ha col·laborat en nombrosos espectacles\, des del suport textual a la direcció\, passant per l’escenificació i el muntatge amb grups com Horta Teatre\, La Tarumba d’Alzira o Bòbila Teatre\, entre d’altres\, així com amb la productora d’espectacles privada Focus.\nEnguany\, la Institució Alfons el Magnànim ha conclòs l’edició del seu Teatre complet en tres volums. \n \n(Alfons el Magnànim)
URL:https://octubre.cat/activitat/presentacio-del-teatre-complet-de-manuel-molins/
LOCATION:Llibreria Fan Set
CATEGORIES:Literatura
ATTACH;FMTTYPE=image/jpeg:https://octubre.cat/www/wp-content/uploads/2021/07/manuel-molins-scaled.jpg
END:VEVENT
END:VCALENDAR