BEGIN:VCALENDAR
VERSION:2.0
PRODID:-//Octubre Centre de Cultura Contemporània - ECPv5.1.6//NONSGML v1.0//EN
CALSCALE:GREGORIAN
METHOD:PUBLISH
X-WR-CALNAME:Octubre Centre de Cultura Contemporània
X-ORIGINAL-URL:https://octubre.cat
X-WR-CALDESC:Events for Octubre Centre de Cultura Contemporània
BEGIN:VTIMEZONE
TZID:Europe/Andorra
BEGIN:DAYLIGHT
TZOFFSETFROM:+0100
TZOFFSETTO:+0200
TZNAME:CEST
DTSTART:20220327T010000
END:DAYLIGHT
BEGIN:STANDARD
TZOFFSETFROM:+0200
TZOFFSETTO:+0100
TZNAME:CET
DTSTART:20221030T010000
END:STANDARD
END:VTIMEZONE
BEGIN:VEVENT
DTSTART;TZID=Europe/Andorra:20220614T190000
DTEND;TZID=Europe/Andorra:20220614T190000
DTSTAMP:20260420T190129
CREATED:20220517T152320Z
LAST-MODIFIED:20250625T093032Z
UID:18300-1655233200-1655233200@octubre.cat
SUMMARY:Presentació del llibre Ser persona. Diari de l’escriptor als 50 anys\, de Joan Garí
DESCRIPTION:Amb l’autor acompanyat per Vicent Marzà i Vicent Olmos. \nL’any 2015 Joan Garí feia cinquanta anys. Les xifres rodones\, com els paisatges o els llibres o els fets més curiosos de la vida\, són provocacions literàries per a un bon escriptor. I si aquest escriptor és un hereu clar de les llums de Montaigne —Garí és un dels assagistes més radiants de la literatura catalana— un tombant clau com ara el mig segle d’existència es pot convertir en una festa literària. Això és el que fonamenta\, d’alguna manera\, aquest dietari d’un any: la mirada enèrgica cap al món d’un escriptor que s’hi autocelebra amb l’escriptura. \n  \n \n(Afers)
URL:https://octubre.cat/activitat/presentacio-del-llibre-ser-persona-diari-de-lescriptor-als-50-anys-de-joan-gari/
LOCATION:Llibreria Fan Set
CATEGORIES:Literatura
ATTACH;FMTTYPE=image/jpeg:https://octubre.cat/www/wp-content/uploads/2022/05/Joan_Gari._Borriana_2016.jpg
END:VEVENT
END:VCALENDAR