BEGIN:VCALENDAR
VERSION:2.0
PRODID:-//Octubre Centre de Cultura Contemporània - ECPv5.1.6//NONSGML v1.0//EN
CALSCALE:GREGORIAN
METHOD:PUBLISH
X-WR-CALNAME:Octubre Centre de Cultura Contemporània
X-ORIGINAL-URL:https://octubre.cat
X-WR-CALDESC:Events for Octubre Centre de Cultura Contemporània
BEGIN:VTIMEZONE
TZID:Europe/Andorra
BEGIN:DAYLIGHT
TZOFFSETFROM:+0100
TZOFFSETTO:+0200
TZNAME:CEST
DTSTART:20220327T010000
END:DAYLIGHT
BEGIN:STANDARD
TZOFFSETFROM:+0200
TZOFFSETTO:+0100
TZNAME:CET
DTSTART:20221030T010000
END:STANDARD
END:VTIMEZONE
BEGIN:VEVENT
DTSTART;TZID=Europe/Andorra:20220506T190000
DTEND;TZID=Europe/Andorra:20220604T140000
DTSTAMP:20260420T175305
CREATED:20220422T150559Z
LAST-MODIFIED:20250624T092751Z
UID:18119-1651863600-1654351200@octubre.cat
SUMMARY:Poemari de natura\, de Paco Munyoç
DESCRIPTION:Paco Munyoç\, artista de llarg recorregut\, va néixer a Xàtiva (la Costera) el 1950\, es va formar a l’Escola Superior de Belles Arts de Sant Carles (València) i va obtenir la beca del Ministeri d’Educació i Ciència a El Paular (Segòvia) i la del Ministeri d’Afers Estrangers per a estudis artístics a Egipte. Membre en el seu moment del grup “Bulto”\, té una llarguíssima trajectòria d’exposicions no només al País Valencià\, sinó també a ciutats com Madrid\, Barcelona\, Santiago de Xile\, Nova York\, Dublín\, El Caire\, Cascais\, Toronto\, Roma\, etc. \n  \n \n 
URL:https://octubre.cat/activitat/poemari-de-natura-de-paco-munyoc/
LOCATION:Sala d’exposicions
CATEGORIES:Exposicions
ATTACH;FMTTYPE=image/jpeg:https://octubre.cat/www/wp-content/uploads/2022/04/paco_munyoc_cap.jpeg
END:VEVENT
BEGIN:VEVENT
DTSTART;TZID=Europe/Andorra:20220516T190000
DTEND;TZID=Europe/Andorra:20220516T190000
DTSTAMP:20260420T175306
CREATED:20220513T095059Z
LAST-MODIFIED:20220513T165303Z
UID:18257-1652727600-1652727600@octubre.cat
SUMMARY:Festival Socialmed 2022: secció MED VLC 1
DESCRIPTION:Socialmed és el festival cinematogràfic dedicat als Drets Humans de la Mediterrània. L’edició d’enguany està dedicada a l’aigua com a exemple més dramàtic del canvi climàtic. \nSe celebra a diverses seus de la ciutat de València del 14 al 27 de maig de 2022. A l’Octubre CCC acollim la secció MED VLC (dedicada a les produccions valencianes més recents)\, que es projectaran en dues sessions els dies 16 i 17 de maig. \nProjeccions MED VLC del dilluns 16 de maig: \n—Renaixem\, de David Segarra (2020\, 12’)\n—Vidas invisibles. Mujeres migrantes bajo el plástico\, d’Alba Pascual (2020\, 25’)\n—Simples papeles\, de Lorenzo Carbonell (2022\, 8’)\n—El temps suspés\, de Germán Caballero (2021\, 6’)\n—Los ojos de la tierra\, de Marcos Altuve (2020\, 15’)\n—Made in\, d’Eva Marin (2021\, 10’)\n—El porvenir\, de Guillermo Alcalá-Santaella (2021\, 13’) \n—\nOrganitzat per Socialmed 22 – Festival dels Drets Humans de la Mediterrània amb la col·laboració de l’Octubre CCC
URL:https://octubre.cat/activitat/festival-socialmed-2022-seccio-med-vlc-1/
LOCATION:Sala d’actes
CATEGORIES:Cinema
ATTACH;FMTTYPE=image/jpeg:https://octubre.cat/www/wp-content/uploads/2022/05/festivalsocialmed_bo.jpg
END:VEVENT
END:VCALENDAR