BEGIN:VCALENDAR
VERSION:2.0
PRODID:-//Octubre Centre de Cultura Contemporània - ECPv5.1.6//NONSGML v1.0//EN
CALSCALE:GREGORIAN
METHOD:PUBLISH
X-WR-CALNAME:Octubre Centre de Cultura Contemporània
X-ORIGINAL-URL:https://octubre.cat
X-WR-CALDESC:Events for Octubre Centre de Cultura Contemporània
BEGIN:VTIMEZONE
TZID:Europe/Andorra
BEGIN:DAYLIGHT
TZOFFSETFROM:+0100
TZOFFSETTO:+0200
TZNAME:CEST
DTSTART:20220327T010000
END:DAYLIGHT
BEGIN:STANDARD
TZOFFSETFROM:+0200
TZOFFSETTO:+0100
TZNAME:CET
DTSTART:20221030T010000
END:STANDARD
END:VTIMEZONE
BEGIN:VEVENT
DTSTART;TZID=Europe/Andorra:20220506T190000
DTEND;TZID=Europe/Andorra:20220604T140000
DTSTAMP:20260420T175333
CREATED:20220422T150559Z
LAST-MODIFIED:20250624T092751Z
UID:18119-1651863600-1654351200@octubre.cat
SUMMARY:Poemari de natura\, de Paco Munyoç
DESCRIPTION:Paco Munyoç\, artista de llarg recorregut\, va néixer a Xàtiva (la Costera) el 1950\, es va formar a l’Escola Superior de Belles Arts de Sant Carles (València) i va obtenir la beca del Ministeri d’Educació i Ciència a El Paular (Segòvia) i la del Ministeri d’Afers Estrangers per a estudis artístics a Egipte. Membre en el seu moment del grup “Bulto”\, té una llarguíssima trajectòria d’exposicions no només al País Valencià\, sinó també a ciutats com Madrid\, Barcelona\, Santiago de Xile\, Nova York\, Dublín\, El Caire\, Cascais\, Toronto\, Roma\, etc. \n  \n \n 
URL:https://octubre.cat/activitat/poemari-de-natura-de-paco-munyoc/
LOCATION:Sala d’exposicions
CATEGORIES:Exposicions
ATTACH;FMTTYPE=image/jpeg:https://octubre.cat/www/wp-content/uploads/2022/04/paco_munyoc_cap.jpeg
END:VEVENT
BEGIN:VEVENT
DTSTART;TZID=Europe/Andorra:20220511T170000
DTEND;TZID=Europe/Andorra:20220511T170000
DTSTAMP:20260420T175333
CREATED:20220423T143911Z
LAST-MODIFIED:20220423T143911Z
UID:18170-1652288400-1652288400@octubre.cat
SUMMARY:DocsValència 2022: Not Going Quietly\, de Nicholas Bruckman
DESCRIPTION:Només quatre mesos després del naixement del seu fill\, a Ady Barkan se li diagnostica esclerosi lateral amiotròfica\, una malaltia mortal. Després de tindre l’oportunitat de conèixer un poderós senador en un avió\, el vídeo que fa es torna viral. Aprofitant el poder de la seua nova plataforma\, Ady llança la campanya «Be a Hero» per a lluitar per la justícia sanitària. \nDirecció: Nicholas Bruckman\nProducció: Amanda Roddy\nFotografia: Ryder Haske\, Alex Pollini\, Erin Collett\, Nicholas Bruckman\, Amanda Roddy\nPaís: Estats Units\nAny: 2021\nDuració: 74 min \n  \n \n—\nLa sisena edició del Festival DocsValència / Espai de No Ficció se celebra a València del 6 al 14 de maig de 2022. Les sessions tenen lloc als Cines Lys\, el Col·legi Major Rector Peset\, La Filmoteca\, Sant Miquel dels Reis i l’Octubre CCC.
URL:https://octubre.cat/activitat/docsvalencia-2022-not-going-quietly-de-nicholas-bruckman/
LOCATION:Sala d’actes
CATEGORIES:DocsValència 2022
ATTACH;FMTTYPE=image/jpeg:https://octubre.cat/www/wp-content/uploads/2022/04/Not-Going-Quietly.jpg
END:VEVENT
BEGIN:VEVENT
DTSTART;TZID=Europe/Andorra:20220511T190000
DTEND;TZID=Europe/Andorra:20220511T190000
DTSTAMP:20260420T175333
CREATED:20220422T170628Z
LAST-MODIFIED:20220422T180423Z
UID:18133-1652295600-1652295600@octubre.cat
SUMMARY:DocsValència 2022: El Káiser de la Atlántida\, de Sebastián Alfie
DESCRIPTION:El 1943\, en un camp de concentració nazi\, un grup de músics va escriure una òpera advertint-nos sobre els tirans que ens arrosseguen a la guerra. 80 anys després\, sobre l’escenari d’un gran coliseu europeu\, el seu missatge sona més fort que mai. \nDirecció: Sebastián Alfie\nProducció: Ángela Álvarez Rilla\, Sebastián Alfie\, Daniel Rosenfeld\, Mariano Nante\, Annemiek van Gorp\, René Goossens\nFotografia: Pablo Hernández\, Ángel Amorós\, Braňo Pažitka\, Benito Strangio\nEdició: Alejo Santos\, Javier Laffaille\, Ana Bustamante\nDisseny sonor: Gustavo González Crespo\, David Mantecón\, Ismael Calvo Delgado\, Kees de Groot\, Zdeněk Šimek\nPaís: Argentina\, Espanya\nAny: 2022\nDuració: 77 min\nIdioma: Castellà\, txec\, anglès \n \n \n—\nLa sisena edició del Festival DocsValència / Espai de No Ficció se celebra a València del 6 al 14 de maig de 2022. Les sessions tenen lloc als Cines Lys\, el Col·legi Major Rector Peset\, La Filmoteca\, Sant Miquel dels Reis i l’Octubre CCC.
URL:https://octubre.cat/activitat/docsvalencia-2022-el-kaiser-de-la-atlantida-de-sebastian-alfie/
LOCATION:Sala d’actes
CATEGORIES:DocsValència 2022
ATTACH;FMTTYPE=image/jpeg:https://octubre.cat/www/wp-content/uploads/2022/04/kaiser.jpg
END:VEVENT
BEGIN:VEVENT
DTSTART;TZID=Europe/Andorra:20220511T210000
DTEND;TZID=Europe/Andorra:20220511T210000
DTSTAMP:20260420T175333
CREATED:20220422T181932Z
LAST-MODIFIED:20220422T182803Z
UID:18146-1652302800-1652302800@octubre.cat
SUMMARY:DocsValència 2022: Fusilados\, de Manuel Rossell i Lucas Moro
DESCRIPTION:Vuitanta anys és el temps que porten allà. Assassinats a sang freda darrere d’un cementiri i llançats a un forat per a ser oblidats. 2.237 persones que van tindre el mateix destí. Sense possibilitat de defensar-se\, se’ls va prendre la vida i van silenciar la de les seues famílies. Hi haurà cap dia justícia per a aquestes persones? \nEstrena mundial \nTítol original: Fusilados\nDirecció: Manuel Rossell\, Lucas Moro\nProducció: Vídeo Al Cuadrado\nFotografia: Lucas Moro\, Fede Taus\nEdició: Manuel Rossell\nDisseny sonor: José Serrador\nPaís: Espanya\nAny: 2021\nDuració: 113 min\nIdioma: Valencià\, castellà \n  \n \n—\nLa sisena edició del Festival DocsValència / Espai de No Ficció se celebra a València del 6 al 14 de maig de 2022. Les sessions tenen lloc als Cines Lys\, el Col·legi Major Rector Peset\, La Filmoteca\, Sant Miquel dels Reis i l’Octubre CCC.
URL:https://octubre.cat/activitat/docsvalencia-2022-fusilados-de-manuel-rossell-i-lucas-moro/
LOCATION:Sala d’actes
CATEGORIES:DocsValència 2022
ATTACH;FMTTYPE=image/jpeg:https://octubre.cat/www/wp-content/uploads/2022/04/fusilados.jpg
END:VEVENT
END:VCALENDAR