BEGIN:VCALENDAR
VERSION:2.0
PRODID:-//Octubre Centre de Cultura Contemporània - ECPv5.1.6//NONSGML v1.0//EN
CALSCALE:GREGORIAN
METHOD:PUBLISH
X-WR-CALNAME:Octubre Centre de Cultura Contemporània
X-ORIGINAL-URL:https://octubre.cat
X-WR-CALDESC:Events for Octubre Centre de Cultura Contemporània
BEGIN:VTIMEZONE
TZID:Europe/Andorra
BEGIN:DAYLIGHT
TZOFFSETFROM:+0100
TZOFFSETTO:+0200
TZNAME:CEST
DTSTART:20220327T010000
END:DAYLIGHT
BEGIN:STANDARD
TZOFFSETFROM:+0200
TZOFFSETTO:+0100
TZNAME:CET
DTSTART:20221030T010000
END:STANDARD
END:VTIMEZONE
BEGIN:VEVENT
DTSTART;TZID=Europe/Andorra:20220326T000000
DTEND;TZID=Europe/Andorra:20220423T000000
DTSTAMP:20260420T164249
CREATED:20220328T075839Z
LAST-MODIFIED:20250624T093718Z
UID:18037-1648252800-1650672000@octubre.cat
SUMMARY:L’Espiral del Sud 2022. Instal·lacions
DESCRIPTION:Obres de: \n–Najib Cherradi\n–Emilio Gallego\n–Bibiana Martínez\n–Enfero Carulo\n–Empar Boix\n–Fanny Galera \n  \n \n  \nAquestes instal·lacions formen part de les II Trobades Transculturals d’Artistes organitzades pel col·lectiu La Espiral ACC amb la col·laboració de l’Octubre CCC.
URL:https://octubre.cat/activitat/lespiral-del-sud-2022-installacions/
LOCATION:Hall
CATEGORIES:Instal·lacions
ATTACH;FMTTYPE=image/jpeg:https://octubre.cat/www/wp-content/uploads/2022/03/Espiral_Sud_2022_aaa.jpg
END:VEVENT
BEGIN:VEVENT
DTSTART;TZID=Europe/Andorra:20220421T190000
DTEND;TZID=Europe/Andorra:20220421T190000
DTSTAMP:20260420T164250
CREATED:20220224T102800Z
LAST-MODIFIED:20220224T102800Z
UID:17934-1650567600-1650567600@octubre.cat
SUMMARY:Presentació del llibre La Santísima Trinidad\, de Pablo Ferrer Torres
DESCRIPTION:El sonido del pop electrónico de masas. 4 décadas de Depeche Mode\, New Order y Pet Shop Boys \nPresentació a càrrec de l’autor acompanyat per Joan M. Oleaque (escriptor i periodista)\, Antonio José Albertos ‘Hal 9000’ (director del festival Volumens) i Alberto Sola (ex dj de Barraca i selector musical). \nUna història organitzada cronològicament en la qual es van entrellaçant les trajectòries individuals de tres de les bandes electròniques més importants que han existit i que han marcat l’esdevenir del pop electrònic de les últimes quatre dècades: Depeche Mode\, New Order i Pet Shop Boys. Des del 1977 fins a l’actualitat. \n  \n \n  \n“Depeche Mode i New Order procedien del corrent post-punk. Mentre que els de Basildon eren purament electrònics\, New Order transmuten després del canvi de nom. Pet Shop Boys sorgeixen més tard\, passada la primera onada del synthpop\, quan els duos electrònics ja havien entrat en declivi. Tots tres\, a la seua manera\, creixen i evolucionen fins a convertir-se en grans grups de masses. Els pesos pesants del pop electrònic dels darrers quaranta anys.” \n(Amazon)
URL:https://octubre.cat/activitat/presentacio-del-llibre-la-santisima-trinidad-de-pablo-ferrer-torres/
LOCATION:Sala d’actes
CATEGORIES:Literatura,Música
ATTACH;FMTTYPE=image/jpeg:https://octubre.cat/www/wp-content/uploads/2022/02/Pablo-Ferrer-Santisima-Trinidad-Shangay-940x940-1.jpg
END:VEVENT
END:VCALENDAR